{"text_format":"1","workbook":"xlsx","n_sheets":1,"sheets":["Calendario Alemania-2018"],"not_rendered":{"charts":0,"images":6,"macros":1,"external_links":1,"defined_names":14,"comments":0,"pivot_tables":0},"unopened":[],"bounds":{"document_bytes":16777216,"sheet_cells":100000,"rows_first":2000,"rows_last":500,"rows_between":2000,"halvings":0,"cell_chars":16384,"cell_head_chars":4096},"cells_cut":0,"cells_raw":0,"read":"whole","date_system":"1900"}

{"sheet":"Calendario Alemania-2018","index":0,"n_rows":39,"n_cols":28,"rows_kept":39,"cut":false,"hidden":false,"merged":[[2,25,2,27],[22,1,22,7],[22,9,22,15],[22,17,22,23],[31,1,31,7],[31,9,31,15],[31,17,31,23],[4,1,4,7],[4,9,4,15],[4,17,4,23],[13,1,13,7],[13,9,13,15],[13,17,13,23],[0,1,2,23]]}
[null,2018]
[]
[null,null,null,null,null,null,null,null,null,null,null,null,null,null,null,null,null,null,null,null,null,null,null,null,null,"Días Festivos Alemania 2018"]
[null,null,null,null,null,null,null,null,null,null,null,null,null,null,null,null,null,null,null,null,null,null,null,null,null,"Lunes","2018-01-01","Año Nuevo"]
[null,{"$f":"[1]Mini!B6","v":"2018-01-01"},null,null,null,null,null,null,null,{"$f":"[1]Mini!B7","v":"2018-02-01"},null,null,null,null,null,null,null,{"$f":"[1]Mini!B8","v":"2018-03-01"},null,null,null,null,null,null,null,"Sábado","2018-01-06","Epifanía"]
[null,"Do","Lu","Ma","Mi","Ju","Vi","Sa",null,"Do","Lu","Ma","Mi","Ju","Vi","Sa",null,"Do","Lu","Ma","Mi","Ju","Vi","Sa",null,"Jueves","2018-04-19","Viernes Santo"]
[null,{"$f":"INDEX(m1_,1,(ROWS($B$7:B7)-1)*7+COLUMNS($B$7:B7))","v":"2017-12-31"},{"$f":"INDEX(m1_,1,(ROWS($B$7:C7)-1)*7+COLUMNS($B$7:C7))","v":"2018-01-01"},{"$f":"INDEX(m1_,1,(ROWS($B$7:D7)-1)*7+COLUMNS($B$7:D7))","v":"2018-01-02"},{"$f":"INDEX(m1_,1,(ROWS($B$7:E7)-1)*7+COLUMNS($B$7:E7))","v":"2018-01-03"},{"$f":"INDEX(m1_,1,(ROWS($B$7:F7)-1)*7+COLUMNS($B$7:F7))","v":"2018-01-04"},{"$f":"INDEX(m1_,1,(ROWS($B$7:G7)-1)*7+COLUMNS($B$7:G7))","v":"2018-01-05"},{"$f":"INDEX(m1_,1,(ROWS($B$7:H7)-1)*7+COLUMNS($B$7:H7))","v":"2018-01-06"},null,{"$f":"INDEX(m2_,1,(ROWS($J$7:J7)-1)*7+COLUMNS($J$7:J7))","v":"2018-01-28"},{"$f":"INDEX(m2_,1,(ROWS($J$7:K7)-1)*7+COLUMNS($J$7:K7))","v":"2018-01-29"},{"$f":"INDEX(m2_,1,(ROWS($J$7:L7)-1)*7+COLUMNS($J$7:L7))","v":"2018-01-30"},{"$f":"INDEX(m2_,1,(ROWS($J$7:M7)-1)*7+COLUMNS($J$7:M7))","v":"2018-01-31"},{"$f":"INDEX(m2_,1,(ROWS($J$7:N7)-1)*7+COLUMNS($J$7:N7))","v":"2018-02-01"},{"$f":"INDEX(m2_,1,(ROWS($J$7:O7)-1)*7+COLUMNS($J$7:O7))","v":"2018-02-02"},{"$f":"INDEX(m2_,1,(ROWS($J$7:P7)-1)*7+COLUMNS($J$7:P7))","v":"2018-02-03"},null,{"$f":"INDEX(m3_,1,(ROWS($R$7:R7)-1)*7+COLUMNS($R$7:R7))","v":"2018-02-25"},{"$f":"INDEX(m3_,1,(ROWS($R$7:S7)-1)*7+COLUMNS($R$7:S7))","v":"2018-02-26"},{"$f":"INDEX(m3_,1,(ROWS($R$7:T7)-1)*7+COLUMNS($R$7:T7))","v":"2018-02-27"},{"$f":"INDEX(m3_,1,(ROWS($R$7:U7)-1)*7+COLUMNS($R$7:U7))","v":"2018-02-28"},{"$f":"INDEX(m3_,1,(ROWS($R$7:V7)-1)*7+COLUMNS($R$7:V7))","v":"2018-03-01"},{"$f":"INDEX(m3_,1,(ROWS($R$7:W7)-1)*7+COLUMNS($R$7:W7))","v":"2018-03-02"},{"$f":"INDEX(m3_,1,(ROWS($R$7:X7)-1)*7+COLUMNS($R$7:X7))","v":"2018-03-03"},null,"Sábado","2018-04-21","Pascua"]
[null,{"$f":"INDEX(m1_,1,(ROWS($B$7:B8)-1)*7+COLUMNS($B$7:B8))","v":"2018-01-07"},{"$f":"INDEX(m1_,1,(ROWS($B$7:C8)-1)*7+COLUMNS($B$7:C8))","v":"2018-01-08"},{"$f":"INDEX(m1_,1,(ROWS($B$7:D8)-1)*7+COLUMNS($B$7:D8))","v":"2018-01-09"},{"$f":"INDEX(m1_,1,(ROWS($B$7:E8)-1)*7+COLUMNS($B$7:E8))","v":"2018-01-10"},{"$f":"INDEX(m1_,1,(ROWS($B$7:F8)-1)*7+COLUMNS($B$7:F8))","v":"2018-01-11"},{"$f":"INDEX(m1_,1,(ROWS($B$7:G8)-1)*7+COLUMNS($B$7:G8))","v":"2018-01-12"},{"$f":"INDEX(m1_,1,(ROWS($B$7:H8)-1)*7+COLUMNS($B$7:H8))","v":"2018-01-13"},null,{"$f":"INDEX(m2_,1,(ROWS($J$7:J8)-1)*7+COLUMNS($J$7:J8))","v":"2018-02-04"},{"$f":"INDEX(m2_,1,(ROWS($J$7:K8)-1)*7+COLUMNS($J$7:K8))","v":"2018-02-05"},{"$f":"INDEX(m2_,1,(ROWS($J$7:L8)-1)*7+COLUMNS($J$7:L8))","v":"2018-02-06"},{"$f":"INDEX(m2_,1,(ROWS($J$7:M8)-1)*7+COLUMNS($J$7:M8))","v":"2018-02-07"},{"$f":"INDEX(m2_,1,(ROWS($J$7:N8)-1)*7+COLUMNS($J$7:N8))","v":"2018-02-08"},{"$f":"INDEX(m2_,1,(ROWS($J$7:O8)-1)*7+COLUMNS($J$7:O8))","v":"2018-02-09"},{"$f":"INDEX(m2_,1,(ROWS($J$7:P8)-1)*7+COLUMNS($J$7:P8))","v":"2018-02-10"},null,{"$f":"INDEX(m3_,1,(ROWS($R$7:R8)-1)*7+COLUMNS($R$7:R8))","v":"2018-03-04"},{"$f":"INDEX(m3_,1,(ROWS($R$7:S8)-1)*7+COLUMNS($R$7:S8))","v":"2018-03-05"},{"$f":"INDEX(m3_,1,(ROWS($R$7:T8)-1)*7+COLUMNS($R$7:T8))","v":"2018-03-06"},{"$f":"INDEX(m3_,1,(ROWS($R$7:U8)-1)*7+COLUMNS($R$7:U8))","v":"2018-03-07"},{"$f":"INDEX(m3_,1,(ROWS($R$7:V8)-1)*7+COLUMNS($R$7:V8))","v":"2018-03-08"},{"$f":"INDEX(m3_,1,(ROWS($R$7:W8)-1)*7+COLUMNS($R$7:W8))","v":"2018-03-09"},{"$f":"INDEX(m3_,1,(ROWS($R$7:X8)-1)*7+COLUMNS($R$7:X8))","v":"2018-03-10"},null,"Domingo","2018-04-22","Lunes de Pascua"]
[null,{"$f":"INDEX(m1_,1,(ROWS($B$7:B9)-1)*7+COLUMNS($B$7:B9))","v":"2018-01-14"},{"$f":"INDEX(m1_,1,(ROWS($B$7:C9)-1)*7+COLUMNS($B$7:C9))","v":"2018-01-15"},{"$f":"INDEX(m1_,1,(ROWS($B$7:D9)-1)*7+COLUMNS($B$7:D9))","v":"2018-01-16"},{"$f":"INDEX(m1_,1,(ROWS($B$7:E9)-1)*7+COLUMNS($B$7:E9))","v":"2018-01-17"},{"$f":"INDEX(m1_,1,(ROWS($B$7:F9)-1)*7+COLUMNS($B$7:F9))","v":"2018-01-18"},{"$f":"INDEX(m1_,1,(ROWS($B$7:G9)-1)*7+COLUMNS($B$7:G9))","v":"2018-01-19"},{"$f":"INDEX(m1_,1,(ROWS($B$7:H9)-1)*7+COLUMNS($B$7:H9))","v":"2018-01-20"},null,{"$f":"INDEX(m2_,1,(ROWS($J$7:J9)-1)*7+COLUMNS($J$7:J9))","v":"2018-02-11"},{"$f":"INDEX(m2_,1,(ROWS($J$7:K9)-1)*7+COLUMNS($J$7:K9))","v":"2018-02-12"},{"$f":"INDEX(m2_,1,(ROWS($J$7:L9)-1)*7+COLUMNS($J$7:L9))","v":"2018-02-13"},{"$f":"INDEX(m2_,1,(ROWS($J$7:M9)-1)*7+COLUMNS($J$7:M9))","v":"2018-02-14"},{"$f":"INDEX(m2_,1,(ROWS($J$7:N9)-1)*7+COLUMNS($J$7:N9))","v":"2018-02-15"},{"$f":"INDEX(m2_,1,(ROWS($J$7:O9)-1)*7+COLUMNS($J$7:O9))","v":"2018-02-16"},{"$f":"INDEX(m2_,1,(ROWS($J$7:P9)-1)*7+COLUMNS($J$7:P9))","v":"2018-02-17"},null,{"$f":"INDEX(m3_,1,(ROWS($R$7:R9)-1)*7+COLUMNS($R$7:R9))","v":"2018-03-11"},{"$f":"INDEX(m3_,1,(ROWS($R$7:S9)-1)*7+COLUMNS($R$7:S9))","v":"2018-03-12"},{"$f":"INDEX(m3_,1,(ROWS($R$7:T9)-1)*7+COLUMNS($R$7:T9))","v":"2018-03-13"},{"$f":"INDEX(m3_,1,(ROWS($R$7:U9)-1)*7+COLUMNS($R$7:U9))","v":"2018-03-14"},{"$f":"INDEX(m3_,1,(ROWS($R$7:V9)-1)*7+COLUMNS($R$7:V9))","v":"2018-03-15"},{"$f":"INDEX(m3_,1,(ROWS($R$7:W9)-1)*7+COLUMNS($R$7:W9))","v":"2018-03-16"},{"$f":"INDEX(m3_,1,(ROWS($R$7:X9)-1)*7+COLUMNS($R$7:X9))","v":"2018-03-17"},null,"Martes","2018-05-01","Día internacional de los trabajadores"]
[null,{"$f":"INDEX(m1_,1,(ROWS($B$7:B10)-1)*7+COLUMNS($B$7:B10))","v":"2018-01-21"},{"$f":"INDEX(m1_,1,(ROWS($B$7:C10)-1)*7+COLUMNS($B$7:C10))","v":"2018-01-22"},{"$f":"INDEX(m1_,1,(ROWS($B$7:D10)-1)*7+COLUMNS($B$7:D10))","v":"2018-01-23"},{"$f":"INDEX(m1_,1,(ROWS($B$7:E10)-1)*7+COLUMNS($B$7:E10))","v":"2018-01-24"},{"$f":"INDEX(m1_,1,(ROWS($B$7:F10)-1)*7+COLUMNS($B$7:F10))","v":"2018-01-25"},{"$f":"INDEX(m1_,1,(ROWS($B$7:G10)-1)*7+COLUMNS($B$7:G10))","v":"2018-01-26"},{"$f":"INDEX(m1_,1,(ROWS($B$7:H10)-1)*7+COLUMNS($B$7:H10))","v":"2018-01-27"},null,{"$f":"INDEX(m2_,1,(ROWS($J$7:J10)-1)*7+COLUMNS($J$7:J10))","v":"2018-02-18"},{"$f":"INDEX(m2_,1,(ROWS($J$7:K10)-1)*7+COLUMNS($J$7:K10))","v":"2018-02-19"},{"$f":"INDEX(m2_,1,(ROWS($J$7:L10)-1)*7+COLUMNS($J$7:L10))","v":"2018-02-20"},{"$f":"INDEX(m2_,1,(ROWS($J$7:M10)-1)*7+COLUMNS($J$7:M10))","v":"2018-02-21"},{"$f":"INDEX(m2_,1,(ROWS($J$7:N10)-1)*7+COLUMNS($J$7:N10))","v":"2018-02-22"},{"$f":"INDEX(m2_,1,(ROWS($J$7:O10)-1)*7+COLUMNS($J$7:O10))","v":"2018-02-23"},{"$f":"INDEX(m2_,1,(ROWS($J$7:P10)-1)*7+COLUMNS($J$7:P10))","v":"2018-02-24"},null,{"$f":"INDEX(m3_,1,(ROWS($R$7:R10)-1)*7+COLUMNS($R$7:R10))","v":"2018-03-18"},{"$f":"INDEX(m3_,1,(ROWS($R$7:S10)-1)*7+COLUMNS($R$7:S10))","v":"2018-03-19"},{"$f":"INDEX(m3_,1,(ROWS($R$7:T10)-1)*7+COLUMNS($R$7:T10))","v":"2018-03-20"},{"$f":"INDEX(m3_,1,(ROWS($R$7:U10)-1)*7+COLUMNS($R$7:U10))","v":"2018-03-21"},{"$f":"INDEX(m3_,1,(ROWS($R$7:V10)-1)*7+COLUMNS($R$7:V10))","v":"2018-03-22"},{"$f":"INDEX(m3_,1,(ROWS($R$7:W10)-1)*7+COLUMNS($R$7:W10))","v":"2018-03-23"},{"$f":"INDEX(m3_,1,(ROWS($R$7:X10)-1)*7+COLUMNS($R$7:X10))","v":"2018-03-24"},null,"Jueves","2018-05-10","Ascensión de Jesucristo"]
[null,{"$f":"INDEX(m1_,1,(ROWS($B$7:B11)-1)*7+COLUMNS($B$7:B11))","v":"2018-01-28"},{"$f":"INDEX(m1_,1,(ROWS($B$7:C11)-1)*7+COLUMNS($B$7:C11))","v":"2018-01-29"},{"$f":"INDEX(m1_,1,(ROWS($B$7:D11)-1)*7+COLUMNS($B$7:D11))","v":"2018-01-30"},{"$f":"INDEX(m1_,1,(ROWS($B$7:E11)-1)*7+COLUMNS($B$7:E11))","v":"2018-01-31"},{"$f":"INDEX(m1_,1,(ROWS($B$7:F11)-1)*7+COLUMNS($B$7:F11))","v":"2018-02-01"},{"$f":"INDEX(m1_,1,(ROWS($B$7:G11)-1)*7+COLUMNS($B$7:G11))","v":"2018-02-02"},{"$f":"INDEX(m1_,1,(ROWS($B$7:H11)-1)*7+COLUMNS($B$7:H11))","v":"2018-02-03"},null,{"$f":"INDEX(m2_,1,(ROWS($J$7:J11)-1)*7+COLUMNS($J$7:J11))","v":"2018-02-25"},{"$f":"INDEX(m2_,1,(ROWS($J$7:K11)-1)*7+COLUMNS($J$7:K11))","v":"2018-02-26"},{"$f":"INDEX(m2_,1,(ROWS($J$7:L11)-1)*7+COLUMNS($J$7:L11))","v":"2018-02-27"},{"$f":"INDEX(m2_,1,(ROWS($J$7:M11)-1)*7+COLUMNS($J$7:M11))","v":"2018-02-28"},{"$f":"INDEX(m2_,1,(ROWS($J$7:N11)-1)*7+COLUMNS($J$7:N11))","v":"2018-03-01"},{"$f":"INDEX(m2_,1,(ROWS($J$7:O11)-1)*7+COLUMNS($J$7:O11))","v":"2018-03-02"},{"$f":"INDEX(m2_,1,(ROWS($J$7:P11)-1)*7+COLUMNS($J$7:P11))","v":"2018-03-03"},null,{"$f":"INDEX(m3_,1,(ROWS($R$7:R11)-1)*7+COLUMNS($R$7:R11))","v":"2018-03-25"},{"$f":"INDEX(m3_,1,(ROWS($R$7:S11)-1)*7+COLUMNS($R$7:S11))","v":"2018-03-26"},{"$f":"INDEX(m3_,1,(ROWS($R$7:T11)-1)*7+COLUMNS($R$7:T11))","v":"2018-03-27"},{"$f":"INDEX(m3_,1,(ROWS($R$7:U11)-1)*7+COLUMNS($R$7:U11))","v":"2018-03-28"},{"$f":"INDEX(m3_,1,(ROWS($R$7:V11)-1)*7+COLUMNS($R$7:V11))","v":"2018-03-29"},{"$f":"INDEX(m3_,1,(ROWS($R$7:W11)-1)*7+COLUMNS($R$7:W11))","v":"2018-03-30"},{"$f":"INDEX(m3_,1,(ROWS($R$7:X11)-1)*7+COLUMNS($R$7:X11))","v":"2018-03-31"},null,"Jueves","2018-05-31","Corpus Christi"]
[null,{"$f":"INDEX(m1_,1,(ROWS($B$7:B12)-1)*7+COLUMNS($B$7:B12))","v":"2018-02-04"},{"$f":"INDEX(m1_,1,(ROWS($B$7:C12)-1)*7+COLUMNS($B$7:C12))","v":"2018-02-05"},{"$f":"INDEX(m1_,1,(ROWS($B$7:D12)-1)*7+COLUMNS($B$7:D12))","v":"2018-02-06"},{"$f":"INDEX(m1_,1,(ROWS($B$7:E12)-1)*7+COLUMNS($B$7:E12))","v":"2018-02-07"},{"$f":"INDEX(m1_,1,(ROWS($B$7:F12)-1)*7+COLUMNS($B$7:F12))","v":"2018-02-08"},{"$f":"INDEX(m1_,1,(ROWS($B$7:G12)-1)*7+COLUMNS($B$7:G12))","v":"2018-02-09"},{"$f":"INDEX(m1_,1,(ROWS($B$7:H12)-1)*7+COLUMNS($B$7:H12))","v":"2018-02-10"},null,{"$f":"INDEX(m2_,1,(ROWS($J$7:J12)-1)*7+COLUMNS($J$7:J12))","v":"2018-03-04"},{"$f":"INDEX(m2_,1,(ROWS($J$7:K12)-1)*7+COLUMNS($J$7:K12))","v":"2018-03-05"},{"$f":"INDEX(m2_,1,(ROWS($J$7:L12)-1)*7+COLUMNS($J$7:L12))","v":"2018-03-06"},{"$f":"INDEX(m2_,1,(ROWS($J$7:M12)-1)*7+COLUMNS($J$7:M12))","v":"2018-03-07"},{"$f":"INDEX(m2_,1,(ROWS($J$7:N12)-1)*7+COLUMNS($J$7:N12))","v":"2018-03-08"},{"$f":"INDEX(m2_,1,(ROWS($J$7:O12)-1)*7+COLUMNS($J$7:O12))","v":"2018-03-09"},{"$f":"INDEX(m2_,1,(ROWS($J$7:P12)-1)*7+COLUMNS($J$7:P12))","v":"2018-03-10"},null,{"$f":"INDEX(m3_,1,(ROWS($R$7:R12)-1)*7+COLUMNS($R$7:R12))","v":"2018-04-01"},{"$f":"INDEX(m3_,1,(ROWS($R$7:S12)-1)*7+COLUMNS($R$7:S12))","v":"2018-04-02"},{"$f":"INDEX(m3_,1,(ROWS($R$7:T12)-1)*7+COLUMNS($R$7:T12))","v":"2018-04-03"},{"$f":"INDEX(m3_,1,(ROWS($R$7:U12)-1)*7+COLUMNS($R$7:U12))","v":"2018-04-04"},{"$f":"INDEX(m3_,1,(ROWS($R$7:V12)-1)*7+COLUMNS($R$7:V12))","v":"2018-04-05"},{"$f":"INDEX(m3_,1,(ROWS($R$7:W12)-1)*7+COLUMNS($R$7:W12))","v":"2018-04-06"},{"$f":"INDEX(m3_,1,(ROWS($R$7:X12)-1)*7+COLUMNS($R$7:X12))","v":"2018-04-07"},null,"Sábado","2018-06-09","Pentecostés"]
[null,null,null,null,null,null,null,null,null,null,null,null,null,null,null,null,null,null,null,null,null,null,null,null,null,"Domingo","2018-06-10","Lunes de Pentecostés"]
[null,{"$f":"[1]Mini!B9","v":"2018-04-01"},null,null,null,null,null,null,null,{"$f":"[1]Mini!B10","v":"2018-05-01"},null,null,null,null,null,null,null,{"$f":"[1]Mini!B11","v":"2018-06-01"},null,null,null,null,null,null,null,"Miércoles","2018-08-15","Asunción de María"]
[null,"Do","Lu","Ma","Mi","Ju","Vi","Sa",null,"Do","Lu","Ma","Mi","Ju","Vi","Sa",null,"Do","Lu","Ma","Mi","Ju","Vi","Sa",null,"Miércoles","2018-10-03","Día de la Unidad Alemana"]
[null,{"$f":"INDEX(m4_,1,(ROWS($B$16:B16)-1)*7+COLUMNS($B$16:B16))","v":"2018-03-25"},{"$f":"INDEX(m4_,1,(ROWS($B$16:C16)-1)*7+COLUMNS($B$16:C16))","v":"2018-03-26"},{"$f":"INDEX(m4_,1,(ROWS($B$16:D16)-1)*7+COLUMNS($B$16:D16))","v":"2018-03-27"},{"$f":"INDEX(m4_,1,(ROWS($B$16:E16)-1)*7+COLUMNS($B$16:E16))","v":"2018-03-28"},{"$f":"INDEX(m4_,1,(ROWS($B$16:F16)-1)*7+COLUMNS($B$16:F16))","v":"2018-03-29"},{"$f":"INDEX(m4_,1,(ROWS($B$16:G16)-1)*7+COLUMNS($B$16:G16))","v":"2018-03-30"},{"$f":"INDEX(m4_,1,(ROWS($B$16:H16)-1)*7+COLUMNS($B$16:H16))","v":"2018-03-31"},null,{"$f":"INDEX(m5_,1,(ROWS($J$16:J16)-1)*7+COLUMNS($J$16:J16))","v":"2018-04-29"},{"$f":"INDEX(m5_,1,(ROWS($J$16:K16)-1)*7+COLUMNS($J$16:K16))","v":"2018-04-30"},{"$f":"INDEX(m5_,1,(ROWS($J$16:L16)-1)*7+COLUMNS($J$16:L16))","v":"2018-05-01"},{"$f":"INDEX(m5_,1,(ROWS($J$16:M16)-1)*7+COLUMNS($J$16:M16))","v":"2018-05-02"},{"$f":"INDEX(m5_,1,(ROWS($J$16:N16)-1)*7+COLUMNS($J$16:N16))","v":"2018-05-03"},{"$f":"INDEX(m5_,1,(ROWS($J$16:O16)-1)*7+COLUMNS($J$16:O16))","v":"2018-05-04"},{"$f":"INDEX(m5_,1,(ROWS($J$16:P16)-1)*7+COLUMNS($J$16:P16))","v":"2018-05-05"},null,{"$f":"INDEX(m6_,1,(ROWS($R$16:R16)-1)*7+COLUMNS($R$16:R16))","v":"2018-05-27"},{"$f":"INDEX(m6_,1,(ROWS($R$16:S16)-1)*7+COLUMNS($R$16:S16))","v":"2018-05-28"},{"$f":"INDEX(m6_,1,(ROWS($R$16:T16)-1)*7+COLUMNS($R$16:T16))","v":"2018-05-29"},{"$f":"INDEX(m6_,1,(ROWS($R$16:U16)-1)*7+COLUMNS($R$16:U16))","v":"2018-05-30"},{"$f":"INDEX(m6_,1,(ROWS($R$16:V16)-1)*7+COLUMNS($R$16:V16))","v":"2018-05-31"},{"$f":"INDEX(m6_,1,(ROWS($R$16:W16)-1)*7+COLUMNS($R$16:W16))","v":"2018-06-01"},{"$f":"INDEX(m6_,1,(ROWS($R$16:X16)-1)*7+COLUMNS($R$16:X16))","v":"2018-06-02"},null,"Miércoles","2018-10-31","Día de la Reforma"]
[null,{"$f":"INDEX(m4_,1,(ROWS($B$16:B17)-1)*7+COLUMNS($B$16:B17))","v":"2018-04-01"},{"$f":"INDEX(m4_,1,(ROWS($B$16:C17)-1)*7+COLUMNS($B$16:C17))","v":"2018-04-02"},{"$f":"INDEX(m4_,1,(ROWS($B$16:D17)-1)*7+COLUMNS($B$16:D17))","v":"2018-04-03"},{"$f":"INDEX(m4_,1,(ROWS($B$16:E17)-1)*7+COLUMNS($B$16:E17))","v":"2018-04-04"},{"$f":"INDEX(m4_,1,(ROWS($B$16:F17)-1)*7+COLUMNS($B$16:F17))","v":"2018-04-05"},{"$f":"INDEX(m4_,1,(ROWS($B$16:G17)-1)*7+COLUMNS($B$16:G17))","v":"2018-04-06"},{"$f":"INDEX(m4_,1,(ROWS($B$16:H17)-1)*7+COLUMNS($B$16:H17))","v":"2018-04-07"},null,{"$f":"INDEX(m5_,1,(ROWS($J$16:J17)-1)*7+COLUMNS($J$16:J17))","v":"2018-05-06"},{"$f":"INDEX(m5_,1,(ROWS($J$16:K17)-1)*7+COLUMNS($J$16:K17))","v":"2018-05-07"},{"$f":"INDEX(m5_,1,(ROWS($J$16:L17)-1)*7+COLUMNS($J$16:L17))","v":"2018-05-08"},{"$f":"INDEX(m5_,1,(ROWS($J$16:M17)-1)*7+COLUMNS($J$16:M17))","v":"2018-05-09"},{"$f":"INDEX(m5_,1,(ROWS($J$16:N17)-1)*7+COLUMNS($J$16:N17))","v":"2018-05-10"},{"$f":"INDEX(m5_,1,(ROWS($J$16:O17)-1)*7+COLUMNS($J$16:O17))","v":"2018-05-11"},{"$f":"INDEX(m5_,1,(ROWS($J$16:P17)-1)*7+COLUMNS($J$16:P17))","v":"2018-05-12"},null,{"$f":"INDEX(m6_,1,(ROWS($R$16:R17)-1)*7+COLUMNS($R$16:R17))","v":"2018-06-03"},{"$f":"INDEX(m6_,1,(ROWS($R$16:S17)-1)*7+COLUMNS($R$16:S17))","v":"2018-06-04"},{"$f":"INDEX(m6_,1,(ROWS($R$16:T17)-1)*7+COLUMNS($R$16:T17))","v":"2018-06-05"},{"$f":"INDEX(m6_,1,(ROWS($R$16:U17)-1)*7+COLUMNS($R$16:U17))","v":"2018-06-06"},{"$f":"INDEX(m6_,1,(ROWS($R$16:V17)-1)*7+COLUMNS($R$16:V17))","v":"2018-06-07"},{"$f":"INDEX(m6_,1,(ROWS($R$16:W17)-1)*7+COLUMNS($R$16:W17))","v":"2018-06-08"},{"$f":"INDEX(m6_,1,(ROWS($R$16:X17)-1)*7+COLUMNS($R$16:X17))","v":"2018-06-09"},null,"Jueves","2018-11-01","Día de Todos Los Santos"]
[null,{"$f":"INDEX(m4_,1,(ROWS($B$16:B18)-1)*7+COLUMNS($B$16:B18))","v":"2018-04-08"},{"$f":"INDEX(m4_,1,(ROWS($B$16:C18)-1)*7+COLUMNS($B$16:C18))","v":"2018-04-09"},{"$f":"INDEX(m4_,1,(ROWS($B$16:D18)-1)*7+COLUMNS($B$16:D18))","v":"2018-04-10"},{"$f":"INDEX(m4_,1,(ROWS($B$16:E18)-1)*7+COLUMNS($B$16:E18))","v":"2018-04-11"},{"$f":"INDEX(m4_,1,(ROWS($B$16:F18)-1)*7+COLUMNS($B$16:F18))","v":"2018-04-12"},{"$f":"INDEX(m4_,1,(ROWS($B$16:G18)-1)*7+COLUMNS($B$16:G18))","v":"2018-04-13"},{"$f":"INDEX(m4_,1,(ROWS($B$16:H18)-1)*7+COLUMNS($B$16:H18))","v":"2018-04-14"},null,{"$f":"INDEX(m5_,1,(ROWS($J$16:J18)-1)*7+COLUMNS($J$16:J18))","v":"2018-05-13"},{"$f":"INDEX(m5_,1,(ROWS($J$16:K18)-1)*7+COLUMNS($J$16:K18))","v":"2018-05-14"},{"$f":"INDEX(m5_,1,(ROWS($J$16:L18)-1)*7+COLUMNS($J$16:L18))","v":"2018-05-15"},{"$f":"INDEX(m5_,1,(ROWS($J$16:M18)-1)*7+COLUMNS($J$16:M18))","v":"2018-05-16"},{"$f":"INDEX(m5_,1,(ROWS($J$16:N18)-1)*7+COLUMNS($J$16:N18))","v":"2018-05-17"},{"$f":"INDEX(m5_,1,(ROWS($J$16:O18)-1)*7+COLUMNS($J$16:O18))","v":"2018-05-18"},{"$f":"INDEX(m5_,1,(ROWS($J$16:P18)-1)*7+COLUMNS($J$16:P18))","v":"2018-05-19"},null,{"$f":"INDEX(m6_,1,(ROWS($R$16:R18)-1)*7+COLUMNS($R$16:R18))","v":"2018-06-10"},{"$f":"INDEX(m6_,1,(ROWS($R$16:S18)-1)*7+COLUMNS($R$16:S18))","v":"2018-06-11"},{"$f":"INDEX(m6_,1,(ROWS($R$16:T18)-1)*7+COLUMNS($R$16:T18))","v":"2018-06-12"},{"$f":"INDEX(m6_,1,(ROWS($R$16:U18)-1)*7+COLUMNS($R$16:U18))","v":"2018-06-13"},{"$f":"INDEX(m6_,1,(ROWS($R$16:V18)-1)*7+COLUMNS($R$16:V18))","v":"2018-06-14"},{"$f":"INDEX(m6_,1,(ROWS($R$16:W18)-1)*7+COLUMNS($R$16:W18))","v":"2018-06-15"},{"$f":"INDEX(m6_,1,(ROWS($R$16:X18)-1)*7+COLUMNS($R$16:X18))","v":"2018-06-16"},null,"Martes","2018-12-25","Navidad"]
[null,{"$f":"INDEX(m4_,1,(ROWS($B$16:B19)-1)*7+COLUMNS($B$16:B19))","v":"2018-04-15"},{"$f":"INDEX(m4_,1,(ROWS($B$16:C19)-1)*7+COLUMNS($B$16:C19))","v":"2018-04-16"},{"$f":"INDEX(m4_,1,(ROWS($B$16:D19)-1)*7+COLUMNS($B$16:D19))","v":"2018-04-17"},{"$f":"INDEX(m4_,1,(ROWS($B$16:E19)-1)*7+COLUMNS($B$16:E19))","v":"2018-04-18"},{"$f":"INDEX(m4_,1,(ROWS($B$16:F19)-1)*7+COLUMNS($B$16:F19))","v":"2018-04-19"},{"$f":"INDEX(m4_,1,(ROWS($B$16:G19)-1)*7+COLUMNS($B$16:G19))","v":"2018-04-20"},{"$f":"INDEX(m4_,1,(ROWS($B$16:H19)-1)*7+COLUMNS($B$16:H19))","v":"2018-04-21"},null,{"$f":"INDEX(m5_,1,(ROWS($J$16:J19)-1)*7+COLUMNS($J$16:J19))","v":"2018-05-20"},{"$f":"INDEX(m5_,1,(ROWS($J$16:K19)-1)*7+COLUMNS($J$16:K19))","v":"2018-05-21"},{"$f":"INDEX(m5_,1,(ROWS($J$16:L19)-1)*7+COLUMNS($J$16:L19))","v":"2018-05-22"},{"$f":"INDEX(m5_,1,(ROWS($J$16:M19)-1)*7+COLUMNS($J$16:M19))","v":"2018-05-23"},{"$f":"INDEX(m5_,1,(ROWS($J$16:N19)-1)*7+COLUMNS($J$16:N19))","v":"2018-05-24"},{"$f":"INDEX(m5_,1,(ROWS($J$16:O19)-1)*7+COLUMNS($J$16:O19))","v":"2018-05-25"},{"$f":"INDEX(m5_,1,(ROWS($J$16:P19)-1)*7+COLUMNS($J$16:P19))","v":"2018-05-26"},null,{"$f":"INDEX(m6_,1,(ROWS($R$16:R19)-1)*7+COLUMNS($R$16:R19))","v":"2018-06-17"},{"$f":"INDEX(m6_,1,(ROWS($R$16:S19)-1)*7+COLUMNS($R$16:S19))","v":"2018-06-18"},{"$f":"INDEX(m6_,1,(ROWS($R$16:T19)-1)*7+COLUMNS($R$16:T19))","v":"2018-06-19"},{"$f":"INDEX(m6_,1,(ROWS($R$16:U19)-1)*7+COLUMNS($R$16:U19))","v":"2018-06-20"},{"$f":"INDEX(m6_,1,(ROWS($R$16:V19)-1)*7+COLUMNS($R$16:V19))","v":"2018-06-21"},{"$f":"INDEX(m6_,1,(ROWS($R$16:W19)-1)*7+COLUMNS($R$16:W19))","v":"2018-06-22"},{"$f":"INDEX(m6_,1,(ROWS($R$16:X19)-1)*7+COLUMNS($R$16:X19))","v":"2018-06-23"}]
[null,{"$f":"INDEX(m4_,1,(ROWS($B$16:B20)-1)*7+COLUMNS($B$16:B20))","v":"2018-04-22"},{"$f":"INDEX(m4_,1,(ROWS($B$16:C20)-1)*7+COLUMNS($B$16:C20))","v":"2018-04-23"},{"$f":"INDEX(m4_,1,(ROWS($B$16:D20)-1)*7+COLUMNS($B$16:D20))","v":"2018-04-24"},{"$f":"INDEX(m4_,1,(ROWS($B$16:E20)-1)*7+COLUMNS($B$16:E20))","v":"2018-04-25"},{"$f":"INDEX(m4_,1,(ROWS($B$16:F20)-1)*7+COLUMNS($B$16:F20))","v":"2018-04-26"},{"$f":"INDEX(m4_,1,(ROWS($B$16:G20)-1)*7+COLUMNS($B$16:G20))","v":"2018-04-27"},{"$f":"INDEX(m4_,1,(ROWS($B$16:H20)-1)*7+COLUMNS($B$16:H20))","v":"2018-04-28"},null,{"$f":"INDEX(m5_,1,(ROWS($J$16:J20)-1)*7+COLUMNS($J$16:J20))","v":"2018-05-27"},{"$f":"INDEX(m5_,1,(ROWS($J$16:K20)-1)*7+COLUMNS($J$16:K20))","v":"2018-05-28"},{"$f":"INDEX(m5_,1,(ROWS($J$16:L20)-1)*7+COLUMNS($J$16:L20))","v":"2018-05-29"},{"$f":"INDEX(m5_,1,(ROWS($J$16:M20)-1)*7+COLUMNS($J$16:M20))","v":"2018-05-30"},{"$f":"INDEX(m5_,1,(ROWS($J$16:N20)-1)*7+COLUMNS($J$16:N20))","v":"2018-05-31"},{"$f":"INDEX(m5_,1,(ROWS($J$16:O20)-1)*7+COLUMNS($J$16:O20))","v":"2018-06-01"},{"$f":"INDEX(m5_,1,(ROWS($J$16:P20)-1)*7+COLUMNS($J$16:P20))","v":"2018-06-02"},null,{"$f":"INDEX(m6_,1,(ROWS($R$16:R20)-1)*7+COLUMNS($R$16:R20))","v":"2018-06-24"},{"$f":"INDEX(m6_,1,(ROWS($R$16:S20)-1)*7+COLUMNS($R$16:S20))","v":"2018-06-25"},{"$f":"INDEX(m6_,1,(ROWS($R$16:T20)-1)*7+COLUMNS($R$16:T20))","v":"2018-06-26"},{"$f":"INDEX(m6_,1,(ROWS($R$16:U20)-1)*7+COLUMNS($R$16:U20))","v":"2018-06-27"},{"$f":"INDEX(m6_,1,(ROWS($R$16:V20)-1)*7+COLUMNS($R$16:V20))","v":"2018-06-28"},{"$f":"INDEX(m6_,1,(ROWS($R$16:W20)-1)*7+COLUMNS($R$16:W20))","v":"2018-06-29"},{"$f":"INDEX(m6_,1,(ROWS($R$16:X20)-1)*7+COLUMNS($R$16:X20))","v":"2018-06-30"}]
[null,{"$f":"INDEX(m4_,1,(ROWS($B$16:B21)-1)*7+COLUMNS($B$16:B21))","v":"2018-04-29"},{"$f":"INDEX(m4_,1,(ROWS($B$16:C21)-1)*7+COLUMNS($B$16:C21))","v":"2018-04-30"},{"$f":"INDEX(m4_,1,(ROWS($B$16:D21)-1)*7+COLUMNS($B$16:D21))","v":"2018-05-01"},{"$f":"INDEX(m4_,1,(ROWS($B$16:E21)-1)*7+COLUMNS($B$16:E21))","v":"2018-05-02"},{"$f":"INDEX(m4_,1,(ROWS($B$16:F21)-1)*7+COLUMNS($B$16:F21))","v":"2018-05-03"},{"$f":"INDEX(m4_,1,(ROWS($B$16:G21)-1)*7+COLUMNS($B$16:G21))","v":"2018-05-04"},{"$f":"INDEX(m4_,1,(ROWS($B$16:H21)-1)*7+COLUMNS($B$16:H21))","v":"2018-05-05"},null,{"$f":"INDEX(m5_,1,(ROWS($J$16:J21)-1)*7+COLUMNS($J$16:J21))","v":"2018-06-03"},{"$f":"INDEX(m5_,1,(ROWS($J$16:K21)-1)*7+COLUMNS($J$16:K21))","v":"2018-06-04"},{"$f":"INDEX(m5_,1,(ROWS($J$16:L21)-1)*7+COLUMNS($J$16:L21))","v":"2018-06-05"},{"$f":"INDEX(m5_,1,(ROWS($J$16:M21)-1)*7+COLUMNS($J$16:M21))","v":"2018-06-06"},{"$f":"INDEX(m5_,1,(ROWS($J$16:N21)-1)*7+COLUMNS($J$16:N21))","v":"2018-06-07"},{"$f":"INDEX(m5_,1,(ROWS($J$16:O21)-1)*7+COLUMNS($J$16:O21))","v":"2018-06-08"},{"$f":"INDEX(m5_,1,(ROWS($J$16:P21)-1)*7+COLUMNS($J$16:P21))","v":"2018-06-09"},null,{"$f":"INDEX(m6_,1,(ROWS($R$16:R21)-1)*7+COLUMNS($R$16:R21))","v":"2018-07-01"},{"$f":"INDEX(m6_,1,(ROWS($R$16:S21)-1)*7+COLUMNS($R$16:S21))","v":"2018-07-02"},{"$f":"INDEX(m6_,1,(ROWS($R$16:T21)-1)*7+COLUMNS($R$16:T21))","v":"2018-07-03"},{"$f":"INDEX(m6_,1,(ROWS($R$16:U21)-1)*7+COLUMNS($R$16:U21))","v":"2018-07-04"},{"$f":"INDEX(m6_,1,(ROWS($R$16:V21)-1)*7+COLUMNS($R$16:V21))","v":"2018-07-05"},{"$f":"INDEX(m6_,1,(ROWS($R$16:W21)-1)*7+COLUMNS($R$16:W21))","v":"2018-07-06"},{"$f":"INDEX(m6_,1,(ROWS($R$16:X21)-1)*7+COLUMNS($R$16:X21))","v":"2018-07-07"}]
[]
[null,{"$f":"[1]Mini!B12","v":"2018-07-01"},null,null,null,null,null,null,null,{"$f":"[1]Mini!B13","v":"2018-08-01"},null,null,null,null,null,null,null,{"$f":"[1]Mini!B14","v":"2018-09-01"}]
[null,"Do","Lu","Ma","Mi","Ju","Vi","Sa",null,"Do","Lu","Ma","Mi","Ju","Vi","Sa",null,"Do","Lu","Ma","Mi","Ju","Vi","Sa"]
[null,{"$f":"INDEX(m7_,1,(ROWS($B$25:B25)-1)*7+COLUMNS($B$25:B25))","v":"2018-06-24"},{"$f":"INDEX(m7_,1,(ROWS($B$25:C25)-1)*7+COLUMNS($B$25:C25))","v":"2018-06-25"},{"$f":"INDEX(m7_,1,(ROWS($B$25:D25)-1)*7+COLUMNS($B$25:D25))","v":"2018-06-26"},{"$f":"INDEX(m7_,1,(ROWS($B$25:E25)-1)*7+COLUMNS($B$25:E25))","v":"2018-06-27"},{"$f":"INDEX(m7_,1,(ROWS($B$25:F25)-1)*7+COLUMNS($B$25:F25))","v":"2018-06-28"},{"$f":"INDEX(m7_,1,(ROWS($B$25:G25)-1)*7+COLUMNS($B$25:G25))","v":"2018-06-29"},{"$f":"INDEX(m7_,1,(ROWS($B$25:H25)-1)*7+COLUMNS($B$25:H25))","v":"2018-06-30"},null,{"$f":"INDEX(m8_,1,(ROWS($J$25:J25)-1)*7+COLUMNS($J$25:J25))","v":"2018-07-29"},{"$f":"INDEX(m8_,1,(ROWS($J$25:K25)-1)*7+COLUMNS($J$25:K25))","v":"2018-07-30"},{"$f":"INDEX(m8_,1,(ROWS($J$25:L25)-1)*7+COLUMNS($J$25:L25))","v":"2018-07-31"},{"$f":"INDEX(m8_,1,(ROWS($J$25:M25)-1)*7+COLUMNS($J$25:M25))","v":"2018-08-01"},{"$f":"INDEX(m8_,1,(ROWS($J$25:N25)-1)*7+COLUMNS($J$25:N25))","v":"2018-08-02"},{"$f":"INDEX(m8_,1,(ROWS($J$25:O25)-1)*7+COLUMNS($J$25:O25))","v":"2018-08-03"},{"$f":"INDEX(m8_,1,(ROWS($J$25:P25)-1)*7+COLUMNS($J$25:P25))","v":"2018-08-04"},null,{"$f":"INDEX(m9_,1,(ROWS($R$25:R25)-1)*7+COLUMNS($R$25:R25))","v":"2018-08-26"},{"$f":"INDEX(m9_,1,(ROWS($R$25:S25)-1)*7+COLUMNS($R$25:S25))","v":"2018-08-27"},{"$f":"INDEX(m9_,1,(ROWS($R$25:T25)-1)*7+COLUMNS($R$25:T25))","v":"2018-08-28"},{"$f":"INDEX(m9_,1,(ROWS($R$25:U25)-1)*7+COLUMNS($R$25:U25))","v":"2018-08-29"},{"$f":"INDEX(m9_,1,(ROWS($R$25:V25)-1)*7+COLUMNS($R$25:V25))","v":"2018-08-30"},{"$f":"INDEX(m9_,1,(ROWS($R$25:W25)-1)*7+COLUMNS($R$25:W25))","v":"2018-08-31"},{"$f":"INDEX(m9_,1,(ROWS($R$25:X25)-1)*7+COLUMNS($R$25:X25))","v":"2018-09-01"}]
[null,{"$f":"INDEX(m7_,1,(ROWS($B$25:B26)-1)*7+COLUMNS($B$25:B26))","v":"2018-07-01"},{"$f":"INDEX(m7_,1,(ROWS($B$25:C26)-1)*7+COLUMNS($B$25:C26))","v":"2018-07-02"},{"$f":"INDEX(m7_,1,(ROWS($B$25:D26)-1)*7+COLUMNS($B$25:D26))","v":"2018-07-03"},{"$f":"INDEX(m7_,1,(ROWS($B$25:E26)-1)*7+COLUMNS($B$25:E26))","v":"2018-07-04"},{"$f":"INDEX(m7_,1,(ROWS($B$25:F26)-1)*7+COLUMNS($B$25:F26))","v":"2018-07-05"},{"$f":"INDEX(m7_,1,(ROWS($B$25:G26)-1)*7+COLUMNS($B$25:G26))","v":"2018-07-06"},{"$f":"INDEX(m7_,1,(ROWS($B$25:H26)-1)*7+COLUMNS($B$25:H26))","v":"2018-07-07"},null,{"$f":"INDEX(m8_,1,(ROWS($J$25:J26)-1)*7+COLUMNS($J$25:J26))","v":"2018-08-05"},{"$f":"INDEX(m8_,1,(ROWS($J$25:K26)-1)*7+COLUMNS($J$25:K26))","v":"2018-08-06"},{"$f":"INDEX(m8_,1,(ROWS($J$25:L26)-1)*7+COLUMNS($J$25:L26))","v":"2018-08-07"},{"$f":"INDEX(m8_,1,(ROWS($J$25:M26)-1)*7+COLUMNS($J$25:M26))","v":"2018-08-08"},{"$f":"INDEX(m8_,1,(ROWS($J$25:N26)-1)*7+COLUMNS($J$25:N26))","v":"2018-08-09"},{"$f":"INDEX(m8_,1,(ROWS($J$25:O26)-1)*7+COLUMNS($J$25:O26))","v":"2018-08-10"},{"$f":"INDEX(m8_,1,(ROWS($J$25:P26)-1)*7+COLUMNS($J$25:P26))","v":"2018-08-11"},null,{"$f":"INDEX(m9_,1,(ROWS($R$25:R26)-1)*7+COLUMNS($R$25:R26))","v":"2018-09-02"},{"$f":"INDEX(m9_,1,(ROWS($R$25:S26)-1)*7+COLUMNS($R$25:S26))","v":"2018-09-03"},{"$f":"INDEX(m9_,1,(ROWS($R$25:T26)-1)*7+COLUMNS($R$25:T26))","v":"2018-09-04"},{"$f":"INDEX(m9_,1,(ROWS($R$25:U26)-1)*7+COLUMNS($R$25:U26))","v":"2018-09-05"},{"$f":"INDEX(m9_,1,(ROWS($R$25:V26)-1)*7+COLUMNS($R$25:V26))","v":"2018-09-06"},{"$f":"INDEX(m9_,1,(ROWS($R$25:W26)-1)*7+COLUMNS($R$25:W26))","v":"2018-09-07"},{"$f":"INDEX(m9_,1,(ROWS($R$25:X26)-1)*7+COLUMNS($R$25:X26))","v":"2018-09-08"}]
[null,{"$f":"INDEX(m7_,1,(ROWS($B$25:B27)-1)*7+COLUMNS($B$25:B27))","v":"2018-07-08"},{"$f":"INDEX(m7_,1,(ROWS($B$25:C27)-1)*7+COLUMNS($B$25:C27))","v":"2018-07-09"},{"$f":"INDEX(m7_,1,(ROWS($B$25:D27)-1)*7+COLUMNS($B$25:D27))","v":"2018-07-10"},{"$f":"INDEX(m7_,1,(ROWS($B$25:E27)-1)*7+COLUMNS($B$25:E27))","v":"2018-07-11"},{"$f":"INDEX(m7_,1,(ROWS($B$25:F27)-1)*7+COLUMNS($B$25:F27))","v":"2018-07-12"},{"$f":"INDEX(m7_,1,(ROWS($B$25:G27)-1)*7+COLUMNS($B$25:G27))","v":"2018-07-13"},{"$f":"INDEX(m7_,1,(ROWS($B$25:H27)-1)*7+COLUMNS($B$25:H27))","v":"2018-07-14"},null,{"$f":"INDEX(m8_,1,(ROWS($J$25:J27)-1)*7+COLUMNS($J$25:J27))","v":"2018-08-12"},{"$f":"INDEX(m8_,1,(ROWS($J$25:K27)-1)*7+COLUMNS($J$25:K27))","v":"2018-08-13"},{"$f":"INDEX(m8_,1,(ROWS($J$25:L27)-1)*7+COLUMNS($J$25:L27))","v":"2018-08-14"},{"$f":"INDEX(m8_,1,(ROWS($J$25:M27)-1)*7+COLUMNS($J$25:M27))","v":"2018-08-15"},{"$f":"INDEX(m8_,1,(ROWS($J$25:N27)-1)*7+COLUMNS($J$25:N27))","v":"2018-08-16"},{"$f":"INDEX(m8_,1,(ROWS($J$25:O27)-1)*7+COLUMNS($J$25:O27))","v":"2018-08-17"},{"$f":"INDEX(m8_,1,(ROWS($J$25:P27)-1)*7+COLUMNS($J$25:P27))","v":"2018-08-18"},null,{"$f":"INDEX(m9_,1,(ROWS($R$25:R27)-1)*7+COLUMNS($R$25:R27))","v":"2018-09-09"},{"$f":"INDEX(m9_,1,(ROWS($R$25:S27)-1)*7+COLUMNS($R$25:S27))","v":"2018-09-10"},{"$f":"INDEX(m9_,1,(ROWS($R$25:T27)-1)*7+COLUMNS($R$25:T27))","v":"2018-09-11"},{"$f":"INDEX(m9_,1,(ROWS($R$25:U27)-1)*7+COLUMNS($R$25:U27))","v":"2018-09-12"},{"$f":"INDEX(m9_,1,(ROWS($R$25:V27)-1)*7+COLUMNS($R$25:V27))","v":"2018-09-13"},{"$f":"INDEX(m9_,1,(ROWS($R$25:W27)-1)*7+COLUMNS($R$25:W27))","v":"2018-09-14"},{"$f":"INDEX(m9_,1,(ROWS($R$25:X27)-1)*7+COLUMNS($R$25:X27))","v":"2018-09-15"}]
[null,{"$f":"INDEX(m7_,1,(ROWS($B$25:B28)-1)*7+COLUMNS($B$25:B28))","v":"2018-07-15"},{"$f":"INDEX(m7_,1,(ROWS($B$25:C28)-1)*7+COLUMNS($B$25:C28))","v":"2018-07-16"},{"$f":"INDEX(m7_,1,(ROWS($B$25:D28)-1)*7+COLUMNS($B$25:D28))","v":"2018-07-17"},{"$f":"INDEX(m7_,1,(ROWS($B$25:E28)-1)*7+COLUMNS($B$25:E28))","v":"2018-07-18"},{"$f":"INDEX(m7_,1,(ROWS($B$25:F28)-1)*7+COLUMNS($B$25:F28))","v":"2018-07-19"},{"$f":"INDEX(m7_,1,(ROWS($B$25:G28)-1)*7+COLUMNS($B$25:G28))","v":"2018-07-20"},{"$f":"INDEX(m7_,1,(ROWS($B$25:H28)-1)*7+COLUMNS($B$25:H28))","v":"2018-07-21"},null,{"$f":"INDEX(m8_,1,(ROWS($J$25:J28)-1)*7+COLUMNS($J$25:J28))","v":"2018-08-19"},{"$f":"INDEX(m8_,1,(ROWS($J$25:K28)-1)*7+COLUMNS($J$25:K28))","v":"2018-08-20"},{"$f":"INDEX(m8_,1,(ROWS($J$25:L28)-1)*7+COLUMNS($J$25:L28))","v":"2018-08-21"},{"$f":"INDEX(m8_,1,(ROWS($J$25:M28)-1)*7+COLUMNS($J$25:M28))","v":"2018-08-22"},{"$f":"INDEX(m8_,1,(ROWS($J$25:N28)-1)*7+COLUMNS($J$25:N28))","v":"2018-08-23"},{"$f":"INDEX(m8_,1,(ROWS($J$25:O28)-1)*7+COLUMNS($J$25:O28))","v":"2018-08-24"},{"$f":"INDEX(m8_,1,(ROWS($J$25:P28)-1)*7+COLUMNS($J$25:P28))","v":"2018-08-25"},null,{"$f":"INDEX(m9_,1,(ROWS($R$25:R28)-1)*7+COLUMNS($R$25:R28))","v":"2018-09-16"},{"$f":"INDEX(m9_,1,(ROWS($R$25:S28)-1)*7+COLUMNS($R$25:S28))","v":"2018-09-17"},{"$f":"INDEX(m9_,1,(ROWS($R$25:T28)-1)*7+COLUMNS($R$25:T28))","v":"2018-09-18"},{"$f":"INDEX(m9_,1,(ROWS($R$25:U28)-1)*7+COLUMNS($R$25:U28))","v":"2018-09-19"},{"$f":"INDEX(m9_,1,(ROWS($R$25:V28)-1)*7+COLUMNS($R$25:V28))","v":"2018-09-20"},{"$f":"INDEX(m9_,1,(ROWS($R$25:W28)-1)*7+COLUMNS($R$25:W28))","v":"2018-09-21"},{"$f":"INDEX(m9_,1,(ROWS($R$25:X28)-1)*7+COLUMNS($R$25:X28))","v":"2018-09-22"}]
[null,{"$f":"INDEX(m7_,1,(ROWS($B$25:B29)-1)*7+COLUMNS($B$25:B29))","v":"2018-07-22"},{"$f":"INDEX(m7_,1,(ROWS($B$25:C29)-1)*7+COLUMNS($B$25:C29))","v":"2018-07-23"},{"$f":"INDEX(m7_,1,(ROWS($B$25:D29)-1)*7+COLUMNS($B$25:D29))","v":"2018-07-24"},{"$f":"INDEX(m7_,1,(ROWS($B$25:E29)-1)*7+COLUMNS($B$25:E29))","v":"2018-07-25"},{"$f":"INDEX(m7_,1,(ROWS($B$25:F29)-1)*7+COLUMNS($B$25:F29))","v":"2018-07-26"},{"$f":"INDEX(m7_,1,(ROWS($B$25:G29)-1)*7+COLUMNS($B$25:G29))","v":"2018-07-27"},{"$f":"INDEX(m7_,1,(ROWS($B$25:H29)-1)*7+COLUMNS($B$25:H29))","v":"2018-07-28"},null,{"$f":"INDEX(m8_,1,(ROWS($J$25:J29)-1)*7+COLUMNS($J$25:J29))","v":"2018-08-26"},{"$f":"INDEX(m8_,1,(ROWS($J$25:K29)-1)*7+COLUMNS($J$25:K29))","v":"2018-08-27"},{"$f":"INDEX(m8_,1,(ROWS($J$25:L29)-1)*7+COLUMNS($J$25:L29))","v":"2018-08-28"},{"$f":"INDEX(m8_,1,(ROWS($J$25:M29)-1)*7+COLUMNS($J$25:M29))","v":"2018-08-29"},{"$f":"INDEX(m8_,1,(ROWS($J$25:N29)-1)*7+COLUMNS($J$25:N29))","v":"2018-08-30"},{"$f":"INDEX(m8_,1,(ROWS($J$25:O29)-1)*7+COLUMNS($J$25:O29))","v":"2018-08-31"},{"$f":"INDEX(m8_,1,(ROWS($J$25:P29)-1)*7+COLUMNS($J$25:P29))","v":"2018-09-01"},null,{"$f":"INDEX(m9_,1,(ROWS($R$25:R29)-1)*7+COLUMNS($R$25:R29))","v":"2018-09-23"},{"$f":"INDEX(m9_,1,(ROWS($R$25:S29)-1)*7+COLUMNS($R$25:S29))","v":"2018-09-24"},{"$f":"INDEX(m9_,1,(ROWS($R$25:T29)-1)*7+COLUMNS($R$25:T29))","v":"2018-09-25"},{"$f":"INDEX(m9_,1,(ROWS($R$25:U29)-1)*7+COLUMNS($R$25:U29))","v":"2018-09-26"},{"$f":"INDEX(m9_,1,(ROWS($R$25:V29)-1)*7+COLUMNS($R$25:V29))","v":"2018-09-27"},{"$f":"INDEX(m9_,1,(ROWS($R$25:W29)-1)*7+COLUMNS($R$25:W29))","v":"2018-09-28"},{"$f":"INDEX(m9_,1,(ROWS($R$25:X29)-1)*7+COLUMNS($R$25:X29))","v":"2018-09-29"}]
[null,{"$f":"INDEX(m7_,1,(ROWS($B$25:B30)-1)*7+COLUMNS($B$25:B30))","v":"2018-07-29"},{"$f":"INDEX(m7_,1,(ROWS($B$25:C30)-1)*7+COLUMNS($B$25:C30))","v":"2018-07-30"},{"$f":"INDEX(m7_,1,(ROWS($B$25:D30)-1)*7+COLUMNS($B$25:D30))","v":"2018-07-31"},{"$f":"INDEX(m7_,1,(ROWS($B$25:E30)-1)*7+COLUMNS($B$25:E30))","v":"2018-08-01"},{"$f":"INDEX(m7_,1,(ROWS($B$25:F30)-1)*7+COLUMNS($B$25:F30))","v":"2018-08-02"},{"$f":"INDEX(m7_,1,(ROWS($B$25:G30)-1)*7+COLUMNS($B$25:G30))","v":"2018-08-03"},{"$f":"INDEX(m7_,1,(ROWS($B$25:H30)-1)*7+COLUMNS($B$25:H30))","v":"2018-08-04"},null,{"$f":"INDEX(m8_,1,(ROWS($J$25:J30)-1)*7+COLUMNS($J$25:J30))","v":"2018-09-02"},{"$f":"INDEX(m8_,1,(ROWS($J$25:K30)-1)*7+COLUMNS($J$25:K30))","v":"2018-09-03"},{"$f":"INDEX(m8_,1,(ROWS($J$25:L30)-1)*7+COLUMNS($J$25:L30))","v":"2018-09-04"},{"$f":"INDEX(m8_,1,(ROWS($J$25:M30)-1)*7+COLUMNS($J$25:M30))","v":"2018-09-05"},{"$f":"INDEX(m8_,1,(ROWS($J$25:N30)-1)*7+COLUMNS($J$25:N30))","v":"2018-09-06"},{"$f":"INDEX(m8_,1,(ROWS($J$25:O30)-1)*7+COLUMNS($J$25:O30))","v":"2018-09-07"},{"$f":"INDEX(m8_,1,(ROWS($J$25:P30)-1)*7+COLUMNS($J$25:P30))","v":"2018-09-08"},null,{"$f":"INDEX(m9_,1,(ROWS($R$25:R30)-1)*7+COLUMNS($R$25:R30))","v":"2018-09-30"},{"$f":"INDEX(m9_,1,(ROWS($R$25:S30)-1)*7+COLUMNS($R$25:S30))","v":"2018-10-01"},{"$f":"INDEX(m9_,1,(ROWS($R$25:T30)-1)*7+COLUMNS($R$25:T30))","v":"2018-10-02"},{"$f":"INDEX(m9_,1,(ROWS($R$25:U30)-1)*7+COLUMNS($R$25:U30))","v":"2018-10-03"},{"$f":"INDEX(m9_,1,(ROWS($R$25:V30)-1)*7+COLUMNS($R$25:V30))","v":"2018-10-04"},{"$f":"INDEX(m9_,1,(ROWS($R$25:W30)-1)*7+COLUMNS($R$25:W30))","v":"2018-10-05"},{"$f":"INDEX(m9_,1,(ROWS($R$25:X30)-1)*7+COLUMNS($R$25:X30))","v":"2018-10-06"}]
[]
[null,{"$f":"[1]Mini!B15","v":"2018-10-01"},null,null,null,null,null,null,null,{"$f":"[1]Mini!B16","v":"2018-11-01"},null,null,null,null,null,null,null,{"$f":"[1]Mini!B17","v":"2018-12-01"}]
[null,"Do","Lu","Ma","Mi","Ju","Vi","Sa",null,"Do","Lu","Ma","Mi","Ju","Vi","Sa",null,"Do","Lu","Ma","Mi","Ju","Vi","Sa"]
[null,{"$f":"INDEX(m10_,1,(ROWS($B$34:B34)-1)*7+COLUMNS($B$34:B34))","v":"2018-09-30"},{"$f":"INDEX(m10_,1,(ROWS($B$34:C34)-1)*7+COLUMNS($B$34:C34))","v":"2018-10-01"},{"$f":"INDEX(m10_,1,(ROWS($B$34:D34)-1)*7+COLUMNS($B$34:D34))","v":"2018-10-02"},{"$f":"INDEX(m10_,1,(ROWS($B$34:E34)-1)*7+COLUMNS($B$34:E34))","v":"2018-10-03"},{"$f":"INDEX(m10_,1,(ROWS($B$34:F34)-1)*7+COLUMNS($B$34:F34))","v":"2018-10-04"},{"$f":"INDEX(m10_,1,(ROWS($B$34:G34)-1)*7+COLUMNS($B$34:G34))","v":"2018-10-05"},{"$f":"INDEX(m10_,1,(ROWS($B$34:H34)-1)*7+COLUMNS($B$34:H34))","v":"2018-10-06"},null,{"$f":"INDEX(m11_,1,(ROWS($J$34:J34)-1)*7+COLUMNS($J$34:J34))","v":"2018-10-28"},{"$f":"INDEX(m11_,1,(ROWS($J$34:K34)-1)*7+COLUMNS($J$34:K34))","v":"2018-10-29"},{"$f":"INDEX(m11_,1,(ROWS($J$34:L34)-1)*7+COLUMNS($J$34:L34))","v":"2018-10-30"},{"$f":"INDEX(m11_,1,(ROWS($J$34:M34)-1)*7+COLUMNS($J$34:M34))","v":"2018-10-31"},{"$f":"INDEX(m11_,1,(ROWS($J$34:N34)-1)*7+COLUMNS($J$34:N34))","v":"2018-11-01"},{"$f":"INDEX(m11_,1,(ROWS($J$34:O34)-1)*7+COLUMNS($J$34:O34))","v":"2018-11-02"},{"$f":"INDEX(m11_,1,(ROWS($J$34:P34)-1)*7+COLUMNS($J$34:P34))","v":"2018-11-03"},null,{"$f":"INDEX(m12_,1,(ROWS($R$34:R34)-1)*7+COLUMNS($R$34:R34))","v":"2018-11-25"},{"$f":"INDEX(m12_,1,(ROWS($R$34:S34)-1)*7+COLUMNS($R$34:S34))","v":"2018-11-26"},{"$f":"INDEX(m12_,1,(ROWS($R$34:T34)-1)*7+COLUMNS($R$34:T34))","v":"2018-11-27"},{"$f":"INDEX(m12_,1,(ROWS($R$34:U34)-1)*7+COLUMNS($R$34:U34))","v":"2018-11-28"},{"$f":"INDEX(m12_,1,(ROWS($R$34:V34)-1)*7+COLUMNS($R$34:V34))","v":"2018-11-29"},{"$f":"INDEX(m12_,1,(ROWS($R$34:W34)-1)*7+COLUMNS($R$34:W34))","v":"2018-11-30"},{"$f":"INDEX(m12_,1,(ROWS($R$34:X34)-1)*7+COLUMNS($R$34:X34))","v":"2018-12-01"}]
[null,{"$f":"INDEX(m10_,1,(ROWS($B$34:B35)-1)*7+COLUMNS($B$34:B35))","v":"2018-10-07"},{"$f":"INDEX(m10_,1,(ROWS($B$34:C35)-1)*7+COLUMNS($B$34:C35))","v":"2018-10-08"},{"$f":"INDEX(m10_,1,(ROWS($B$34:D35)-1)*7+COLUMNS($B$34:D35))","v":"2018-10-09"},{"$f":"INDEX(m10_,1,(ROWS($B$34:E35)-1)*7+COLUMNS($B$34:E35))","v":"2018-10-10"},{"$f":"INDEX(m10_,1,(ROWS($B$34:F35)-1)*7+COLUMNS($B$34:F35))","v":"2018-10-11"},{"$f":"INDEX(m10_,1,(ROWS($B$34:G35)-1)*7+COLUMNS($B$34:G35))","v":"2018-10-12"},{"$f":"INDEX(m10_,1,(ROWS($B$34:H35)-1)*7+COLUMNS($B$34:H35))","v":"2018-10-13"},null,{"$f":"INDEX(m11_,1,(ROWS($J$34:J35)-1)*7+COLUMNS($J$34:J35))","v":"2018-11-04"},{"$f":"INDEX(m11_,1,(ROWS($J$34:K35)-1)*7+COLUMNS($J$34:K35))","v":"2018-11-05"},{"$f":"INDEX(m11_,1,(ROWS($J$34:L35)-1)*7+COLUMNS($J$34:L35))","v":"2018-11-06"},{"$f":"INDEX(m11_,1,(ROWS($J$34:M35)-1)*7+COLUMNS($J$34:M35))","v":"2018-11-07"},{"$f":"INDEX(m11_,1,(ROWS($J$34:N35)-1)*7+COLUMNS($J$34:N35))","v":"2018-11-08"},{"$f":"INDEX(m11_,1,(ROWS($J$34:O35)-1)*7+COLUMNS($J$34:O35))","v":"2018-11-09"},{"$f":"INDEX(m11_,1,(ROWS($J$34:P35)-1)*7+COLUMNS($J$34:P35))","v":"2018-11-10"},null,{"$f":"INDEX(m12_,1,(ROWS($R$34:R35)-1)*7+COLUMNS($R$34:R35))","v":"2018-12-02"},{"$f":"INDEX(m12_,1,(ROWS($R$34:S35)-1)*7+COLUMNS($R$34:S35))","v":"2018-12-03"},{"$f":"INDEX(m12_,1,(ROWS($R$34:T35)-1)*7+COLUMNS($R$34:T35))","v":"2018-12-04"},{"$f":"INDEX(m12_,1,(ROWS($R$34:U35)-1)*7+COLUMNS($R$34:U35))","v":"2018-12-05"},{"$f":"INDEX(m12_,1,(ROWS($R$34:V35)-1)*7+COLUMNS($R$34:V35))","v":"2018-12-06"},{"$f":"INDEX(m12_,1,(ROWS($R$34:W35)-1)*7+COLUMNS($R$34:W35))","v":"2018-12-07"},{"$f":"INDEX(m12_,1,(ROWS($R$34:X35)-1)*7+COLUMNS($R$34:X35))","v":"2018-12-08"}]
[null,{"$f":"INDEX(m10_,1,(ROWS($B$34:B36)-1)*7+COLUMNS($B$34:B36))","v":"2018-10-14"},{"$f":"INDEX(m10_,1,(ROWS($B$34:C36)-1)*7+COLUMNS($B$34:C36))","v":"2018-10-15"},{"$f":"INDEX(m10_,1,(ROWS($B$34:D36)-1)*7+COLUMNS($B$34:D36))","v":"2018-10-16"},{"$f":"INDEX(m10_,1,(ROWS($B$34:E36)-1)*7+COLUMNS($B$34:E36))","v":"2018-10-17"},{"$f":"INDEX(m10_,1,(ROWS($B$34:F36)-1)*7+COLUMNS($B$34:F36))","v":"2018-10-18"},{"$f":"INDEX(m10_,1,(ROWS($B$34:G36)-1)*7+COLUMNS($B$34:G36))","v":"2018-10-19"},{"$f":"INDEX(m10_,1,(ROWS($B$34:H36)-1)*7+COLUMNS($B$34:H36))","v":"2018-10-20"},null,{"$f":"INDEX(m11_,1,(ROWS($J$34:J36)-1)*7+COLUMNS($J$34:J36))","v":"2018-11-11"},{"$f":"INDEX(m11_,1,(ROWS($J$34:K36)-1)*7+COLUMNS($J$34:K36))","v":"2018-11-12"},{"$f":"INDEX(m11_,1,(ROWS($J$34:L36)-1)*7+COLUMNS($J$34:L36))","v":"2018-11-13"},{"$f":"INDEX(m11_,1,(ROWS($J$34:M36)-1)*7+COLUMNS($J$34:M36))","v":"2018-11-14"},{"$f":"INDEX(m11_,1,(ROWS($J$34:N36)-1)*7+COLUMNS($J$34:N36))","v":"2018-11-15"},{"$f":"INDEX(m11_,1,(ROWS($J$34:O36)-1)*7+COLUMNS($J$34:O36))","v":"2018-11-16"},{"$f":"INDEX(m11_,1,(ROWS($J$34:P36)-1)*7+COLUMNS($J$34:P36))","v":"2018-11-17"},null,{"$f":"INDEX(m12_,1,(ROWS($R$34:R36)-1)*7+COLUMNS($R$34:R36))","v":"2018-12-09"},{"$f":"INDEX(m12_,1,(ROWS($R$34:S36)-1)*7+COLUMNS($R$34:S36))","v":"2018-12-10"},{"$f":"INDEX(m12_,1,(ROWS($R$34:T36)-1)*7+COLUMNS($R$34:T36))","v":"2018-12-11"},{"$f":"INDEX(m12_,1,(ROWS($R$34:U36)-1)*7+COLUMNS($R$34:U36))","v":"2018-12-12"},{"$f":"INDEX(m12_,1,(ROWS($R$34:V36)-1)*7+COLUMNS($R$34:V36))","v":"2018-12-13"},{"$f":"INDEX(m12_,1,(ROWS($R$34:W36)-1)*7+COLUMNS($R$34:W36))","v":"2018-12-14"},{"$f":"INDEX(m12_,1,(ROWS($R$34:X36)-1)*7+COLUMNS($R$34:X36))","v":"2018-12-15"}]
[null,{"$f":"INDEX(m10_,1,(ROWS($B$34:B37)-1)*7+COLUMNS($B$34:B37))","v":"2018-10-21"},{"$f":"INDEX(m10_,1,(ROWS($B$34:C37)-1)*7+COLUMNS($B$34:C37))","v":"2018-10-22"},{"$f":"INDEX(m10_,1,(ROWS($B$34:D37)-1)*7+COLUMNS($B$34:D37))","v":"2018-10-23"},{"$f":"INDEX(m10_,1,(ROWS($B$34:E37)-1)*7+COLUMNS($B$34:E37))","v":"2018-10-24"},{"$f":"INDEX(m10_,1,(ROWS($B$34:F37)-1)*7+COLUMNS($B$34:F37))","v":"2018-10-25"},{"$f":"INDEX(m10_,1,(ROWS($B$34:G37)-1)*7+COLUMNS($B$34:G37))","v":"2018-10-26"},{"$f":"INDEX(m10_,1,(ROWS($B$34:H37)-1)*7+COLUMNS($B$34:H37))","v":"2018-10-27"},null,{"$f":"INDEX(m11_,1,(ROWS($J$34:J37)-1)*7+COLUMNS($J$34:J37))","v":"2018-11-18"},{"$f":"INDEX(m11_,1,(ROWS($J$34:K37)-1)*7+COLUMNS($J$34:K37))","v":"2018-11-19"},{"$f":"INDEX(m11_,1,(ROWS($J$34:L37)-1)*7+COLUMNS($J$34:L37))","v":"2018-11-20"},{"$f":"INDEX(m11_,1,(ROWS($J$34:M37)-1)*7+COLUMNS($J$34:M37))","v":"2018-11-21"},{"$f":"INDEX(m11_,1,(ROWS($J$34:N37)-1)*7+COLUMNS($J$34:N37))","v":"2018-11-22"},{"$f":"INDEX(m11_,1,(ROWS($J$34:O37)-1)*7+COLUMNS($J$34:O37))","v":"2018-11-23"},{"$f":"INDEX(m11_,1,(ROWS($J$34:P37)-1)*7+COLUMNS($J$34:P37))","v":"2018-11-24"},null,{"$f":"INDEX(m12_,1,(ROWS($R$34:R37)-1)*7+COLUMNS($R$34:R37))","v":"2018-12-16"},{"$f":"INDEX(m12_,1,(ROWS($R$34:S37)-1)*7+COLUMNS($R$34:S37))","v":"2018-12-17"},{"$f":"INDEX(m12_,1,(ROWS($R$34:T37)-1)*7+COLUMNS($R$34:T37))","v":"2018-12-18"},{"$f":"INDEX(m12_,1,(ROWS($R$34:U37)-1)*7+COLUMNS($R$34:U37))","v":"2018-12-19"},{"$f":"INDEX(m12_,1,(ROWS($R$34:V37)-1)*7+COLUMNS($R$34:V37))","v":"2018-12-20"},{"$f":"INDEX(m12_,1,(ROWS($R$34:W37)-1)*7+COLUMNS($R$34:W37))","v":"2018-12-21"},{"$f":"INDEX(m12_,1,(ROWS($R$34:X37)-1)*7+COLUMNS($R$34:X37))","v":"2018-12-22"}]
[null,{"$f":"INDEX(m10_,1,(ROWS($B$34:B38)-1)*7+COLUMNS($B$34:B38))","v":"2018-10-28"},{"$f":"INDEX(m10_,1,(ROWS($B$34:C38)-1)*7+COLUMNS($B$34:C38))","v":"2018-10-29"},{"$f":"INDEX(m10_,1,(ROWS($B$34:D38)-1)*7+COLUMNS($B$34:D38))","v":"2018-10-30"},{"$f":"INDEX(m10_,1,(ROWS($B$34:E38)-1)*7+COLUMNS($B$34:E38))","v":"2018-10-31"},{"$f":"INDEX(m10_,1,(ROWS($B$34:F38)-1)*7+COLUMNS($B$34:F38))","v":"2018-11-01"},{"$f":"INDEX(m10_,1,(ROWS($B$34:G38)-1)*7+COLUMNS($B$34:G38))","v":"2018-11-02"},{"$f":"INDEX(m10_,1,(ROWS($B$34:H38)-1)*7+COLUMNS($B$34:H38))","v":"2018-11-03"},null,{"$f":"INDEX(m11_,1,(ROWS($J$34:J38)-1)*7+COLUMNS($J$34:J38))","v":"2018-11-25"},{"$f":"INDEX(m11_,1,(ROWS($J$34:K38)-1)*7+COLUMNS($J$34:K38))","v":"2018-11-26"},{"$f":"INDEX(m11_,1,(ROWS($J$34:L38)-1)*7+COLUMNS($J$34:L38))","v":"2018-11-27"},{"$f":"INDEX(m11_,1,(ROWS($J$34:M38)-1)*7+COLUMNS($J$34:M38))","v":"2018-11-28"},{"$f":"INDEX(m11_,1,(ROWS($J$34:N38)-1)*7+COLUMNS($J$34:N38))","v":"2018-11-29"},{"$f":"INDEX(m11_,1,(ROWS($J$34:O38)-1)*7+COLUMNS($J$34:O38))","v":"2018-11-30"},{"$f":"INDEX(m11_,1,(ROWS($J$34:P38)-1)*7+COLUMNS($J$34:P38))","v":"2018-12-01"},null,{"$f":"INDEX(m12_,1,(ROWS($R$34:R38)-1)*7+COLUMNS($R$34:R38))","v":"2018-12-23"},{"$f":"INDEX(m12_,1,(ROWS($R$34:S38)-1)*7+COLUMNS($R$34:S38))","v":"2018-12-24"},{"$f":"INDEX(m12_,1,(ROWS($R$34:T38)-1)*7+COLUMNS($R$34:T38))","v":"2018-12-25"},{"$f":"INDEX(m12_,1,(ROWS($R$34:U38)-1)*7+COLUMNS($R$34:U38))","v":"2018-12-26"},{"$f":"INDEX(m12_,1,(ROWS($R$34:V38)-1)*7+COLUMNS($R$34:V38))","v":"2018-12-27"},{"$f":"INDEX(m12_,1,(ROWS($R$34:W38)-1)*7+COLUMNS($R$34:W38))","v":"2018-12-28"},{"$f":"INDEX(m12_,1,(ROWS($R$34:X38)-1)*7+COLUMNS($R$34:X38))","v":"2018-12-29"}]
[null,{"$f":"INDEX(m10_,1,(ROWS($B$34:B39)-1)*7+COLUMNS($B$34:B39))","v":"2018-11-04"},{"$f":"INDEX(m10_,1,(ROWS($B$34:C39)-1)*7+COLUMNS($B$34:C39))","v":"2018-11-05"},{"$f":"INDEX(m10_,1,(ROWS($B$34:D39)-1)*7+COLUMNS($B$34:D39))","v":"2018-11-06"},{"$f":"INDEX(m10_,1,(ROWS($B$34:E39)-1)*7+COLUMNS($B$34:E39))","v":"2018-11-07"},{"$f":"INDEX(m10_,1,(ROWS($B$34:F39)-1)*7+COLUMNS($B$34:F39))","v":"2018-11-08"},{"$f":"INDEX(m10_,1,(ROWS($B$34:G39)-1)*7+COLUMNS($B$34:G39))","v":"2018-11-09"},{"$f":"INDEX(m10_,1,(ROWS($B$34:H39)-1)*7+COLUMNS($B$34:H39))","v":"2018-11-10"},null,{"$f":"INDEX(m11_,1,(ROWS($J$34:J39)-1)*7+COLUMNS($J$34:J39))","v":"2018-12-02"},{"$f":"INDEX(m11_,1,(ROWS($J$34:K39)-1)*7+COLUMNS($J$34:K39))","v":"2018-12-03"},{"$f":"INDEX(m11_,1,(ROWS($J$34:L39)-1)*7+COLUMNS($J$34:L39))","v":"2018-12-04"},{"$f":"INDEX(m11_,1,(ROWS($J$34:M39)-1)*7+COLUMNS($J$34:M39))","v":"2018-12-05"},{"$f":"INDEX(m11_,1,(ROWS($J$34:N39)-1)*7+COLUMNS($J$34:N39))","v":"2018-12-06"},{"$f":"INDEX(m11_,1,(ROWS($J$34:O39)-1)*7+COLUMNS($J$34:O39))","v":"2018-12-07"},{"$f":"INDEX(m11_,1,(ROWS($J$34:P39)-1)*7+COLUMNS($J$34:P39))","v":"2018-12-08"},null,{"$f":"INDEX(m12_,1,(ROWS($R$34:R39)-1)*7+COLUMNS($R$34:R39))","v":"2018-12-30"},{"$f":"INDEX(m12_,1,(ROWS($R$34:S39)-1)*7+COLUMNS($R$34:S39))","v":"2018-12-31"},{"$f":"INDEX(m12_,1,(ROWS($R$34:T39)-1)*7+COLUMNS($R$34:T39))","v":"2019-01-01"},{"$f":"INDEX(m12_,1,(ROWS($R$34:U39)-1)*7+COLUMNS($R$34:U39))","v":"2019-01-02"},{"$f":"INDEX(m12_,1,(ROWS($R$34:V39)-1)*7+COLUMNS($R$34:V39))","v":"2019-01-03"},{"$f":"INDEX(m12_,1,(ROWS($R$34:W39)-1)*7+COLUMNS($R$34:W39))","v":"2019-01-04"},{"$f":"INDEX(m12_,1,(ROWS($R$34:X39)-1)*7+COLUMNS($R$34:X39))","v":"2019-01-05"}]