{"text_format":"1","workbook":"xlsx","n_sheets":3,"sheets":["Bingo","Tablero","Cartones"],"not_rendered":{"charts":0,"images":2,"macros":1,"external_links":0,"defined_names":37,"comments":0,"pivot_tables":0},"unopened":[],"bounds":{"document_bytes":16777216,"sheet_cells":100000,"rows_first":2000,"rows_last":500,"rows_between":2000,"halvings":0,"cell_chars":16384,"cell_head_chars":4096},"cells_cut":0,"cells_raw":0,"read":"whole","date_system":"1900"}

{"sheet":"Bingo","index":0,"n_rows":21,"n_cols":24,"rows_kept":21,"cut":false,"hidden":false,"merged":[[19,6,20,8],[15,10,16,10],[15,11,16,11],[15,12,16,12],[15,7,17,7],[15,9,16,9],[11,12,12,12],[11,13,12,13],[15,13,16,13],[13,10,14,10],[13,11,14,11],[13,12,14,12],[13,13,14,13],[11,11,12,11],[7,12,8,12],[7,13,8,13],[9,10,10,10],[9,11,10,11],[9,12,10,12],[9,13,10,13],[7,11,8,11],[7,9,8,9],[9,9,10,9],[11,9,12,9],[13,9,14,9],[7,10,8,10],[11,10,12,10]]}
[]
[null,null,null,null,null,null,null,null,null,null,null,null,null,null,null,"Bolos",null,"Figuras:",{"$f":"IF(FF=17,\"Apagon\",\"Letra\"&RIGHT(VLOOKUP(FF,Figuras,2,0),1))","v":"LetraO"}]
[null,null,null,null,null,null,null,null,null,"Hacer clic en la bola roja para"]
[null,null,null,null,null,null,null,null,null,"extraer una bolilla.",null,null,null,null,null,null,null,1,"Letra A"]
[null,1,16,31,46,61,null,null,null,null,null,null,null,null,null,null,null,2,"Letra C",{"$f":"SUM(IF(Bolo=Bolos,1))","v":76}]
[null,"B","I","N","G","O",null,null,null,"FIGURA:",null,null,9,null,null,null,null,3,"Letra E"]
[null,1,16,31,46,61,null,null,null,null,null,null,null,null,null,null,null,4,"Letra F",{"$f":"SUM(IF(B7=Bolos,1))","v":0},{"$f":"SUM(IF(C7=Bolos,1))","v":0},{"$f":"SUM(IF(D7=Bolos,1))","v":0},{"$f":"SUM(IF(E7=Bolos,1))","v":0},{"$f":"SUM(IF(F7=Bolos,1))","v":0}]
[null,2,17,32,47,62,null,{"$f":"IF(ISBLANK(H9),\"\",HLOOKUP(H9,B5:F6,2))","v":""},null,null,null,null,null,null,null,null,null,5,"Letra G",{"$f":"SUM(IF(B8=Bolos,1))","v":0},{"$f":"SUM(IF(C8=Bolos,1))","v":0},{"$f":"SUM(IF(D8=Bolos,1))","v":0},{"$f":"SUM(IF(E8=Bolos,1))","v":0},{"$f":"SUM(IF(F8=Bolos,1))","v":0}]
[null,3,18,33,48,63,null,null,null,null,null,null,null,null,null,null,null,6,"Letra H",{"$f":"SUM(IF(B9=Bolos,1))","v":0},{"$f":"SUM(IF(C9=Bolos,1))","v":0},{"$f":"SUM(IF(D9=Bolos,1))","v":0},{"$f":"SUM(IF(E9=Bolos,1))","v":0},{"$f":"SUM(IF(F9=Bolos,1))","v":0}]
[null,4,19,34,49,64,null,{"$f":"IF(COUNT(Bolos)=0,\"Z&Z\",H8&\"·\"&H9)","v":"Z&Z"},null,null,null,null,null,null,null,null,null,7,"Letra I",{"$f":"SUM(IF(B10=Bolos,1))","v":0},{"$f":"SUM(IF(C10=Bolos,1))","v":0},{"$f":"SUM(IF(D10=Bolos,1))","v":0},{"$f":"SUM(IF(E10=Bolos,1))","v":0},{"$f":"SUM(IF(F10=Bolos,1))","v":0}]
[null,5,20,35,50,65,null,null,null,null,null,null,null,null,null,null,null,8,"Letra L",{"$f":"SUM(IF(B11=Bolos,1))","v":0},{"$f":"SUM(IF(C11=Bolos,1))","v":0},{"$f":"SUM(IF(D11=Bolos,1))","v":0},{"$f":"SUM(IF(E11=Bolos,1))","v":0},{"$f":"SUM(IF(F11=Bolos,1))","v":0}]
[null,6,21,36,51,66,null,null,null,null,null,"Libre",null,null,null,null,null,9,"Letra O",{"$f":"SUM(IF(B12=Bolos,1))","v":0},{"$f":"SUM(IF(C12=Bolos,1))","v":0},{"$f":"SUM(IF(D12=Bolos,1))","v":0},{"$f":"SUM(IF(E12=Bolos,1))","v":0},{"$f":"SUM(IF(F12=Bolos,1))","v":0}]
[null,7,22,37,52,67,null,null,null,null,null,null,null,null,null,null,null,10,"Letra P",{"$f":"SUM(IF(B13=Bolos,1))","v":0},{"$f":"SUM(IF(C13=Bolos,1))","v":0},{"$f":"SUM(IF(D13=Bolos,1))","v":0},{"$f":"SUM(IF(E13=Bolos,1))","v":0},{"$f":"SUM(IF(F13=Bolos,1))","v":0}]
[null,8,23,38,53,68,null,null,null,null,null,null,null,null,null,null,null,11,"Letra S",{"$f":"SUM(IF(B14=Bolos,1))","v":0},{"$f":"SUM(IF(C14=Bolos,1))","v":0},{"$f":"SUM(IF(D14=Bolos,1))","v":0},{"$f":"SUM(IF(E14=Bolos,1))","v":0},{"$f":"SUM(IF(F14=Bolos,1))","v":0}]
[null,9,24,39,54,69,null,null,null,null,null,null,null,null,null,null,null,12,"Letra T",{"$f":"SUM(IF(B15=Bolos,1))","v":0},{"$f":"SUM(IF(C15=Bolos,1))","v":0},{"$f":"SUM(IF(D15=Bolos,1))","v":0},{"$f":"SUM(IF(E15=Bolos,1))","v":0},{"$f":"SUM(IF(F15=Bolos,1))","v":0}]
[null,10,25,40,55,70,null,{"$f":"COUNT(Bolos)","v":0},null,null,null,null,null,null,null,null,null,13,"Letra U",{"$f":"SUM(IF(B16=Bolos,1))","v":0},{"$f":"SUM(IF(C16=Bolos,1))","v":0},{"$f":"SUM(IF(D16=Bolos,1))","v":0},{"$f":"SUM(IF(E16=Bolos,1))","v":0},{"$f":"SUM(IF(F16=Bolos,1))","v":0}]
[null,11,26,41,56,71,null,null,null,null,null,null,null,null,null,null,null,14,"Letra W",{"$f":"SUM(IF(B17=Bolos,1))","v":0},{"$f":"SUM(IF(C17=Bolos,1))","v":0},{"$f":"SUM(IF(D17=Bolos,1))","v":0},{"$f":"SUM(IF(E17=Bolos,1))","v":0},{"$f":"SUM(IF(F17=Bolos,1))","v":0}]
[null,12,27,42,57,72,null,null,null,null,null,null,null,null,null,null,null,15,"Letra X",{"$f":"SUM(IF(B18=Bolos,1))","v":0},{"$f":"SUM(IF(C18=Bolos,1))","v":0},{"$f":"SUM(IF(D18=Bolos,1))","v":0},{"$f":"SUM(IF(E18=Bolos,1))","v":0},{"$f":"SUM(IF(F18=Bolos,1))","v":0}]
[null,13,28,43,58,73,null,null,null,null,null,null,null,null,null,null,null,16,"Letra Z",{"$f":"SUM(IF(B19=Bolos,1))","v":0},{"$f":"SUM(IF(C19=Bolos,1))","v":0},{"$f":"SUM(IF(D19=Bolos,1))","v":0},{"$f":"SUM(IF(E19=Bolos,1))","v":0},{"$f":"SUM(IF(F19=Bolos,1))","v":0}]
[null,14,29,44,59,74,"Bolos jugados",null,null,null,null,null,null,null,null,null,null,17,"Apagon",{"$f":"SUM(IF(B20=Bolos,1))","v":0},{"$f":"SUM(IF(C20=Bolos,1))","v":0},{"$f":"SUM(IF(D20=Bolos,1))","v":0},{"$f":"SUM(IF(E20=Bolos,1))","v":0},{"$f":"SUM(IF(F20=Bolos,1))","v":0}]
[null,15,30,45,60,75,null,null,null,null,null,null,null,null,null,null,null,null,null,{"$f":"SUM(IF(B21=Bolos,1))","v":0},{"$f":"SUM(IF(C21=Bolos,1))","v":0},{"$f":"SUM(IF(D21=Bolos,1))","v":0},{"$f":"SUM(IF(E21=Bolos,1))","v":0},{"$f":"SUM(IF(F21=Bolos,1))","v":0}]

{"sheet":"Tablero","index":1,"n_rows":20,"n_cols":17,"rows_kept":20,"cut":false,"hidden":false,"merged":[[15,11,17,11]]}
[]
[]
[null,"B",1,2,3,4,5,6,7,8,9,10,11,12,13,14,15]
[null,"I",16,17,18,19,20,21,22,23,24,25,26,27,28,29,30]
[null,"N",31,32,33,34,35,36,37,38,39,40,41,42,43,44,45]
[null,"G",46,47,48,49,50,51,52,53,54,55,56,57,58,59,60]
[null,"O",61,62,63,64,65,66,67,68,69,70,71,72,73,74,75]
[]
[]
[null,null,{"$f":"Bingo!T7","v":0},{"$f":"Bingo!T8","v":0},{"$f":"Bingo!T9","v":0},{"$f":"Bingo!T10","v":0},{"$f":"Bingo!T11","v":0},{"$f":"Bingo!T12","v":0},{"$f":"Bingo!T13","v":0},{"$f":"Bingo!T14","v":0},{"$f":"Bingo!T15","v":0},{"$f":"Bingo!T16","v":0},{"$f":"Bingo!T17","v":0},{"$f":"Bingo!T18","v":0},{"$f":"Bingo!T19","v":0},{"$f":"Bingo!T20","v":0},{"$f":"Bingo!T21","v":0}]
[null,null,{"$f":"Bingo!U7","v":0},{"$f":"Bingo!U8","v":0},{"$f":"Bingo!U9","v":0},{"$f":"Bingo!U10","v":0},{"$f":"Bingo!U11","v":0},{"$f":"Bingo!U12","v":0},{"$f":"Bingo!U13","v":0},{"$f":"Bingo!U14","v":0},{"$f":"Bingo!U15","v":0},{"$f":"Bingo!U16","v":0},{"$f":"Bingo!U17","v":0},{"$f":"Bingo!U18","v":0},{"$f":"Bingo!U19","v":0},{"$f":"Bingo!U20","v":0},{"$f":"Bingo!U21","v":0}]
[null,null,{"$f":"Bingo!V7","v":0},{"$f":"Bingo!V8","v":0},{"$f":"Bingo!V9","v":0},{"$f":"Bingo!V10","v":0},{"$f":"Bingo!V11","v":0},{"$f":"Bingo!V12","v":0},{"$f":"Bingo!V13","v":0},{"$f":"Bingo!V14","v":0},{"$f":"Bingo!V15","v":0},{"$f":"Bingo!V16","v":0},{"$f":"Bingo!V17","v":0},{"$f":"Bingo!V18","v":0},{"$f":"Bingo!V19","v":0},{"$f":"Bingo!V20","v":0},{"$f":"Bingo!V21","v":0}]
[null,null,{"$f":"Bingo!W7","v":0},{"$f":"Bingo!W8","v":0},{"$f":"Bingo!W9","v":0},{"$f":"Bingo!W10","v":0},{"$f":"Bingo!W11","v":0},{"$f":"Bingo!W12","v":0},{"$f":"Bingo!W13","v":0},{"$f":"Bingo!W14","v":0},{"$f":"Bingo!W15","v":0},{"$f":"Bingo!W16","v":0},{"$f":"Bingo!W17","v":0},{"$f":"Bingo!W18","v":0},{"$f":"Bingo!W19","v":0},{"$f":"Bingo!W20","v":0},{"$f":"Bingo!W21","v":0}]
[null,null,{"$f":"Bingo!X7","v":0},{"$f":"Bingo!X8","v":0},{"$f":"Bingo!X9","v":0},{"$f":"Bingo!X10","v":0},{"$f":"Bingo!X11","v":0},{"$f":"Bingo!X12","v":0},{"$f":"Bingo!X13","v":0},{"$f":"Bingo!X14","v":0},{"$f":"Bingo!X15","v":0},{"$f":"Bingo!X16","v":0},{"$f":"Bingo!X17","v":0},{"$f":"Bingo!X18","v":0},{"$f":"Bingo!X19","v":0},{"$f":"Bingo!X20","v":0},{"$f":"Bingo!X21","v":0}]
[]
[null,null,null,null,null,null,null,{"$f":"Bingo!H8","v":""},null,null,null,{"$f":"COUNT(Bolos)","v":0}]
[null,null,null,null,null,null,null,{"$f":"IF(ISBLANK(Bingo!H9),\"\",Bingo!H9)","v":""}]
[]
[]
[null,null,null,null,null,null,null,null,null,null,null,"Bolos jugados"]

{"sheet":"Cartones","index":2,"n_rows":26,"n_cols":24,"rows_kept":26,"cut":false,"hidden":false,"merged":[]}
[]
[null,null,null,null,null,null,null,null,null,null,null,null,null,null,null,null,null,{"$f":"SUM(IF(OR((R6=R7:R10),(R7=R8:R10),(R8=R9:R10),(R9=R10)),1))","v":1},{"$f":"SUM(IF(OR((S6=S7:S10),(S7=S8:S10),(S8=S9:S10),(S9=S10)),1))","v":0},{"$f":"SUM(IF(OR((T6=T7:T10),(T7=T8:T10),(T8=T9:T10),(T9=T10)),1))","v":1},{"$f":"SUM(IF(OR((U6=U7:U10),(U7=U8:U10),(U8=U9:U10),(U9=U10)),1))","v":0},{"$f":"SUM(IF(OR((V6=V7:V10),(V7=V8:V10),(V8=V9:V10),(V9=V10)),1))","v":1}]
[]
[null,null,null,null,null,null,null,null,null,null,null,null,null,null,null,null,null,null,null,null,null,{"$f":"SUM(Test)","v":3}]
[null,null,"B","I","N","G","O",null,null,null,"B","I","N","G","O"]
[null,null,1,20,32,46,64,null,null,null,1,16,32,47,64,null,null,{"$f":"INT(RAND()*15+1)","v":11},{"$f":"INT(RAND()*15+16)","v":28},{"$f":"INT(RAND()*15+31)","v":43},{"$f":"INT(RAND()*15+46)","v":54},{"$f":"INT(RAND()*15+61)","v":67},null,"Hacer clic en la bolita amarilla para"]
[null,null,4,23,34,47,65,null,null,null,6,20,35,49,67,null,null,{"$f":"INT(RAND()*15+1)","v":14},{"$f":"INT(RAND()*15+16)","v":23},{"$f":"INT(RAND()*15+31)","v":44},{"$f":"INT(RAND()*15+46)","v":48},{"$f":"INT(RAND()*15+61)","v":73},null,"generar nuevos cartones de juego"]
[null,null,8,25,"Libre",50,70,null,null,null,7,21,"Libre",53,69,null,null,{"$f":"INT(RAND()*15+1)","v":12},{"$f":"INT(RAND()*15+16)","v":29},"Libre",{"$f":"INT(RAND()*15+46)","v":56},{"$f":"INT(RAND()*15+61)","v":70},null,"y luego poder imprimirlos de 6 en 6."]
[null,null,12,26,39,53,71,null,null,null,11,26,36,59,72,null,null,{"$f":"INT(RAND()*15+1)","v":14},{"$f":"INT(RAND()*15+16)","v":16},{"$f":"INT(RAND()*15+31)","v":35},{"$f":"INT(RAND()*15+46)","v":58},{"$f":"INT(RAND()*15+61)","v":64}]
[null,null,13,29,43,58,72,null,null,null,14,27,45,60,75,null,null,{"$f":"INT(RAND()*15+1)","v":8},{"$f":"INT(RAND()*15+16)","v":27},{"$f":"INT(RAND()*15+31)","v":43},{"$f":"INT(RAND()*15+46)","v":50},{"$f":"INT(RAND()*15+61)","v":64}]
[]
[]
[null,null,"B","I","N","G","O",null,null,null,"B","I","N","G","O"]
[null,null,3,16,39,47,62,null,null,null,2,17,37,46,64,null,null,1,20,32,46,64]
[null,null,7,19,40,48,67,null,null,null,3,20,43,47,65,null,null,4,23,34,47,65]
[null,null,8,22,"Libre",52,69,null,null,null,10,21,"Libre",51,68,null,null,8,25,"Libre",50,70]
[null,null,10,24,43,58,72,null,null,null,12,23,44,57,73,null,null,12,26,39,53,71]
[null,null,11,26,44,59,75,null,null,null,14,29,45,58,74,null,null,13,29,43,58,72]
[]
[]
[null,null,"B","I","N","G","O",null,null,null,"B","I","N","G","O"]
[null,null,2,16,31,46,63,null,null,null,2,18,33,46,64]
[null,null,3,20,36,50,67,null,null,null,3,21,39,48,70]
[null,null,6,23,"Libre",51,72,null,null,null,7,26,"Libre",49,71]
[null,null,10,26,37,53,74,null,null,null,11,27,41,51,72]
[null,null,12,30,39,54,75,null,null,null,15,28,43,52,73]