{"text_format":"1","workbook":"xlsx","n_sheets":2,"sheets":["Partidos","Tabla"],"not_rendered":{"charts":0,"images":1,"macros":0,"external_links":0,"defined_names":7,"comments":2,"pivot_tables":0},"unopened":[],"bounds":{"document_bytes":16777216,"sheet_cells":100000,"rows_first":2000,"rows_last":500,"rows_between":2000,"halvings":0,"cell_chars":16384,"cell_head_chars":4096},"cells_cut":0,"cells_raw":0,"read":"whole","date_system":"1900"}

{"sheet":"Partidos","index":0,"n_rows":98,"n_cols":42,"rows_kept":98,"cut":false,"hidden":false,"merged":[[7,7,12,7],[7,10,12,10],[13,7,18,7],[13,10,18,10],[19,7,24,7],[19,10,24,10],[31,10,36,10],[37,10,42,10],[96,28,97,28],[37,7,42,7],[96,31,97,31],[57,28,72,28],[57,31,72,31],[91,28,92,28],[91,31,92,31],[75,28,82,28],[75,31,82,31],[85,28,88,28],[85,31,88,31],[60,6,60,11],[0,1,2,5],[4,1,4,2],[3,1,3,5],[99,6,100,11],[6,6,6,11],[91,6,91,11],[96,6,96,11],[25,7,30,7],[25,10,30,10],[43,7,48,7],[76,6,76,11],[43,10,48,10],[49,7,54,7],[49,10,54,10],[85,6,85,11],[31,7,36,7]]}
[null,"COPA MUNDIAL FIFA BRASIL 2014"]
[]
[]
[null,"Añada la diferencia horaria (hh: mm) entre Brasil y su ciudad",null,null,null,null,"Solo debes completar la diferencia horaria (celda C5)  y los goles de los partidos (celdas en rojo)"]
[null,"02:00:00",null,null,null,false]
[]
[null,"Partido","Fecha y Hora Local (Brasil)","FECHA","HORA","Sede","Groupo A"]
[null,1,"2014-06-12T17:00:00",{"$f":"C8+IF(rTimeDifIsItPositive,rTimeDifference,-rTimeDifference)","v":"2014-06-12T15:00:00"},{"$f":"C8+IF(rTimeDifIsItPositive=(1=1),rTimeDifference,-rTimeDifference)","v":41802.625},"Sao Paulo","Brasil",null,3,1,null,"Croacia",null,null,"Pos","EQUIPO","Pts.","PJ","G","E","P","GF","GC","D",null,null,"Pos","EQUIPO","Pts.","PJ","G","E","P","GF","GC","D",null,{"$f":"VLOOKUP(G8,equipo,2,FALSE)","v":{"$error":"#REF!"}},",",{"$f":"VLOOKUP(L8,equipo,2,FALSE)","v":{"$error":"#REF!"}},",",{"$f":"C8-rTimeDifference","v":"2014-06-12T15:00:00"}]
[null,2,"2014-06-13T13:00:00","2014-06-13T11:00:00",{"$f":"C9+IF(rTimeDifIsItPositive,rTimeDifference,-rTimeDifference)","v":41803.458333333328},"Natal","México",null,1,0,null,"Camerún",null,{"$f":"LARGE($Z$9:$Z$12,O9)","v":70507.015275004829},1,{"$f":"VLOOKUP($N9,$Z$9:$AJ$12,3,0)","v":"Brasil"},{"$f":"VLOOKUP($N9,$Z$9:$AJ$12,4,0)","v":7},{"$f":"VLOOKUP($N9,$Z$9:$AJ$12,5,0)","v":3},{"$f":"VLOOKUP($N9,$Z$9:$AJ$12,6,0)","v":2},{"$f":"VLOOKUP($N9,$Z$9:$AJ$12,7,0)","v":1},{"$f":"VLOOKUP($N9,$Z$9:$AJ$12,8,0)","v":0},{"$f":"VLOOKUP($N9,$Z$9:$AJ$12,9,0)","v":7},{"$f":"VLOOKUP($N9,$Z$9:$AJ$12,10,0)","v":2},{"$f":"VLOOKUP($N9,$Z$9:$AJ$12,11,0)","v":5},null,{"$f":"AC9*10000+AJ9*100+AH9+1/(CODE(LEFT(UPPER(AB9),1)))+1/(CODE(MID(UPPER(AB9),2,1))*100)+1/(CODE(MID(UPPER(AB9),3,1))*10000)","v":70507.015275004829},{"$f":"IF(SUM(AD$9:AD$12)<>12,\"\",(SUMPRODUCT(((1000*AC9+10*AJ9+AH9)< (1000*(AC$9:AC$12)+10*(AJ$9:AJ$12)+(AH$9:AH$12)))+0)+1))","v":1},"Brasil",{"$f":"(AE9*3+AF9*1)","v":7},{"$f":"SUM(AE9:AG9)","v":3},{"$f":"SUM((G$8:G$13=AB9)*(I$8:I$13<>\"\")*(J$8:J$13<>\"\")*(I$8:I$13>J$8:J$13),(L$8:L$13=AB9)*(I$8:I$13<>\"\")*(J$8:J$13<>\"\")*(I$8:I$13<J$8:J$13))","v":2},{"$f":"SUM((G$8:G$13=AB9)*(I$8:I$13<>\"\")*(I$8:I$13=J$8:J$13),(L$8:L$13=AB9)*(J$8:J$13<>\"\")*(I$8:I$13=J$8:J$13))","v":1},{"$f":"SUM((G$8:G$13=AB9)*(J$8:J$13<>\"\")*(I$8:I$13<>\"\")*(I$8:I$13<J$8:J$13),(I$8:I$13<>\"\")*(L$8:L$13=AB9)*(J$8:J$13<>\"\")*(I$8:I$13>J$8:J$13))","v":0},{"$f":"SUM((G$8:G$13=AB9)*(I$8:I$13)*(J$8:J$13<>\"\"),(L$8:L$13=AB9)*(J$8:J$13)*(I$8:I$13<>\"\"))","v":7},{"$f":"SUM((G$8:G$13=AB9)*(I$8:I$13<>\"\")*(J$8:J$13),(L$8:L$13=AB9)*(J$8:J$13<>\"\")*(I$8:I$13))","v":2},{"$f":"AH9-AI9","v":5},null,{"$error":"#REF!"},",",{"$error":"#REF!"},",","2014-06-13T11:00:00"]
[null,17,"2014-06-17T16:00:00","2014-06-17T14:00:00",{"$f":"C10+IF(rTimeDifIsItPositive,rTimeDifference,-rTimeDifference)","v":41807.583333333328},"Fortaleza","Brasil",null,0,0,null,"México",null,{"$f":"LARGE($Z$9:$Z$12,O10)","v":70304.013037900586},2,{"$f":"VLOOKUP($N10,$Z$9:$AJ$12,3,0)","v":"México"},{"$f":"VLOOKUP($N10,$Z$9:$AJ$12,4,0)","v":7},{"$f":"VLOOKUP($N10,$Z$9:$AJ$12,5,0)","v":3},{"$f":"VLOOKUP($N10,$Z$9:$AJ$12,6,0)","v":2},{"$f":"VLOOKUP($N10,$Z$9:$AJ$12,7,0)","v":1},{"$f":"VLOOKUP($N10,$Z$9:$AJ$12,8,0)","v":0},{"$f":"VLOOKUP($N10,$Z$9:$AJ$12,9,0)","v":4},{"$f":"VLOOKUP($N10,$Z$9:$AJ$12,10,0)","v":1},{"$f":"VLOOKUP($N10,$Z$9:$AJ$12,11,0)","v":3},null,{"$f":"AC10*10000+AJ10*100+AH10+1/(CODE(LEFT(UPPER(AB10),1)))+1/(CODE(MID(UPPER(AB10),2,1))*100)+1/(CODE(MID(UPPER(AB10),3,1))*10000)","v":30006.01504859018},{"$f":"IF(SUM(AD$9:AD$12)<>12,\"\",(SUMPRODUCT(((1000*AC10+10*AJ10+AH10)< (1000*(AC$9:AC$12)+10*(AJ$9:AJ$12)+(AH$9:AH$12)))+0)+1))","v":3},"Croacia",{"$f":"(AE10*3+AF10*1)","v":3},{"$f":"SUM(AE10:AG10)","v":3},{"$f":"SUM((G$8:G$13=AB10)*(I$8:I$13<>\"\")*(J$8:J$13<>\"\")*(I$8:I$13>J$8:J$13),(L$8:L$13=AB10)*(I$8:I$13<>\"\")*(J$8:J$13<>\"\")*(I$8:I$13<J$8:J$13))","v":1},{"$f":"SUM((G$8:G$13=AB10)*(I$8:I$13<>\"\")*(I$8:I$13=J$8:J$13),(L$8:L$13=AB10)*(J$8:J$13<>\"\")*(I$8:I$13=J$8:J$13))","v":0},{"$f":"SUM((G$8:G$13=AB10)*(J$8:J$13<>\"\")*(I$8:I$13<>\"\")*(I$8:I$13<J$8:J$13),(I$8:I$13<>\"\")*(L$8:L$13=AB10)*(J$8:J$13<>\"\")*(I$8:I$13>J$8:J$13))","v":2},{"$f":"SUM((G$8:G$13=AB10)*(I$8:I$13)*(J$8:J$13<>\"\"),(L$8:L$13=AB10)*(J$8:J$13)*(I$8:I$13<>\"\"))","v":6},{"$f":"SUM((G$8:G$13=AB10)*(I$8:I$13<>\"\")*(J$8:J$13),(L$8:L$13=AB10)*(J$8:J$13<>\"\")*(I$8:I$13))","v":6},{"$f":"AH10-AI10","v":0},null,{"$error":"#REF!"},",",{"$error":"#REF!"},",","2014-06-17T14:00:00"]
[null,18,"2014-06-18T19:00:00","2014-06-18T17:00:00",{"$f":"C11+IF(rTimeDifIsItPositive,rTimeDifference,-rTimeDifference)","v":41808.708333333328},"Manaus","Camerún",null,0,4,null,"Croacia",null,30006.01504859018,3,{"$f":"VLOOKUP($N11,$Z$9:$AJ$12,3,0)","v":"Croacia"},{"$f":"VLOOKUP($N11,$Z$9:$AJ$12,4,0)","v":3},{"$f":"VLOOKUP($N11,$Z$9:$AJ$12,5,0)","v":3},{"$f":"VLOOKUP($N11,$Z$9:$AJ$12,6,0)","v":1},{"$f":"VLOOKUP($N11,$Z$9:$AJ$12,7,0)","v":0},{"$f":"VLOOKUP($N11,$Z$9:$AJ$12,8,0)","v":2},{"$f":"VLOOKUP($N11,$Z$9:$AJ$12,9,0)","v":6},{"$f":"VLOOKUP($N11,$Z$9:$AJ$12,10,0)","v":6},{"$f":"VLOOKUP($N11,$Z$9:$AJ$12,11,0)","v":0},null,70304.013037900586,{"$f":"IF(SUM(AD$9:AD$12)<>12,\"\",(SUMPRODUCT(((1000*AC11+10*AJ11+AH11)< (1000*(AC$9:AC$12)+10*(AJ$9:AJ$12)+(AH$9:AH$12)))+0)+1))","v":2},"México",{"$f":"(AE11*3+AF11*1)","v":7},{"$f":"SUM(AE11:AG11)","v":3},{"$f":"SUM((G$8:G$13=AB11)*(I$8:I$13<>\"\")*(J$8:J$13<>\"\")*(I$8:I$13>J$8:J$13),(L$8:L$13=AB11)*(I$8:I$13<>\"\")*(J$8:J$13<>\"\")*(I$8:I$13<J$8:J$13))","v":2},{"$f":"SUM((G$8:G$13=AB11)*(I$8:I$13<>\"\")*(I$8:I$13=J$8:J$13),(L$8:L$13=AB11)*(J$8:J$13<>\"\")*(I$8:I$13=J$8:J$13))","v":1},{"$f":"SUM((G$8:G$13=AB11)*(J$8:J$13<>\"\")*(I$8:I$13<>\"\")*(I$8:I$13<J$8:J$13),(I$8:I$13<>\"\")*(L$8:L$13=AB11)*(J$8:J$13<>\"\")*(I$8:I$13>J$8:J$13))","v":0},{"$f":"SUM((G$8:G$13=AB11)*(I$8:I$13)*(J$8:J$13<>\"\"),(L$8:L$13=AB11)*(J$8:J$13)*(I$8:I$13<>\"\"))","v":4},{"$f":"SUM((G$8:G$13=AB11)*(I$8:I$13<>\"\")*(J$8:J$13),(L$8:L$13=AB11)*(J$8:J$13<>\"\")*(I$8:I$13))","v":1},{"$f":"AH11-AI11","v":3},null,{"$error":"#REF!"},",",{"$error":"#REF!"},",","2014-06-18T17:00:00"]
[null,33,"2014-06-23T17:00:00","2014-06-23T15:00:00",{"$f":"C12+IF(rTimeDifIsItPositive,rTimeDifference,-rTimeDifference)","v":41813.625},"Brasilia","Camerún",null,1,4,null,"Brasil",null,-798.98491948201058,4,{"$f":"VLOOKUP($N12,$Z$9:$AJ$12,3,0)","v":"Camerún"},{"$f":"VLOOKUP($N12,$Z$9:$AJ$12,4,0)","v":0},{"$f":"VLOOKUP($N12,$Z$9:$AJ$12,5,0)","v":3},{"$f":"VLOOKUP($N12,$Z$9:$AJ$12,6,0)","v":0},{"$f":"VLOOKUP($N12,$Z$9:$AJ$12,7,0)","v":0},{"$f":"VLOOKUP($N12,$Z$9:$AJ$12,8,0)","v":3},{"$f":"VLOOKUP($N12,$Z$9:$AJ$12,9,0)","v":1},{"$f":"VLOOKUP($N12,$Z$9:$AJ$12,10,0)","v":9},{"$f":"VLOOKUP($N12,$Z$9:$AJ$12,11,0)","v":-8},null,-798.98491948201058,{"$f":"IF(SUM(AD$9:AD$12)<>12,\"\",(SUMPRODUCT(((1000*AC12+10*AJ12+AH12)< (1000*(AC$9:AC$12)+10*(AJ$9:AJ$12)+(AH$9:AH$12)))+0)+1))","v":4},"Camerún",{"$f":"(AE12*3+AF12*1)","v":0},{"$f":"SUM(AE12:AG12)","v":3},{"$f":"SUM((G$8:G$13=AB12)*(I$8:I$13<>\"\")*(J$8:J$13<>\"\")*(I$8:I$13>J$8:J$13),(L$8:L$13=AB12)*(I$8:I$13<>\"\")*(J$8:J$13<>\"\")*(I$8:I$13<J$8:J$13))","v":0},{"$f":"SUM((G$8:G$13=AB12)*(I$8:I$13<>\"\")*(I$8:I$13=J$8:J$13),(L$8:L$13=AB12)*(J$8:J$13<>\"\")*(I$8:I$13=J$8:J$13))","v":0},{"$f":"SUM((G$8:G$13=AB12)*(J$8:J$13<>\"\")*(I$8:I$13<>\"\")*(I$8:I$13<J$8:J$13),(I$8:I$13<>\"\")*(L$8:L$13=AB12)*(J$8:J$13<>\"\")*(I$8:I$13>J$8:J$13))","v":3},{"$f":"SUM((G$8:G$13=AB12)*(I$8:I$13)*(J$8:J$13<>\"\"),(L$8:L$13=AB12)*(J$8:J$13)*(I$8:I$13<>\"\"))","v":1},{"$f":"SUM((G$8:G$13=AB12)*(I$8:I$13<>\"\")*(J$8:J$13),(L$8:L$13=AB12)*(J$8:J$13<>\"\")*(I$8:I$13))","v":9},{"$f":"AH12-AI12","v":-8},null,{"$error":"#REF!"},",",{"$error":"#REF!"},",","2014-06-23T15:00:00"]
[null,34,"2014-06-23T17:00:00","2014-06-23T15:00:00",{"$f":"C13+IF(rTimeDifIsItPositive,rTimeDifference,-rTimeDifference)","v":41813.625},"Recife","Croacia",null,1,3,null,"México",null,null,null,null,null,null,null,null,null,null,null,null,null,null,null,null,null,null,null,null,null,null,null,null,null,{"$error":"#REF!"},",",{"$error":"#REF!"},",","2014-06-23T15:00:00"]
[null,3,"2014-06-13T16:00:00",{"$f":"C14+IF(rTimeDifIsItPositive,rTimeDifference,-rTimeDifference)","v":"2014-06-13T14:00:00"},{"$f":"C14+IF(rTimeDifIsItPositive,rTimeDifference,-rTimeDifference)","v":41803.583333333328},"Salvador","España",null,1,5,null,"Holanda",null,null,"Pos","EQUIPO","Pts.","PJ","G","E","P","GF","GC","D",null,null,"Pos","EQUIPO","Pts.","PJ","G","E","P","GF","GC","D",null,{"$error":"#REF!"},",",{"$error":"#REF!"},",","2014-06-13T14:00:00"]
[null,4,"2014-06-13T18:00:00",{"$f":"C15+IF(rTimeDifIsItPositive,rTimeDifference,-rTimeDifference)","v":"2014-06-13T16:00:00"},41803.666666666664,"Cuiaba","Chile",null,3,1,null,"Australia",null,{"$f":"LARGE($Z$15:$Z$18,O15)","v":90710.014016786954},1,{"$f":"VLOOKUP($N15,$Z$15:$AJ$18,3,0)","v":"Holanda"},{"$f":"VLOOKUP($N15,$Z$15:$AJ$18,4,0)","v":9},{"$f":"VLOOKUP($N15,$Z$15:$AJ$18,5,0)","v":3},{"$f":"VLOOKUP($N15,$Z$15:$AJ$18,6,0)","v":3},{"$f":"VLOOKUP($N15,$Z$15:$AJ$18,7,0)","v":0},{"$f":"VLOOKUP($N15,$Z$15:$AJ$18,8,0)","v":0},{"$f":"VLOOKUP($N15,$Z$15:$AJ$18,9,0)","v":10},{"$f":"VLOOKUP($N15,$Z$15:$AJ$18,10,0)","v":3},{"$f":"VLOOKUP($N15,$Z$15:$AJ$18,11,0)","v":7},null,{"$f":"AC15*10000+AJ15*100+AH15+1/(CODE(LEFT(UPPER(AB15),1)))+1/(CODE(MID(UPPER(AB15),2,1))*100)+1/(CODE(MID(UPPER(AB15),3,1))*10000)","v":29704.01461448555},{"$f":"IF(SUM(AD$15:AD$18)<>12,\"\",(SUMPRODUCT(((1000*AC15+10*AJ15+AH15)< (1000*(AC$15:AC$18)+10*(AJ$15:AJ$18)+(AH$15:AH$18)))+0)+1))","v":3},"España",{"$f":"(AE15*3+AF15*1)","v":3},{"$f":"SUM(AE15:AG15)","v":3},{"$f":"SUM((G$14:G$19=AB15)*(I$14:I$19<>\"\")*(J$14:J$19<>\"\")*(I$14:I$19>J$14:J$19),(L$14:L$19=AB15)*(I$14:I$19<>\"\")*(J$14:J$19<>\"\")*(I$14:I$19<J$14:J$19))","v":1},{"$f":"SUM((G$14:G$19=AB15)*(I$14:I$19<>\"\")*(I$14:I$19=J$14:J$19),(L$14:L$19=AB15)*(J$14:J$19<>\"\")*(I$14:I$19=J$14:J$19))","v":0},{"$f":"SUM((G$14:G$19=AB15)*(J$14:J$19<>\"\")*(I$14:I$19<>\"\")*(I$14:I$19<J$14:J$19),(I$14:I$19<>\"\")*(L$14:L$19=AB15)*(J$14:J$19<>\"\")*(I$14:I$19>J$14:J$19))","v":2},{"$f":"SUM((G$14:G$19=AB15)*(I$14:I$19)*(J$14:J$19<>\"\"),(L$14:L$19=AB15)*(J$14:J$19)*(I$14:I$19<>\"\"))","v":4},{"$f":"SUM((G$14:G$19=AB15)*(I$14:I$19<>\"\")*(J$14:J$19),(L$14:L$19=AB15)*(J$14:J$19<>\"\")*(I$14:I$19))","v":7},{"$f":"AH15-AI15","v":-3},null,{"$error":"#REF!"},",",{"$error":"#REF!"},",","2014-06-13T16:00:00"]
[null,19,"2014-06-18T16:00:00","2014-06-18T14:00:00",41808.583333333328,"Rio de Janeiro","España",null,0,2,null,"Chile",null,{"$f":"LARGE($Z$15:$Z$18,O16)","v":60205.015065631895},2,{"$f":"VLOOKUP($N16,$Z$15:$AJ$18,3,0)","v":"Chile"},{"$f":"VLOOKUP($N16,$Z$15:$AJ$18,4,0)","v":6},{"$f":"VLOOKUP($N16,$Z$15:$AJ$18,5,0)","v":3},{"$f":"VLOOKUP($N16,$Z$15:$AJ$18,6,0)","v":2},{"$f":"VLOOKUP($N16,$Z$15:$AJ$18,7,0)","v":0},{"$f":"VLOOKUP($N16,$Z$15:$AJ$18,8,0)","v":1},{"$f":"VLOOKUP($N16,$Z$15:$AJ$18,9,0)","v":5},{"$f":"VLOOKUP($N16,$Z$15:$AJ$18,10,0)","v":3},{"$f":"VLOOKUP($N16,$Z$15:$AJ$18,11,0)","v":2},null,{"$f":"AC16*10000+AJ16*100+AH16+1/(CODE(LEFT(UPPER(AB16),1)))+1/(CODE(MID(UPPER(AB16),2,1))*100)+1/(CODE(MID(UPPER(AB16),3,1))*10000)","v":90710.014016786954},{"$f":"IF(SUM(AD$15:AD$18)<>12,\"\",(SUMPRODUCT(((1000*AC16+10*AJ16+AH16)< (1000*(AC$15:AC$18)+10*(AJ$15:AJ$18)+(AH$15:AH$18)))+0)+1))","v":1},"Holanda",{"$f":"(AE16*3+AF16*1)","v":9},{"$f":"SUM(AE16:AG16)","v":3},{"$f":"SUM((G$14:G$19=AB16)*(I$14:I$19<>\"\")*(J$14:J$19<>\"\")*(I$14:I$19>J$14:J$19),(L$14:L$19=AB16)*(I$14:I$19<>\"\")*(J$14:J$19<>\"\")*(I$14:I$19<J$14:J$19))","v":3},{"$f":"SUM((G$14:G$19=AB16)*(I$14:I$19<>\"\")*(I$14:I$19=J$14:J$19),(L$14:L$19=AB16)*(J$14:J$19<>\"\")*(I$14:I$19=J$14:J$19))","v":0},{"$f":"SUM((G$14:G$19=AB16)*(J$14:J$19<>\"\")*(I$14:I$19<>\"\")*(I$14:I$19<J$14:J$19),(I$14:I$19<>\"\")*(L$14:L$19=AB16)*(J$14:J$19<>\"\")*(I$14:I$19>J$14:J$19))","v":0},{"$f":"SUM((G$14:G$19=AB16)*(I$14:I$19)*(J$14:J$19<>\"\"),(L$14:L$19=AB16)*(J$14:J$19)*(I$14:I$19<>\"\"))","v":10},{"$f":"SUM((G$14:G$19=AB16)*(I$14:I$19<>\"\")*(J$14:J$19),(L$14:L$19=AB16)*(J$14:J$19<>\"\")*(I$14:I$19))","v":3},{"$f":"AH16-AI16","v":7},null,{"$error":"#REF!"},",",{"$error":"#REF!"},",","2014-06-18T14:00:00"]
[null,20,"2014-06-18T13:00:00","2014-06-18T11:00:00",41808.458333333328,"Porto Alegre","Australia",null,2,3,null,"Holanda",null,29704.01461448555,3,{"$f":"VLOOKUP($N17,$Z$15:$AJ$18,3,0)","v":"España"},3,3,1,0,2,4,7,-3,null,60205.015065631895,{"$f":"IF(SUM(AD$15:AD$18)<>12,\"\",(SUMPRODUCT(((1000*AC17+10*AJ17+AH17)< (1000*(AC$15:AC$18)+10*(AJ$15:AJ$18)+(AH$15:AH$18)))+0)+1))","v":2},"Chile",{"$f":"(AE17*3+AF17*1)","v":6},{"$f":"SUM(AE17:AG17)","v":3},{"$f":"SUM((G$14:G$19=AB17)*(I$14:I$19<>\"\")*(J$14:J$19<>\"\")*(I$14:I$19>J$14:J$19),(L$14:L$19=AB17)*(I$14:I$19<>\"\")*(J$14:J$19<>\"\")*(I$14:I$19<J$14:J$19))","v":2},{"$f":"SUM((G$14:G$19=AB17)*(I$14:I$19<>\"\")*(I$14:I$19=J$14:J$19),(L$14:L$19=AB17)*(J$14:J$19<>\"\")*(I$14:I$19=J$14:J$19))","v":0},{"$f":"SUM((G$14:G$19=AB17)*(J$14:J$19<>\"\")*(I$14:I$19<>\"\")*(I$14:I$19<J$14:J$19),(I$14:I$19<>\"\")*(L$14:L$19=AB17)*(J$14:J$19<>\"\")*(I$14:I$19>J$14:J$19))","v":1},{"$f":"SUM((G$14:G$19=AB17)*(I$14:I$19)*(J$14:J$19<>\"\"),(L$14:L$19=AB17)*(J$14:J$19)*(I$14:I$19<>\"\"))","v":5},{"$f":"SUM((G$14:G$19=AB17)*(I$14:I$19<>\"\")*(J$14:J$19),(L$14:L$19=AB17)*(J$14:J$19<>\"\")*(I$14:I$19))","v":3},{"$f":"AH17-AI17","v":2},null,{"$error":"#REF!"},",",{"$error":"#REF!"},",","2014-06-18T11:00:00"]
[null,35,"2014-06-23T13:00:00","2014-06-23T11:00:00",41813.458333333328,"Curitiba","Australia",null,0,3,null,"España",null,-596.98449653273735,4,{"$f":"VLOOKUP($N18,$Z$15:$AJ$18,3,0)","v":"Australia"},0,3,0,0,3,3,9,-6,null,-596.98449653273735,{"$f":"IF(SUM(AD$15:AD$18)<>12,\"\",(SUMPRODUCT(((1000*AC18+10*AJ18+AH18)< (1000*(AC$15:AC$18)+10*(AJ$15:AJ$18)+(AH$15:AH$18)))+0)+1))","v":4},"Australia",{"$f":"(AE18*3+AF18*1)","v":0},{"$f":"SUM(AE18:AG18)","v":3},{"$f":"SUM((G$14:G$19=AB18)*(I$14:I$19<>\"\")*(J$14:J$19<>\"\")*(I$14:I$19>J$14:J$19),(L$14:L$19=AB18)*(I$14:I$19<>\"\")*(J$14:J$19<>\"\")*(I$14:I$19<J$14:J$19))","v":0},{"$f":"SUM((G$14:G$19=AB18)*(I$14:I$19<>\"\")*(I$14:I$19=J$14:J$19),(L$14:L$19=AB18)*(J$14:J$19<>\"\")*(I$14:I$19=J$14:J$19))","v":0},{"$f":"SUM((G$14:G$19=AB18)*(J$14:J$19<>\"\")*(I$14:I$19<>\"\")*(I$14:I$19<J$14:J$19),(I$14:I$19<>\"\")*(L$14:L$19=AB18)*(J$14:J$19<>\"\")*(I$14:I$19>J$14:J$19))","v":3},{"$f":"SUM((G$14:G$19=AB18)*(I$14:I$19)*(J$14:J$19<>\"\"),(L$14:L$19=AB18)*(J$14:J$19)*(I$14:I$19<>\"\"))","v":3},{"$f":"SUM((G$14:G$19=AB18)*(I$14:I$19<>\"\")*(J$14:J$19),(L$14:L$19=AB18)*(J$14:J$19<>\"\")*(I$14:I$19))","v":9},{"$f":"AH18-AI18","v":-6},null,{"$error":"#REF!"},",",{"$error":"#REF!"},",","2014-06-23T11:00:00"]
[null,36,"2014-06-23T13:00:00","2014-06-23T11:00:00",41813.458333333328,"Sao Paulo","Holanda",null,2,0,null,"Chile",null,null,null,null,null,null,null,null,null,null,null,null,null,null,null,null,null,null,null,null,null,null,null,null,null,{"$error":"#REF!"},",",{"$error":"#REF!"},",","2014-06-23T11:00:00"]
[null,5,"2014-06-14T13:00:00",{"$f":"C20+IF(rTimeDifIsItPositive,rTimeDifference,-rTimeDifference)","v":"2014-06-14T11:00:00"},{"$f":"C20+IF(rTimeDifIsItPositive,rTimeDifference,-rTimeDifference)","v":41804.458333333328},"Belo Horizonte","Colombia",null,3,0,null,"Grecia",null,null,"Pos","EQUIPO","Pts.","PJ","G","E","P","GF","GC","D",null,null,"Pos","EQUIPO","Pts.","PJ","G","E","P","GF","GC","D",null,{"$error":"#REF!"},",",{"$error":"#REF!"},",","2014-06-14T11:00:00"]
[null,6,"2014-06-14T22:00:00","2014-06-14T20:00:00",41804.833333333328,"Recife","Costa de Marfil",null,2,1,null,"Japón",null,{"$f":"LARGE($Z$21:$Z$24,O21)","v":90709.0150532712},1,{"$f":"VLOOKUP($N21,$Z$21:$AJ$24,3,0)","v":"Colombia"},{"$f":"VLOOKUP($N21,$Z$21:$AJ$24,4,0)","v":9},{"$f":"VLOOKUP($N21,$Z$21:$AJ$24,5,0)","v":3},{"$f":"VLOOKUP($N21,$Z$21:$AJ$24,6,0)","v":3},{"$f":"VLOOKUP($N21,$Z$21:$AJ$24,7,0)","v":0},{"$f":"VLOOKUP($N21,$Z$21:$AJ$24,8,0)","v":0},{"$f":"VLOOKUP($N21,$Z$21:$AJ$24,9,0)","v":9},{"$f":"VLOOKUP($N21,$Z$21:$AJ$24,10,0)","v":2},{"$f":"VLOOKUP($N21,$Z$21:$AJ$24,11,0)","v":7},null,{"$f":"AC21*10000+AJ21*100+AH21+1/(CODE(LEFT(UPPER(AB21),1)))+1/(CODE(MID(UPPER(AB21),2,1))*100)+1/(CODE(MID(UPPER(AB21),3,1))*10000)","v":90709.0150532712},{"$f":"IF(SUM(AD$21:AD$24)<>12,\"\",(SUMPRODUCT(((1000*AC21+10*AJ21+AH21)< (1000*(AC$21:AC$24)+10*(AJ$21:AJ$24)+(AH$21:AH$24)))+0)+1))","v":1},"Colombia",{"$f":"(AE21*3+AF21*1)","v":9},{"$f":"SUM(AE21:AG21)","v":3},{"$f":"SUM((G$20:G$25=AB21)*(I$20:I$25<>\"\")*(J$20:J$25<>\"\")*(I$20:I$25>J$20:J$25),(L$20:L$25=AB21)*(I$20:I$25<>\"\")*(J$20:J$25<>\"\")*(I$20:I$25<J$20:J$25))","v":3},{"$f":"SUM((G$20:G$25=AB21)*(I$20:I$25<>\"\")*(I$20:I$25=J$20:J$25),(L$20:L$25=AB21)*(J$20:J$25<>\"\")*(I$20:I$25=J$20:J$25))","v":0},{"$f":"SUM((G$20:G$25=AB21)*(J$20:J$25<>\"\")*(I$20:I$25<>\"\")*(I$20:I$25<J$20:J$25),(I$20:I$25<>\"\")*(L$20:L$25=AB21)*(J$20:J$25<>\"\")*(I$20:I$25>J$20:J$25))","v":0},{"$f":"SUM((G$20:G$25=AB21)*(I$20:I$25)*(J$20:J$25<>\"\"),(L$20:L$25=AB21)*(J$20:J$25)*(I$20:I$25<>\"\"))","v":9},{"$f":"SUM((G$20:G$25=AB21)*(I$20:I$25<>\"\")*(J$20:J$25),(L$20:L$25=AB21)*(J$20:J$25<>\"\")*(I$20:I$25))","v":2},{"$f":"AH21-AI21","v":7},null,{"$error":"#REF!"},",",{"$error":"#REF!"},",","2014-06-14T20:00:00"]
[null,21,"2014-06-19T13:00:00","2014-06-19T11:00:00",41809.458333333328,"Brasilia","Colombia",null,2,1,null,"Costa de Marfil",null,{"$f":"LARGE($Z$21:$Z$24,O22)","v":39802.014207907538},2,{"$f":"VLOOKUP($N22,$Z$21:$AJ$24,3,0)","v":"Grecia"},{"$f":"VLOOKUP($N22,$Z$21:$AJ$24,4,0)","v":4},{"$f":"VLOOKUP($N22,$Z$21:$AJ$24,5,0)","v":3},{"$f":"VLOOKUP($N22,$Z$21:$AJ$24,6,0)","v":1},{"$f":"VLOOKUP($N22,$Z$21:$AJ$24,7,0)","v":1},{"$f":"VLOOKUP($N22,$Z$21:$AJ$24,8,0)","v":1},{"$f":"VLOOKUP($N22,$Z$21:$AJ$24,9,0)","v":2},{"$f":"VLOOKUP($N22,$Z$21:$AJ$24,10,0)","v":4},{"$f":"VLOOKUP($N22,$Z$21:$AJ$24,11,0)","v":-2},null,{"$f":"AC22*10000+AJ22*100+AH22+1/(CODE(LEFT(UPPER(AB22),1)))+1/(CODE(MID(UPPER(AB22),2,1))*100)+1/(CODE(MID(UPPER(AB22),3,1))*10000)","v":39802.014207907538},{"$f":"IF(SUM(AD$21:AD$24)<>12,\"\",(SUMPRODUCT(((1000*AC22+10*AJ22+AH22)< (1000*(AC$21:AC$24)+10*(AJ$21:AJ$24)+(AH$21:AH$24)))+0)+1))","v":2},"Grecia",{"$f":"(AE22*3+AF22*1)","v":4},{"$f":"SUM(AE22:AG22)","v":3},{"$f":"SUM((G$20:G$25=AB22)*(I$20:I$25<>\"\")*(J$20:J$25<>\"\")*(I$20:I$25>J$20:J$25),(L$20:L$25=AB22)*(I$20:I$25<>\"\")*(J$20:J$25<>\"\")*(I$20:I$25<J$20:J$25))","v":1},{"$f":"SUM((G$20:G$25=AB22)*(I$20:I$25<>\"\")*(I$20:I$25=J$20:J$25),(L$20:L$25=AB22)*(J$20:J$25<>\"\")*(I$20:I$25=J$20:J$25))","v":1},{"$f":"SUM((G$20:G$25=AB22)*(J$20:J$25<>\"\")*(I$20:I$25<>\"\")*(I$20:I$25<J$20:J$25),(I$20:I$25<>\"\")*(L$20:L$25=AB22)*(J$20:J$25<>\"\")*(I$20:I$25>J$20:J$25))","v":1},{"$f":"SUM((G$20:G$25=AB22)*(I$20:I$25)*(J$20:J$25<>\"\"),(L$20:L$25=AB22)*(J$20:J$25)*(I$20:I$25<>\"\"))","v":2},{"$f":"SUM((G$20:G$25=AB22)*(I$20:I$25<>\"\")*(J$20:J$25),(L$20:L$25=AB22)*(J$20:J$25<>\"\")*(I$20:I$25))","v":4},{"$f":"AH22-AI22","v":-2},null,{"$error":"#REF!"},",",{"$error":"#REF!"},",","2014-06-19T11:00:00"]
[null,22,"2014-06-19T19:00:00","2014-06-19T17:00:00",41809.708333333328,"Natal","Japón",null,0,0,null,"Grecia",null,29904.015053160234,3,{"$f":"VLOOKUP($N23,$Z$21:$AJ$24,3,0)","v":"Costa de Marfil"},{"$f":"VLOOKUP($N23,$Z$21:$AJ$24,4,0)","v":3},{"$f":"VLOOKUP($N23,$Z$21:$AJ$24,5,0)","v":3},{"$f":"VLOOKUP($N23,$Z$21:$AJ$24,6,0)","v":1},{"$f":"VLOOKUP($N23,$Z$21:$AJ$24,7,0)","v":0},{"$f":"VLOOKUP($N23,$Z$21:$AJ$24,8,0)","v":2},{"$f":"VLOOKUP($N23,$Z$21:$AJ$24,9,0)","v":4},{"$f":"VLOOKUP($N23,$Z$21:$AJ$24,10,0)","v":5},{"$f":"VLOOKUP($N23,$Z$21:$AJ$24,11,0)","v":-1},null,29904.015053160234,{"$f":"IF(SUM(AD$21:AD$24)<>12,\"\",(SUMPRODUCT(((1000*AC23+10*AJ23+AH23)< (1000*(AC$21:AC$24)+10*(AJ$21:AJ$24)+(AH$21:AH$24)))+0)+1))","v":3},"Costa de Marfil",{"$f":"(AE23*3+AF23*1)","v":3},{"$f":"SUM(AE23:AG23)","v":3},{"$f":"SUM((G$20:G$25=AB23)*(I$20:I$25<>\"\")*(J$20:J$25<>\"\")*(I$20:I$25>J$20:J$25),(L$20:L$25=AB23)*(I$20:I$25<>\"\")*(J$20:J$25<>\"\")*(I$20:I$25<J$20:J$25))","v":1},{"$f":"SUM((G$20:G$25=AB23)*(I$20:I$25<>\"\")*(I$20:I$25=J$20:J$25),(L$20:L$25=AB23)*(J$20:J$25<>\"\")*(I$20:I$25=J$20:J$25))","v":0},{"$f":"SUM((G$20:G$25=AB23)*(J$20:J$25<>\"\")*(I$20:I$25<>\"\")*(I$20:I$25<J$20:J$25),(I$20:I$25<>\"\")*(L$20:L$25=AB23)*(J$20:J$25<>\"\")*(I$20:I$25>J$20:J$25))","v":2},{"$f":"SUM((G$20:G$25=AB23)*(I$20:I$25)*(J$20:J$25<>\"\"),(L$20:L$25=AB23)*(J$20:J$25)*(I$20:I$25<>\"\"))","v":4},{"$f":"SUM((G$20:G$25=AB23)*(I$20:I$25<>\"\")*(J$20:J$25),(L$20:L$25=AB23)*(J$20:J$25<>\"\")*(I$20:I$25))","v":5},{"$f":"AH23-AI23","v":-1},null,{"$error":"#REF!"},",",{"$error":"#REF!"},",","2014-06-19T17:00:00"]
[null,37,"2014-06-24T16:00:00","2014-06-24T14:00:00",41814.583333333328,"Cuiaba","Japón",null,1,4,null,"Colombia",null,9602.0136686096685,4,{"$f":"VLOOKUP($N24,$Z$21:$AJ$24,3,0)","v":"Japón"},{"$f":"VLOOKUP($N24,$Z$21:$AJ$24,4,0)","v":1},{"$f":"VLOOKUP($N24,$Z$21:$AJ$24,5,0)","v":3},{"$f":"VLOOKUP($N24,$Z$21:$AJ$24,6,0)","v":0},{"$f":"VLOOKUP($N24,$Z$21:$AJ$24,7,0)","v":1},{"$f":"VLOOKUP($N24,$Z$21:$AJ$24,8,0)","v":2},{"$f":"VLOOKUP($N24,$Z$21:$AJ$24,9,0)","v":2},{"$f":"VLOOKUP($N24,$Z$21:$AJ$24,10,0)","v":6},{"$f":"VLOOKUP($N24,$Z$21:$AJ$24,11,0)","v":-4},null,9602.0136686096685,{"$f":"IF(SUM(AD$21:AD$24)<>12,\"\",(SUMPRODUCT(((1000*AC24+10*AJ24+AH24)< (1000*(AC$21:AC$24)+10*(AJ$21:AJ$24)+(AH$21:AH$24)))+0)+1))","v":4},"Japón",{"$f":"(AE24*3+AF24*1)","v":1},{"$f":"SUM(AE24:AG24)","v":3},{"$f":"SUM((G$20:G$25=AB24)*(I$20:I$25<>\"\")*(J$20:J$25<>\"\")*(I$20:I$25>J$20:J$25),(L$20:L$25=AB24)*(I$20:I$25<>\"\")*(J$20:J$25<>\"\")*(I$20:I$25<J$20:J$25))","v":0},{"$f":"SUM((G$20:G$25=AB24)*(I$20:I$25<>\"\")*(I$20:I$25=J$20:J$25),(L$20:L$25=AB24)*(J$20:J$25<>\"\")*(I$20:I$25=J$20:J$25))","v":1},{"$f":"SUM((G$20:G$25=AB24)*(J$20:J$25<>\"\")*(I$20:I$25<>\"\")*(I$20:I$25<J$20:J$25),(I$20:I$25<>\"\")*(L$20:L$25=AB24)*(J$20:J$25<>\"\")*(I$20:I$25>J$20:J$25))","v":2},{"$f":"SUM((G$20:G$25=AB24)*(I$20:I$25)*(J$20:J$25<>\"\"),(L$20:L$25=AB24)*(J$20:J$25)*(I$20:I$25<>\"\"))","v":2},{"$f":"SUM((G$20:G$25=AB24)*(I$20:I$25<>\"\")*(J$20:J$25),(L$20:L$25=AB24)*(J$20:J$25<>\"\")*(I$20:I$25))","v":6},{"$f":"AH24-AI24","v":-4},null,{"$error":"#REF!"},",",{"$error":"#REF!"},",","2014-06-24T14:00:00"]
[null,38,"2014-06-24T17:00:00","2014-06-24T15:00:00",41814.625,"Fortaleza","Grecia",null,2,1,null,"Costa de Marfil",null,null,null,null,null,null,null,null,null,null,null,null,null,null,null,null,null,null,null,null,null,null,null,null,null,{"$error":"#REF!"},",",{"$error":"#REF!"},",","2014-06-24T15:00:00"]
[null,7,"2014-06-14T16:00:00",{"$f":"C26+IF(rTimeDifIsItPositive,rTimeDifference,-rTimeDifference)","v":"2014-06-14T14:00:00"},{"$f":"C26+IF(rTimeDifIsItPositive,rTimeDifference,-rTimeDifference)","v":41804.583333333328},"Fortaleza","Uruguay",null,1,3,null,"Costa Rica",null,null,"Pos","EQUIPO","Pts.","PJ","G","E","P","GF","GC","D",null,null,"Pos","EQUIPO","Pts.","PJ","G","E","P","GF","GC","D",null,{"$error":"#REF!"},",",{"$error":"#REF!"},",","2014-06-14T14:00:00"]
[null,8,"2014-06-14T18:00:00","2014-06-14T16:00:00",41804.666666666664,"Manaus","Inglaterra",null,1,2,null,"Italia",null,{"$f":"LARGE($Z$27:$Z$30,O27)","v":70304.015053160241},1,{"$f":"VLOOKUP($N27,$Z$27:$AJ$30,3,0)","v":"Costa Rica"},{"$f":"VLOOKUP($N27,$Z$27:$AJ$30,4,0)","v":7},{"$f":"VLOOKUP($N27,$Z$27:$AJ$30,5,0)","v":3},{"$f":"VLOOKUP($N27,$Z$27:$AJ$30,6,0)","v":2},{"$f":"VLOOKUP($N27,$Z$27:$AJ$30,7,0)","v":1},{"$f":"VLOOKUP($N27,$Z$27:$AJ$30,8,0)","v":0},{"$f":"VLOOKUP($N27,$Z$27:$AJ$30,9,0)","v":4},{"$f":"VLOOKUP($N27,$Z$27:$AJ$30,10,0)","v":1},{"$f":"VLOOKUP($N27,$Z$27:$AJ$30,11,0)","v":3},null,{"$f":"AC27*10000+AJ27*100+AH27+1/(CODE(LEFT(UPPER(AB27),1)))+1/(CODE(MID(UPPER(AB27),2,1))*100)+1/(CODE(MID(UPPER(AB27),3,1))*10000)","v":60004.011887833571},{"$f":"IF(SUM(AD$27:AD$30)<>12,\"\",(SUMPRODUCT(((1000*AC27+10*AJ27+AH27)< (1000*(AC$27:AC$30)+10*(AJ$27:AJ$30)+(AH$27:AH$30)))+0)+1))","v":2},"Uruguay",{"$f":"(AE27*3+AF27*1)","v":6},{"$f":"SUM(AE27:AG27)","v":3},{"$f":"SUM((G$26:G$31=AB27)*(I$26:I$31<>\"\")*(J$26:J$31<>\"\")*(I$26:I$31>J$26:J$31),(L$26:L$31=AB27)*(I$26:I$31<>\"\")*(J$26:J$31<>\"\")*(I$26:I$31<J$26:J$31))","v":2},{"$f":"SUM((G$26:G$31=AB27)*(I$26:I$31<>\"\")*(I$26:I$31=J$26:J$31),(L$26:L$31=AB27)*(J$26:J$31<>\"\")*(I$26:I$31=J$26:J$31))","v":0},{"$f":"SUM((G$26:G$31=AB27)*(J$26:J$31<>\"\")*(I$26:I$31<>\"\")*(I$26:I$31<J$26:J$31),(I$26:I$31<>\"\")*(L$26:L$31=AB27)*(J$26:J$31<>\"\")*(I$26:I$31>J$26:J$31))","v":1},{"$f":"SUM((G$26:G$31=AB27)*(I$26:I$31)*(J$26:J$31<>\"\"),(L$26:L$31=AB27)*(J$26:J$31)*(I$26:I$31<>\"\"))","v":4},{"$f":"SUM((G$26:G$31=AB27)*(I$26:I$31<>\"\")*(J$26:J$31),(L$26:L$31=AB27)*(J$26:J$31<>\"\")*(I$26:I$31))","v":4},{"$f":"AH27-AI27","v":0},null,{"$error":"#REF!"},",",{"$error":"#REF!"},",","2014-06-14T16:00:00"]
[null,23,"2014-06-19T16:00:00","2014-06-19T14:00:00",41809.583333333328,"Sao Paulo","Uruguay",null,2,1,null,"Inglaterra",null,{"$f":"LARGE($Z$27:$Z$30,O28)","v":60004.011887833571},2,{"$f":"VLOOKUP($N28,$Z$27:$AJ$30,3,0)","v":"Uruguay"},{"$f":"VLOOKUP($N28,$Z$27:$AJ$30,4,0)","v":6},{"$f":"VLOOKUP($N28,$Z$27:$AJ$30,5,0)","v":3},{"$f":"VLOOKUP($N28,$Z$27:$AJ$30,6,0)","v":2},{"$f":"VLOOKUP($N28,$Z$27:$AJ$30,7,0)","v":0},{"$f":"VLOOKUP($N28,$Z$27:$AJ$30,8,0)","v":1},{"$f":"VLOOKUP($N28,$Z$27:$AJ$30,9,0)","v":4},{"$f":"VLOOKUP($N28,$Z$27:$AJ$30,10,0)","v":4},{"$f":"VLOOKUP($N28,$Z$27:$AJ$30,11,0)","v":0},null,{"$f":"AC28*10000+AJ28*100+AH28+1/(CODE(LEFT(UPPER(AB28),1)))+1/(CODE(MID(UPPER(AB28),2,1))*100)+1/(CODE(MID(UPPER(AB28),3,1))*10000)","v":70304.015053160241},{"$f":"IF(SUM(AD$27:AD$30)<>12,\"\",(SUMPRODUCT(((1000*AC28+10*AJ28+AH28)< (1000*(AC$27:AC$30)+10*(AJ$27:AJ$30)+(AH$27:AH$30)))+0)+1))","v":1},"Costa Rica",{"$f":"(AE28*3+AF28*1)","v":7},{"$f":"SUM(AE28:AG28)","v":3},{"$f":"SUM((G$26:G$31=AB28)*(I$26:I$31<>\"\")*(J$26:J$31<>\"\")*(I$26:I$31>J$26:J$31),(L$26:L$31=AB28)*(I$26:I$31<>\"\")*(J$26:J$31<>\"\")*(I$26:I$31<J$26:J$31))","v":2},{"$f":"SUM((G$26:G$31=AB28)*(I$26:I$31<>\"\")*(I$26:I$31=J$26:J$31),(L$26:L$31=AB28)*(J$26:J$31<>\"\")*(I$26:I$31=J$26:J$31))","v":1},{"$f":"SUM((G$26:G$31=AB28)*(J$26:J$31<>\"\")*(I$26:I$31<>\"\")*(I$26:I$31<J$26:J$31),(I$26:I$31<>\"\")*(L$26:L$31=AB28)*(J$26:J$31<>\"\")*(I$26:I$31>J$26:J$31))","v":0},{"$f":"SUM((G$26:G$31=AB28)*(I$26:I$31)*(J$26:J$31<>\"\"),(L$26:L$31=AB28)*(J$26:J$31)*(I$26:I$31<>\"\"))","v":4},{"$f":"SUM((G$26:G$31=AB28)*(I$26:I$31<>\"\")*(J$26:J$31),(L$26:L$31=AB28)*(J$26:J$31<>\"\")*(I$26:I$31))","v":1},{"$f":"AH28-AI28","v":3},null,{"$error":"#REF!"},",",{"$error":"#REF!"},",","2014-06-19T14:00:00"]
[null,24,"2014-06-20T13:00:00","2014-06-20T11:00:00",41810.458333333328,"Recife","Italia",null,0,1,null,"Costa Rica",null,{"$f":"LARGE($Z$27:$Z$30,O29)","v":29902.013819216216},3,"Italia",3,3,1,0,2,2,3,-1,null,9802.0138282437165,{"$f":"IF(SUM(AD$27:AD$30)<>12,\"\",(SUMPRODUCT(((1000*AC29+10*AJ29+AH29)< (1000*(AC$27:AC$30)+10*(AJ$27:AJ$30)+(AH$27:AH$30)))+0)+1))","v":4},"Inglaterra",{"$f":"(AE29*3+AF29*1)","v":1},{"$f":"SUM(AE29:AG29)","v":3},{"$f":"SUM((G$26:G$31=AB29)*(I$26:I$31<>\"\")*(J$26:J$31<>\"\")*(I$26:I$31>J$26:J$31),(L$26:L$31=AB29)*(I$26:I$31<>\"\")*(J$26:J$31<>\"\")*(I$26:I$31<J$26:J$31))","v":0},{"$f":"SUM((G$26:G$31=AB29)*(I$26:I$31<>\"\")*(I$26:I$31=J$26:J$31),(L$26:L$31=AB29)*(J$26:J$31<>\"\")*(I$26:I$31=J$26:J$31))","v":1},{"$f":"SUM((G$26:G$31=AB29)*(J$26:J$31<>\"\")*(I$26:I$31<>\"\")*(I$26:I$31<J$26:J$31),(I$26:I$31<>\"\")*(L$26:L$31=AB29)*(J$26:J$31<>\"\")*(I$26:I$31>J$26:J$31))","v":2},{"$f":"SUM((G$26:G$31=AB29)*(I$26:I$31)*(J$26:J$31<>\"\"),(L$26:L$31=AB29)*(J$26:J$31)*(I$26:I$31<>\"\"))","v":2},{"$f":"SUM((G$26:G$31=AB29)*(I$26:I$31<>\"\")*(J$26:J$31),(L$26:L$31=AB29)*(J$26:J$31<>\"\")*(I$26:I$31))","v":4},{"$f":"AH29-AI29","v":-2},null,{"$error":"#REF!"},",",{"$error":"#REF!"},",","2014-06-20T11:00:00"]
[null,39,"2014-06-24T13:00:00","2014-06-24T11:00:00",41814.458333333328,"Natal","Italia",null,0,1,null,"Uruguay",null,{"$f":"LARGE($Z$27:$Z$30,O30)","v":9802.0138282437165},4,"Inglaterra",1,3,0,1,2,2,4,-2,null,29902.013819216216,{"$f":"IF(SUM(AD$27:AD$30)<>12,\"\",(SUMPRODUCT(((1000*AC30+10*AJ30+AH30)< (1000*(AC$27:AC$30)+10*(AJ$27:AJ$30)+(AH$27:AH$30)))+0)+1))","v":3},"Italia",{"$f":"(AE30*3+AF30*1)","v":3},{"$f":"SUM(AE30:AG30)","v":3},{"$f":"SUM((G$26:G$31=AB30)*(I$26:I$31<>\"\")*(J$26:J$31<>\"\")*(I$26:I$31>J$26:J$31),(L$26:L$31=AB30)*(I$26:I$31<>\"\")*(J$26:J$31<>\"\")*(I$26:I$31<J$26:J$31))","v":1},{"$f":"SUM((G$26:G$31=AB30)*(I$26:I$31<>\"\")*(I$26:I$31=J$26:J$31),(L$26:L$31=AB30)*(J$26:J$31<>\"\")*(I$26:I$31=J$26:J$31))","v":0},{"$f":"SUM((G$26:G$31=AB30)*(J$26:J$31<>\"\")*(I$26:I$31<>\"\")*(I$26:I$31<J$26:J$31),(I$26:I$31<>\"\")*(L$26:L$31=AB30)*(J$26:J$31<>\"\")*(I$26:I$31>J$26:J$31))","v":2},{"$f":"SUM((G$26:G$31=AB30)*(I$26:I$31)*(J$26:J$31<>\"\"),(L$26:L$31=AB30)*(J$26:J$31)*(I$26:I$31<>\"\"))","v":2},{"$f":"SUM((G$26:G$31=AB30)*(I$26:I$31<>\"\")*(J$26:J$31),(L$26:L$31=AB30)*(J$26:J$31<>\"\")*(I$26:I$31))","v":3},{"$f":"AH30-AI30","v":-1},null,{"$error":"#REF!"},",",{"$error":"#REF!"},",","2014-06-24T11:00:00"]
[null,40,"2014-06-24T13:00:00","2014-06-24T11:00:00",41814.458333333328,"Belo Horizonte","Costa Rica",null,0,0,null,"Inglaterra",null,null,null,null,null,null,null,null,null,null,null,null,null,null,null,null,null,null,null,null,null,null,null,null,null,{"$error":"#REF!"},",",{"$error":"#REF!"},",","2014-06-24T11:00:00"]
[null,9,"2014-06-15T13:00:00",{"$f":"C32+IF(rTimeDifIsItPositive,rTimeDifference,-rTimeDifference)","v":"2014-06-15T11:00:00"},{"$f":"C32+IF(rTimeDifIsItPositive,rTimeDifference,-rTimeDifference)","v":41805.458333333328},"Brasilia","Suiza",null,2,1,null,"Ecuador",null,null,"Pos","EQUIPO","Pts.","PJ","G","E","P","GF","GC","D",null,null,"Pos","EQUIPO","Pts.","PJ","G","E","P","GF","GC","D",null,{"$error":"#REF!"},",",{"$error":"#REF!"},",","2014-06-15T11:00:00"]
[null,10,"2014-06-15T16:00:00","2014-06-15T14:00:00",41805.583333333328,"Porto Alegre","Francia",null,3,0,null,"Honduras",null,{"$f":"LARGE($Z$33:$Z$36,O33)","v":70608.01440920397},1,{"$f":"VLOOKUP($N33,$Z$33:$AJ$36,3,0)","v":"Francia"},{"$f":"VLOOKUP($N33,$Z$33:$AJ$36,4,0)","v":7},{"$f":"VLOOKUP($N33,$Z$33:$AJ$36,5,0)","v":3},{"$f":"VLOOKUP($N33,$Z$33:$AJ$36,6,0)","v":2},{"$f":"VLOOKUP($N33,$Z$33:$AJ$36,7,0)","v":1},{"$f":"VLOOKUP($N33,$Z$33:$AJ$36,8,0)","v":0},{"$f":"VLOOKUP($N33,$Z$33:$AJ$36,9,0)","v":8},{"$f":"VLOOKUP($N33,$Z$33:$AJ$36,10,0)","v":2},{"$f":"VLOOKUP($N33,$Z$33:$AJ$36,11,0)","v":6},null,{"$f":"AC33*10000+AJ33*100+AH33+1/(CODE(LEFT(UPPER(AB33),1)))+1/(CODE(MID(UPPER(AB33),2,1))*100)+1/(CODE(MID(UPPER(AB33),3,1))*10000)","v":60107.012167209701},{"$f":"IF(SUM(AD$33:AD$36)<>12,\"\",(SUMPRODUCT(((1000*AC33+10*AJ33+AH33)< (1000*(AC$33:AC$36)+10*(AJ$33:AJ$36)+(AH$33:AH$36)))+0)+1))","v":2},"Suiza",{"$f":"(AE33*3+AF33*1)","v":6},{"$f":"SUM(AE33:AG33)","v":3},{"$f":"SUM((G$32:G$37=AB33)*(I$32:I$37<>\"\")*(J$32:J$37<>\"\")*(I$32:I$37>J$32:J$37),(L$32:L$37=AB33)*(I$32:I$37<>\"\")*(J$32:J$37<>\"\")*(I$32:I$37<J$32:J$37))","v":2},{"$f":"SUM((G$32:G$37=AB33)*(I$32:I$37<>\"\")*(I$32:I$37=J$32:J$37),(L$32:L$37=AB33)*(J$32:J$37<>\"\")*(I$32:I$37=J$32:J$37))","v":0},{"$f":"SUM((G$32:G$37=AB33)*(J$32:J$37<>\"\")*(I$32:I$37<>\"\")*(I$32:I$37<J$32:J$37),(I$32:I$37<>\"\")*(L$32:L$37=AB33)*(J$32:J$37<>\"\")*(I$32:I$37>J$32:J$37))","v":1},{"$f":"SUM((G$32:G$37=AB33)*(I$32:I$37)*(J$32:J$37<>\"\"),(L$32:L$37=AB33)*(J$32:J$37)*(I$32:I$37<>\"\"))","v":7},{"$f":"SUM((G$32:G$37=AB33)*(I$32:I$37<>\"\")*(J$32:J$37),(L$32:L$37=AB33)*(J$32:J$37<>\"\")*(I$32:I$37))","v":6},{"$f":"AH33-AI33","v":1},null,{"$error":"#REF!"},",",{"$error":"#REF!"},",","2014-06-15T14:00:00"]
[null,25,"2014-06-20T16:00:00","2014-06-20T14:00:00",41810.583333333328,"Salvador","Suiza",null,2,5,null,"Francia",null,{"$f":"LARGE($Z$33:$Z$36,O34)","v":60107.012167209701},2,{"$f":"VLOOKUP($N34,$Z$33:$AJ$36,3,0)","v":"Suiza"},{"$f":"VLOOKUP($N34,$Z$33:$AJ$36,4,0)","v":6},{"$f":"VLOOKUP($N34,$Z$33:$AJ$36,5,0)","v":3},{"$f":"VLOOKUP($N34,$Z$33:$AJ$36,6,0)","v":2},{"$f":"VLOOKUP($N34,$Z$33:$AJ$36,7,0)","v":0},{"$f":"VLOOKUP($N34,$Z$33:$AJ$36,8,0)","v":1},{"$f":"VLOOKUP($N34,$Z$33:$AJ$36,9,0)","v":7},{"$f":"VLOOKUP($N34,$Z$33:$AJ$36,10,0)","v":6},{"$f":"VLOOKUP($N34,$Z$33:$AJ$36,11,0)","v":1},null,{"$f":"AC34*10000+AJ34*100+AH34+1/(CODE(LEFT(UPPER(AB34),1)))+1/(CODE(MID(UPPER(AB34),2,1))*100)+1/(CODE(MID(UPPER(AB34),3,1))*10000)","v":40003.014643183829},{"$f":"IF(SUM(AD$33:AD$36)<>12,\"\",(SUMPRODUCT(((1000*AC34+10*AJ34+AH34)< (1000*(AC$33:AC$36)+10*(AJ$33:AJ$36)+(AH$33:AH$36)))+0)+1))","v":3},"Ecuador",{"$f":"(AE34*3+AF34*1)","v":4},{"$f":"SUM(AE34:AG34)","v":3},{"$f":"SUM((G$32:G$37=AB34)*(I$32:I$37<>\"\")*(J$32:J$37<>\"\")*(I$32:I$37>J$32:J$37),(L$32:L$37=AB34)*(I$32:I$37<>\"\")*(J$32:J$37<>\"\")*(I$32:I$37<J$32:J$37))","v":1},{"$f":"SUM((G$32:G$37=AB34)*(I$32:I$37<>\"\")*(I$32:I$37=J$32:J$37),(L$32:L$37=AB34)*(J$32:J$37<>\"\")*(I$32:I$37=J$32:J$37))","v":1},{"$f":"SUM((G$32:G$37=AB34)*(J$32:J$37<>\"\")*(I$32:I$37<>\"\")*(I$32:I$37<J$32:J$37),(I$32:I$37<>\"\")*(L$32:L$37=AB34)*(J$32:J$37<>\"\")*(I$32:I$37>J$32:J$37))","v":1},{"$f":"SUM((G$32:G$37=AB34)*(I$32:I$37)*(J$32:J$37<>\"\"),(L$32:L$37=AB34)*(J$32:J$37)*(I$32:I$37<>\"\"))","v":3},{"$f":"SUM((G$32:G$37=AB34)*(I$32:I$37<>\"\")*(J$32:J$37),(L$32:L$37=AB34)*(J$32:J$37<>\"\")*(I$32:I$37))","v":3},{"$f":"AH34-AI34","v":0},null,{"$error":"#REF!"},",",{"$error":"#REF!"},",","2014-06-20T14:00:00"]
[null,26,"2014-06-20T19:00:00","2014-06-20T17:00:00",41810.708333333328,"Curitiba","Honduras",null,1,2,null,"Ecuador",null,{"$f":"LARGE($Z$33:$Z$36,O35)","v":40003.014643183829},3,"Ecuador",4,3,1,1,1,3,3,0,null,70608.01440920397,{"$f":"IF(SUM(AD$33:AD$36)<>12,\"\",(SUMPRODUCT(((1000*AC35+10*AJ35+AH35)< (1000*(AC$33:AC$36)+10*(AJ$33:AJ$36)+(AH$33:AH$36)))+0)+1))","v":1},"Francia",{"$f":"(AE35*3+AF35*1)","v":7},{"$f":"SUM(AE35:AG35)","v":3},{"$f":"SUM((G$32:G$37=AB35)*(I$32:I$37<>\"\")*(J$32:J$37<>\"\")*(I$32:I$37>J$32:J$37),(L$32:L$37=AB35)*(I$32:I$37<>\"\")*(J$32:J$37<>\"\")*(I$32:I$37<J$32:J$37))","v":2},{"$f":"SUM((G$32:G$37=AB35)*(I$32:I$37<>\"\")*(I$32:I$37=J$32:J$37),(L$32:L$37=AB35)*(J$32:J$37<>\"\")*(I$32:I$37=J$32:J$37))","v":1},{"$f":"SUM((G$32:G$37=AB35)*(J$32:J$37<>\"\")*(I$32:I$37<>\"\")*(I$32:I$37<J$32:J$37),(I$32:I$37<>\"\")*(L$32:L$37=AB35)*(J$32:J$37<>\"\")*(I$32:I$37>J$32:J$37))","v":0},{"$f":"SUM((G$32:G$37=AB35)*(I$32:I$37)*(J$32:J$37<>\"\"),(L$32:L$37=AB35)*(J$32:J$37)*(I$32:I$37<>\"\"))","v":8},{"$f":"SUM((G$32:G$37=AB35)*(I$32:I$37<>\"\")*(J$32:J$37),(L$32:L$37=AB35)*(J$32:J$37<>\"\")*(I$32:I$37))","v":2},{"$f":"AH35-AI35","v":6},null,{"$error":"#REF!"},",",{"$error":"#REF!"},",","2014-06-20T17:00:00"]
[null,41,"2014-06-25T16:00:00","2014-06-25T14:00:00",41815.583333333328,"Manaus","Honduras",null,0,3,null,"Suiza",null,{"$f":"LARGE($Z$33:$Z$36,O36)","v":-698.98598324678142},4,"Honduras",0,3,0,0,3,1,8,-7,null,-698.98598324678142,{"$f":"IF(SUM(AD$33:AD$36)<>12,\"\",(SUMPRODUCT(((1000*AC36+10*AJ36+AH36)< (1000*(AC$33:AC$36)+10*(AJ$33:AJ$36)+(AH$33:AH$36)))+0)+1))","v":4},"Honduras",{"$f":"(AE36*3+AF36*1)","v":0},{"$f":"SUM(AE36:AG36)","v":3},{"$f":"SUM((G$32:G$37=AB36)*(I$32:I$37<>\"\")*(J$32:J$37<>\"\")*(I$32:I$37>J$32:J$37),(L$32:L$37=AB36)*(I$32:I$37<>\"\")*(J$32:J$37<>\"\")*(I$32:I$37<J$32:J$37))","v":0},{"$f":"SUM((G$32:G$37=AB36)*(I$32:I$37<>\"\")*(I$32:I$37=J$32:J$37),(L$32:L$37=AB36)*(J$32:J$37<>\"\")*(I$32:I$37=J$32:J$37))","v":0},{"$f":"SUM((G$32:G$37=AB36)*(J$32:J$37<>\"\")*(I$32:I$37<>\"\")*(I$32:I$37<J$32:J$37),(I$32:I$37<>\"\")*(L$32:L$37=AB36)*(J$32:J$37<>\"\")*(I$32:I$37>J$32:J$37))","v":3},{"$f":"SUM((G$32:G$37=AB36)*(I$32:I$37)*(J$32:J$37<>\"\"),(L$32:L$37=AB36)*(J$32:J$37)*(I$32:I$37<>\"\"))","v":1},{"$f":"SUM((G$32:G$37=AB36)*(I$32:I$37<>\"\")*(J$32:J$37),(L$32:L$37=AB36)*(J$32:J$37<>\"\")*(I$32:I$37))","v":8},{"$f":"AH36-AI36","v":-7},null,{"$error":"#REF!"},",",{"$error":"#REF!"},",","2014-06-25T14:00:00"]
[null,42,"2014-06-25T17:00:00","2014-06-25T15:00:00",41815.625,"Rio de Janeiro","Ecuador",null,0,0,null,"Francia",null,null,null,null,null,null,null,null,null,null,null,null,null,null,null,null,null,null,null,null,null,null,null,null,null,{"$error":"#REF!"},",",{"$error":"#REF!"},",","2014-06-25T15:00:00"]
[null,11,"2014-06-15T19:00:00",{"$f":"C38+IF(rTimeDifIsItPositive,rTimeDifference,-rTimeDifference)","v":"2014-06-15T17:00:00"},{"$f":"C38+IF(rTimeDifIsItPositive,rTimeDifference,-rTimeDifference)","v":41805.708333333328},"Rio de Janeiro","Argentina",null,2,1,null,"Bosnia y Herzegovina",null,null,"Pos","EQUIPO","Pts.","PJ","G","E","P","GF","GC","D",null,null,"Pos","EQUIPO","Pts.","PJ","G","E","P","GF","GC","D",null,{"$error":"#REF!"},",",{"$error":"#REF!"},",","2014-06-15T17:00:00"]
[null,12,"2014-06-16T16:00:00","2014-06-16T14:00:00",41806.583333333328,"Curitiba","Irán",null,0,0,null,"Nigeria",null,{"$f":"LARGE($Z$39:$Z$42,O39)","v":90306.015507975055},1,{"$f":"VLOOKUP($N39,$Z$39:$AJ$42,3,0)","v":"Argentina"},{"$f":"VLOOKUP($N39,$Z$39:$AJ$42,4,0)","v":9},{"$f":"VLOOKUP($N39,$Z$39:$AJ$42,5,0)","v":3},{"$f":"VLOOKUP($N39,$Z$39:$AJ$42,6,0)","v":3},{"$f":"VLOOKUP($N39,$Z$39:$AJ$42,7,0)","v":0},{"$f":"VLOOKUP($N39,$Z$39:$AJ$42,8,0)","v":0},{"$f":"VLOOKUP($N39,$Z$39:$AJ$42,9,0)","v":6},{"$f":"VLOOKUP($N39,$Z$39:$AJ$42,10,0)","v":3},{"$f":"VLOOKUP($N39,$Z$39:$AJ$42,11,0)","v":3},null,{"$f":"AC39*10000+AJ39*100+AH39+1/(CODE(LEFT(UPPER(AB39),1)))+1/(CODE(MID(UPPER(AB39),2,1))*100)+1/(CODE(MID(UPPER(AB39),3,1))*10000)","v":90306.015507975055},{"$f":"IF(SUM(AD$39:AD$42)<>12,\"\",(SUMPRODUCT(((1000*AC39+10*AJ39+AH39)< (1000*(AC$39:AC$42)+10*(AJ$39:AJ$42)+(AH$39:AH$42)))+0)+1))","v":1},"Argentina",{"$f":"(AE39*3+AF39*1)","v":9},{"$f":"SUM(AE39:AG39)","v":3},{"$f":"SUM((G$38:G$43=AB39)*(I$38:I$43<>\"\")*(J$38:J$43<>\"\")*(I$38:I$43>J$38:J$43),(L$38:L$43=AB39)*(I$38:I$43<>\"\")*(J$38:J$43<>\"\")*(I$38:I$43<J$38:J$43))","v":3},{"$f":"SUM((G$38:G$43=AB39)*(I$38:I$43<>\"\")*(I$38:I$43=J$38:J$43),(L$38:L$43=AB39)*(J$38:J$43<>\"\")*(I$38:I$43=J$38:J$43))","v":0},{"$f":"SUM((G$38:G$43=AB39)*(J$38:J$43<>\"\")*(I$38:I$43<>\"\")*(I$38:I$43<J$38:J$43),(I$38:I$43<>\"\")*(L$38:L$43=AB39)*(J$38:J$43<>\"\")*(I$38:I$43>J$38:J$43))","v":0},{"$f":"SUM((G$38:G$43=AB39)*(I$38:I$43)*(J$38:J$43<>\"\"),(L$38:L$43=AB39)*(J$38:J$43)*(I$38:I$43<>\"\"))","v":6},{"$f":"SUM((G$38:G$43=AB39)*(I$38:I$43<>\"\")*(J$38:J$43),(L$38:L$43=AB39)*(J$38:J$43<>\"\")*(I$38:I$43))","v":3},{"$f":"AH39-AI39","v":3},null,{"$error":"#REF!"},",",{"$error":"#REF!"},",","2014-06-16T14:00:00"]
[null,27,"2014-06-21T13:00:00","2014-06-21T11:00:00",41811.458333333328,"Belo Horizonte","Argentina",null,1,0,null,"Irán",null,{"$f":"LARGE($Z$39:$Z$42,O40)","v":40003.012958907573},2,{"$f":"VLOOKUP($N40,$Z$39:$AJ$42,3,0)","v":"Nigeria"},{"$f":"VLOOKUP($N40,$Z$39:$AJ$42,4,0)","v":4},{"$f":"VLOOKUP($N40,$Z$39:$AJ$42,5,0)","v":3},{"$f":"VLOOKUP($N40,$Z$39:$AJ$42,6,0)","v":1},{"$f":"VLOOKUP($N40,$Z$39:$AJ$42,7,0)","v":1},{"$f":"VLOOKUP($N40,$Z$39:$AJ$42,8,0)","v":1},{"$f":"VLOOKUP($N40,$Z$39:$AJ$42,9,0)","v":3},{"$f":"VLOOKUP($N40,$Z$39:$AJ$42,10,0)","v":3},{"$f":"VLOOKUP($N40,$Z$39:$AJ$42,11,0)","v":0},null,{"$f":"AC40*10000+AJ40*100+AH40+1/(CODE(LEFT(UPPER(AB40),1)))+1/(CODE(MID(UPPER(AB40),2,1))*100)+1/(CODE(MID(UPPER(AB40),3,1))*10000)","v":30004.01527930225},{"$f":"IF(SUM(AD$39:AD$42)<>12,\"\",(SUMPRODUCT(((1000*AC40+10*AJ40+AH40)< (1000*(AC$39:AC$42)+10*(AJ$39:AJ$42)+(AH$39:AH$42)))+0)+1))","v":3},"Bosnia y Herzegovina",{"$f":"(AE40*3+AF40*1)","v":3},{"$f":"SUM(AE40:AG40)","v":3},{"$f":"SUM((G$38:G$43=AB40)*(I$38:I$43<>\"\")*(J$38:J$43<>\"\")*(I$38:I$43>J$38:J$43),(L$38:L$43=AB40)*(I$38:I$43<>\"\")*(J$38:J$43<>\"\")*(I$38:I$43<J$38:J$43))","v":1},{"$f":"SUM((G$38:G$43=AB40)*(I$38:I$43<>\"\")*(I$38:I$43=J$38:J$43),(L$38:L$43=AB40)*(J$38:J$43<>\"\")*(I$38:I$43=J$38:J$43))","v":0},{"$f":"SUM((G$38:G$43=AB40)*(J$38:J$43<>\"\")*(I$38:I$43<>\"\")*(I$38:I$43<J$38:J$43),(I$38:I$43<>\"\")*(L$38:L$43=AB40)*(J$38:J$43<>\"\")*(I$38:I$43>J$38:J$43))","v":2},{"$f":"SUM((G$38:G$43=AB40)*(I$38:I$43)*(J$38:J$43<>\"\"),(L$38:L$43=AB40)*(J$38:J$43)*(I$38:I$43<>\"\"))","v":4},{"$f":"SUM((G$38:G$43=AB40)*(I$38:I$43<>\"\")*(J$38:J$43),(L$38:L$43=AB40)*(J$38:J$43<>\"\")*(I$38:I$43))","v":4},{"$f":"AH40-AI40","v":0},null,{"$error":"#REF!"},",",{"$error":"#REF!"},",","2014-06-21T11:00:00"]
[null,28,"2014-06-21T18:00:00","2014-06-21T16:00:00",41811.666666666664,"Cuiaba","Nigeria",null,1,0,null,"Bosnia y Herzegovina",null,{"$f":"LARGE($Z$39:$Z$42,O41)","v":30004.01527930225},3,{"$f":"VLOOKUP($N41,$Z$39:$AJ$42,3,0)","v":"Bosnia y Herzegovina"},3,3,1,0,2,4,4,0,null,9701.0138210994919,{"$f":"IF(SUM(AD$39:AD$42)<>12,\"\",(SUMPRODUCT(((1000*AC41+10*AJ41+AH41)< (1000*(AC$39:AC$42)+10*(AJ$39:AJ$42)+(AH$39:AH$42)))+0)+1))","v":4},"Irán",{"$f":"(AE41*3+AF41*1)","v":1},{"$f":"SUM(AE41:AG41)","v":3},{"$f":"SUM((G$38:G$43=AB41)*(I$38:I$43<>\"\")*(J$38:J$43<>\"\")*(I$38:I$43>J$38:J$43),(L$38:L$43=AB41)*(I$38:I$43<>\"\")*(J$38:J$43<>\"\")*(I$38:I$43<J$38:J$43))","v":0},{"$f":"SUM((G$38:G$43=AB41)*(I$38:I$43<>\"\")*(I$38:I$43=J$38:J$43),(L$38:L$43=AB41)*(J$38:J$43<>\"\")*(I$38:I$43=J$38:J$43))","v":1},{"$f":"SUM((G$38:G$43=AB41)*(J$38:J$43<>\"\")*(I$38:I$43<>\"\")*(I$38:I$43<J$38:J$43),(I$38:I$43<>\"\")*(L$38:L$43=AB41)*(J$38:J$43<>\"\")*(I$38:I$43>J$38:J$43))","v":2},{"$f":"SUM((G$38:G$43=AB41)*(I$38:I$43)*(J$38:J$43<>\"\"),(L$38:L$43=AB41)*(J$38:J$43)*(I$38:I$43<>\"\"))","v":1},{"$f":"SUM((G$38:G$43=AB41)*(I$38:I$43<>\"\")*(J$38:J$43),(L$38:L$43=AB41)*(J$38:J$43<>\"\")*(I$38:I$43))","v":4},{"$f":"AH41-AI41","v":-3},null,{"$error":"#REF!"},",",{"$error":"#REF!"},",","2014-06-21T16:00:00"]
[null,43,"2014-06-25T13:00:00","2014-06-25T11:00:00",41815.458333333328,"Porto Alegre","Nigeria",null,2,3,null,"Argentina",null,{"$f":"LARGE($Z$39:$Z$42,O42)","v":9701.0138210994919},4,{"$f":"VLOOKUP($N42,$Z$39:$AJ$42,3,0)","v":"Irán"},1,3,0,1,2,1,4,-3,null,40003.012958907573,{"$f":"IF(SUM(AD$39:AD$42)<>12,\"\",(SUMPRODUCT(((1000*AC42+10*AJ42+AH42)< (1000*(AC$39:AC$42)+10*(AJ$39:AJ$42)+(AH$39:AH$42)))+0)+1))","v":2},"Nigeria",{"$f":"(AE42*3+AF42*1)","v":4},{"$f":"SUM(AE42:AG42)","v":3},{"$f":"SUM((G$38:G$43=AB42)*(I$38:I$43<>\"\")*(J$38:J$43<>\"\")*(I$38:I$43>J$38:J$43),(L$38:L$43=AB42)*(I$38:I$43<>\"\")*(J$38:J$43<>\"\")*(I$38:I$43<J$38:J$43))","v":1},{"$f":"SUM((G$38:G$43=AB42)*(I$38:I$43<>\"\")*(I$38:I$43=J$38:J$43),(L$38:L$43=AB42)*(J$38:J$43<>\"\")*(I$38:I$43=J$38:J$43))","v":1},{"$f":"SUM((G$38:G$43=AB42)*(J$38:J$43<>\"\")*(I$38:I$43<>\"\")*(I$38:I$43<J$38:J$43),(I$38:I$43<>\"\")*(L$38:L$43=AB42)*(J$38:J$43<>\"\")*(I$38:I$43>J$38:J$43))","v":1},{"$f":"SUM((G$38:G$43=AB42)*(I$38:I$43)*(J$38:J$43<>\"\"),(L$38:L$43=AB42)*(J$38:J$43)*(I$38:I$43<>\"\"))","v":3},{"$f":"SUM((G$38:G$43=AB42)*(I$38:I$43<>\"\")*(J$38:J$43),(L$38:L$43=AB42)*(J$38:J$43<>\"\")*(I$38:I$43))","v":3},{"$f":"AH42-AI42","v":0},null,{"$error":"#REF!"},",",{"$error":"#REF!"},",","2014-06-25T11:00:00"]
[null,44,"2014-06-25T13:00:00","2014-06-25T11:00:00",41815.458333333328,"Salvador","Bosnia y Herzegovina",null,3,1,null,"Irán",null,null,null,null,null,null,null,null,null,null,null,null,null,null,null,null,null,null,null,null,null,null,null,null,null,{"$error":"#REF!"},",",{"$error":"#REF!"},",","2014-06-25T11:00:00"]
[null,13,"2014-06-16T13:00:00",{"$f":"C44+IF(rTimeDifIsItPositive,rTimeDifference,-rTimeDifference)","v":"2014-06-16T11:00:00"},{"$f":"C44+IF(rTimeDifIsItPositive,rTimeDifference,-rTimeDifference)","v":41806.458333333328},"Salvador","Alemania",null,4,0,null,"Portugal",null,null,"Pos","EQUIPO","Pts.","PJ","G","E","P","GF","GC","D",null,null,"Pos","EQUIPO","Pts.","PJ","G","E","P","GF","GC","D",null,{"$error":"#REF!"},",",{"$error":"#REF!"},",","2014-06-16T11:00:00"]
[null,14,"2014-06-16T19:00:00","2014-06-16T17:00:00",41806.708333333328,"Natal","Ghana",null,1,2,null,"EEUU",null,{"$f":"LARGE($Z$45:$Z$48,O45)","v":70507.015517643595},1,{"$f":"VLOOKUP($N45,$Z$45:$AJ$48,3,0)","v":"Alemania"},{"$f":"VLOOKUP($N45,$Z$45:$AJ$48,4,0)","v":7},{"$f":"VLOOKUP($N45,$Z$45:$AJ$48,5,0)","v":3},{"$f":"VLOOKUP($N45,$Z$45:$AJ$48,6,0)","v":2},{"$f":"VLOOKUP($N45,$Z$45:$AJ$48,7,0)","v":1},{"$f":"VLOOKUP($N45,$Z$45:$AJ$48,8,0)","v":0},{"$f":"VLOOKUP($N45,$Z$45:$AJ$48,9,0)","v":7},{"$f":"VLOOKUP($N45,$Z$45:$AJ$48,10,0)","v":2},{"$f":"VLOOKUP($N45,$Z$45:$AJ$48,11,0)","v":5},null,{"$f":"AC45*10000+AJ45*100+AH45+1/(CODE(LEFT(UPPER(AB45),1)))+1/(CODE(MID(UPPER(AB45),2,1))*100)+1/(CODE(MID(UPPER(AB45),3,1))*10000)","v":70507.015517643595},{"$f":"IF(SUM(AD$45:AD$48)<>12,\"\",(SUMPRODUCT(((1000*AC45+10*AJ45+AH45)< (1000*(AC$45:AC$48)+10*(AJ$45:AJ$48)+(AH$45:AH$48)))+0)+1))","v":1},"Alemania",{"$f":"(AE45*3+AF45*1)","v":7},{"$f":"SUM(AE45:AG45)","v":3},{"$f":"SUM((G$44:G$49=AB45)*(I$44:I$49<>\"\")*(J$44:J$49<>\"\")*(I$44:I$49>J$44:J$49),(L$44:L$49=AB45)*(I$44:I$49<>\"\")*(J$44:J$49<>\"\")*(I$44:I$49<J$44:J$49))","v":2},{"$f":"SUM((G$44:G$49=AB45)*(I$44:I$49<>\"\")*(I$44:I$49=J$44:J$49),(L$44:L$49=AB45)*(J$44:J$49<>\"\")*(I$44:I$49=J$44:J$49))","v":1},{"$f":"SUM((G$44:G$49=AB45)*(J$44:J$49<>\"\")*(I$44:I$49<>\"\")*(I$44:I$49<J$44:J$49),(I$44:I$49<>\"\")*(L$44:L$49=AB45)*(J$44:J$49<>\"\")*(I$44:I$49>J$44:J$49))","v":0},{"$f":"SUM((G$44:G$49=AB45)*(I$44:I$49)*(J$44:J$49<>\"\"),(L$44:L$49=AB45)*(J$44:J$49)*(I$44:I$49<>\"\"))","v":7},{"$f":"SUM((G$44:G$49=AB45)*(I$44:I$49<>\"\")*(J$44:J$49),(L$44:L$49=AB45)*(J$44:J$49<>\"\")*(I$44:I$49))","v":2},{"$f":"AH45-AI45","v":5},null,{"$error":"#REF!"},",",{"$error":"#REF!"},",","2014-06-16T17:00:00"]
[null,29,"2014-06-21T16:00:00","2014-06-21T14:00:00",41811.583333333328,"Fortaleza","Alemania",null,2,2,null,"Ghana",null,{"$f":"LARGE($Z$45:$Z$48,O46)","v":40004.014638857632},2,{"$f":"VLOOKUP($N46,$Z$45:$AJ$48,3,0)","v":"EEUU"},{"$f":"VLOOKUP($N46,$Z$45:$AJ$48,4,0)","v":4},{"$f":"VLOOKUP($N46,$Z$45:$AJ$48,5,0)","v":3},{"$f":"VLOOKUP($N46,$Z$45:$AJ$48,6,0)","v":1},{"$f":"VLOOKUP($N46,$Z$45:$AJ$48,7,0)","v":1},{"$f":"VLOOKUP($N46,$Z$45:$AJ$48,8,0)","v":1},{"$f":"VLOOKUP($N46,$Z$45:$AJ$48,9,0)","v":4},{"$f":"VLOOKUP($N46,$Z$45:$AJ$48,10,0)","v":4},{"$f":"VLOOKUP($N46,$Z$45:$AJ$48,11,0)","v":0},null,{"$f":"AC46*10000+AJ46*100+AH46+1/(CODE(LEFT(UPPER(AB46),1)))+1/(CODE(MID(UPPER(AB46),2,1))*100)+1/(CODE(MID(UPPER(AB46),3,1))*10000)","v":39704.012627801785},{"$f":"IF(SUM(AD$45:AD$48)<>12,\"\",(SUMPRODUCT(((1000*AC46+10*AJ46+AH46)< (1000*(AC$45:AC$48)+10*(AJ$45:AJ$48)+(AH$45:AH$48)))+0)+1))","v":3},"Portugal",{"$f":"(AE46*3+AF46*1)","v":4},{"$f":"SUM(AE46:AG46)","v":3},{"$f":"SUM((G$44:G$49=AB46)*(I$44:I$49<>\"\")*(J$44:J$49<>\"\")*(I$44:I$49>J$44:J$49),(L$44:L$49=AB46)*(I$44:I$49<>\"\")*(J$44:J$49<>\"\")*(I$44:I$49<J$44:J$49))","v":1},{"$f":"SUM((G$44:G$49=AB46)*(I$44:I$49<>\"\")*(I$44:I$49=J$44:J$49),(L$44:L$49=AB46)*(J$44:J$49<>\"\")*(I$44:I$49=J$44:J$49))","v":1},{"$f":"SUM((G$44:G$49=AB46)*(J$44:J$49<>\"\")*(I$44:I$49<>\"\")*(I$44:I$49<J$44:J$49),(I$44:I$49<>\"\")*(L$44:L$49=AB46)*(J$44:J$49<>\"\")*(I$44:I$49>J$44:J$49))","v":1},{"$f":"SUM((G$44:G$49=AB46)*(I$44:I$49)*(J$44:J$49<>\"\"),(L$44:L$49=AB46)*(J$44:J$49)*(I$44:I$49<>\"\"))","v":4},{"$f":"SUM((G$44:G$49=AB46)*(I$44:I$49<>\"\")*(J$44:J$49),(L$44:L$49=AB46)*(J$44:J$49<>\"\")*(I$44:I$49))","v":7},{"$f":"AH46-AI46","v":-3},null,{"$error":"#REF!"},",",{"$error":"#REF!"},",","2014-06-21T14:00:00"]
[null,30,"2014-06-22T18:00:00","2014-06-22T16:00:00",41812.666666666664,"Manaus","EEUU",null,2,2,null,"Portugal",null,{"$f":"LARGE($Z$45:$Z$48,O47)","v":39704.012627801785},3,"Portugal",4,3,1,1,1,4,7,-3,null,9804.0142249343917,{"$f":"IF(SUM(AD$45:AD$48)<>12,\"\",(SUMPRODUCT(((1000*AC47+10*AJ47+AH47)< (1000*(AC$45:AC$48)+10*(AJ$45:AJ$48)+(AH$45:AH$48)))+0)+1))","v":4},"Ghana",{"$f":"(AE47*3+AF47*1)","v":1},{"$f":"SUM(AE47:AG47)","v":3},{"$f":"SUM((G$44:G$49=AB47)*(I$44:I$49<>\"\")*(J$44:J$49<>\"\")*(I$44:I$49>J$44:J$49),(L$44:L$49=AB47)*(I$44:I$49<>\"\")*(J$44:J$49<>\"\")*(I$44:I$49<J$44:J$49))","v":0},{"$f":"SUM((G$44:G$49=AB47)*(I$44:I$49<>\"\")*(I$44:I$49=J$44:J$49),(L$44:L$49=AB47)*(J$44:J$49<>\"\")*(I$44:I$49=J$44:J$49))","v":1},{"$f":"SUM((G$44:G$49=AB47)*(J$44:J$49<>\"\")*(I$44:I$49<>\"\")*(I$44:I$49<J$44:J$49),(I$44:I$49<>\"\")*(L$44:L$49=AB47)*(J$44:J$49<>\"\")*(I$44:I$49>J$44:J$49))","v":2},{"$f":"SUM((G$44:G$49=AB47)*(I$44:I$49)*(J$44:J$49<>\"\"),(L$44:L$49=AB47)*(J$44:J$49)*(I$44:I$49<>\"\"))","v":4},{"$f":"SUM((G$44:G$49=AB47)*(I$44:I$49<>\"\")*(J$44:J$49),(L$44:L$49=AB47)*(J$44:J$49<>\"\")*(I$44:I$49))","v":6},{"$f":"AH47-AI47","v":-2},null,{"$error":"#REF!"},",",{"$error":"#REF!"},",","2014-06-22T16:00:00"]
[null,45,"2014-06-26T13:00:00","2014-06-26T11:00:00",41816.458333333328,"Recife","EEUU",null,0,1,null,"Alemania",null,{"$f":"LARGE($Z$45:$Z$48,O48)","v":9804.0142249343917},4,"Ghana",1,3,0,1,2,4,6,-2,null,40004.014638857632,{"$f":"IF(SUM(AD$45:AD$48)<>12,\"\",(SUMPRODUCT(((1000*AC48+10*AJ48+AH48)< (1000*(AC$45:AC$48)+10*(AJ$45:AJ$48)+(AH$45:AH$48)))+0)+1))","v":2},"EEUU",{"$f":"(AE48*3+AF48*1)","v":4},{"$f":"SUM(AE48:AG48)","v":3},{"$f":"SUM((G$44:G$49=AB48)*(I$44:I$49<>\"\")*(J$44:J$49<>\"\")*(I$44:I$49>J$44:J$49),(L$44:L$49=AB48)*(I$44:I$49<>\"\")*(J$44:J$49<>\"\")*(I$44:I$49<J$44:J$49))","v":1},{"$f":"SUM((G$44:G$49=AB48)*(I$44:I$49<>\"\")*(I$44:I$49=J$44:J$49),(L$44:L$49=AB48)*(J$44:J$49<>\"\")*(I$44:I$49=J$44:J$49))","v":1},{"$f":"SUM((G$44:G$49=AB48)*(J$44:J$49<>\"\")*(I$44:I$49<>\"\")*(I$44:I$49<J$44:J$49),(I$44:I$49<>\"\")*(L$44:L$49=AB48)*(J$44:J$49<>\"\")*(I$44:I$49>J$44:J$49))","v":1},{"$f":"SUM((G$44:G$49=AB48)*(I$44:I$49)*(J$44:J$49<>\"\"),(L$44:L$49=AB48)*(J$44:J$49)*(I$44:I$49<>\"\"))","v":4},{"$f":"SUM((G$44:G$49=AB48)*(I$44:I$49<>\"\")*(J$44:J$49),(L$44:L$49=AB48)*(J$44:J$49<>\"\")*(I$44:I$49))","v":4},{"$f":"AH48-AI48","v":0},null,{"$error":"#REF!"},",",{"$error":"#REF!"},",","2014-06-26T11:00:00"]
[null,46,"2014-06-26T13:00:00","2014-06-26T11:00:00",41816.458333333328,"Brasilia","Portugal",null,2,1,null,"Ghana",null,null,null,null,null,null,null,null,null,null,null,null,null,null,null,null,null,null,null,null,null,null,null,null,null,{"$error":"#REF!"},",",{"$error":"#REF!"},",","2014-06-26T11:00:00"]
[null,15,"2014-06-17T13:00:00",{"$f":"C50+IF(rTimeDifIsItPositive,rTimeDifference,-rTimeDifference)","v":"2014-06-17T11:00:00"},{"$f":"C50+IF(rTimeDifIsItPositive,rTimeDifference,-rTimeDifference)","v":41807.458333333328},"Belo Horizonte","Bélgica",null,2,1,null,"Argelia",null,null,"Pos","EQUIPO","Pts.","PJ","G","E","P","GF","GC","D",null,null,"Pos","EQUIPO","Pts.","PJ","G","E","P","GF","GC","D",null,{"$error":"#REF!"},",",{"$error":"#REF!"},",","2014-06-17T11:00:00"]
[null,16,"2014-06-17T18:00:00","2014-06-17T16:00:00",41807.666666666664,"Cuiaba","Rusia",null,1,1,null,"Corea Sur",null,{"$f":"LARGE($Z$51:$Z$54,O51)","v":90304.015202582174},1,{"$f":"VLOOKUP($N51,$Z$51:$AJ$54,3,0)","v":"Bélgica"},{"$f":"VLOOKUP($N51,$Z$51:$AJ$54,4,0)","v":9},{"$f":"VLOOKUP($N51,$Z$51:$AJ$54,5,0)","v":3},{"$f":"VLOOKUP($N51,$Z$51:$AJ$54,6,0)","v":3},{"$f":"VLOOKUP($N51,$Z$51:$AJ$54,7,0)","v":0},{"$f":"VLOOKUP($N51,$Z$51:$AJ$54,8,0)","v":0},{"$f":"VLOOKUP($N51,$Z$51:$AJ$54,9,0)","v":4},{"$f":"VLOOKUP($N51,$Z$51:$AJ$54,10,0)","v":1},{"$f":"VLOOKUP($N51,$Z$51:$AJ$54,11,0)","v":3},null,{"$f":"AC51*10000+AJ51*100+AH51+1/(CODE(LEFT(UPPER(AB51),1)))+1/(CODE(MID(UPPER(AB51),2,1))*100)+1/(CODE(MID(UPPER(AB51),3,1))*10000)","v":90304.015202582174},{"$f":"IF(SUM(AD$51:AD$54)<>12,\"\",(SUMPRODUCT(((1000*AC51+10*AJ51+AH51)< (1000*(AC$51:AC$54)+10*(AJ$51:AJ$54)+(AH$51:AH$54)))+0)+1))","v":1},"Bélgica",{"$f":"(AE51*3+AF51*1)","v":9},{"$f":"SUM(AE51:AG51)","v":3},{"$f":"SUM((G$50:G$55=AB51)*(I$50:I$55<>\"\")*(J$50:J$55<>\"\")*(I$50:I$55>J$50:J$55),(L$50:L$55=AB51)*(I$50:I$55<>\"\")*(J$50:J$55<>\"\")*(I$50:I$55<J$50:J$55))","v":3},{"$f":"SUM((G$50:G$55=AB51)*(I$50:I$55<>\"\")*(I$50:I$55=J$50:J$55),(L$50:L$55=AB51)*(J$50:J$55<>\"\")*(I$50:I$55=J$50:J$55))","v":0},{"$f":"SUM((G$50:G$55=AB51)*(J$50:J$55<>\"\")*(I$50:I$55<>\"\")*(I$50:I$55<J$50:J$55),(I$50:I$55<>\"\")*(L$50:L$55=AB51)*(J$50:J$55<>\"\")*(I$50:I$55>J$50:J$55))","v":0},{"$f":"SUM((G$50:G$55=AB51)*(I$50:I$55)*(J$50:J$55<>\"\"),(L$50:L$55=AB51)*(J$50:J$55)*(I$50:I$55<>\"\"))","v":4},{"$f":"SUM((G$50:G$55=AB51)*(I$50:I$55<>\"\")*(J$50:J$55),(L$50:L$55=AB51)*(J$50:J$55<>\"\")*(I$50:I$55))","v":1},{"$f":"AH51-AI51","v":3},null,{"$error":"#REF!"},",",{"$error":"#REF!"},",","2014-06-17T16:00:00"]
[null,31,"2014-06-22T13:00:00","2014-06-22T11:00:00",41812.458333333328,"Rio de Janeiro","Bélgica",null,1,0,null,"Rusia",null,{"$f":"LARGE($Z$51:$Z$54,O52)","v":40106.015507975055},2,{"$f":"VLOOKUP($N52,$Z$51:$AJ$54,3,0)","v":"Argelia"},{"$f":"VLOOKUP($N52,$Z$51:$AJ$54,4,0)","v":4},{"$f":"VLOOKUP($N52,$Z$51:$AJ$54,5,0)","v":3},{"$f":"VLOOKUP($N52,$Z$51:$AJ$54,6,0)","v":1},{"$f":"VLOOKUP($N52,$Z$51:$AJ$54,7,0)","v":1},{"$f":"VLOOKUP($N52,$Z$51:$AJ$54,8,0)","v":1},{"$f":"VLOOKUP($N52,$Z$51:$AJ$54,9,0)","v":6},{"$f":"VLOOKUP($N52,$Z$51:$AJ$54,10,0)","v":5},{"$f":"VLOOKUP($N52,$Z$51:$AJ$54,11,0)","v":1},null,{"$f":"AC52*10000+AJ52*100+AH52+1/(CODE(LEFT(UPPER(AB52),1)))+1/(CODE(MID(UPPER(AB52),2,1))*100)+1/(CODE(MID(UPPER(AB52),3,1))*10000)","v":40106.015507975055},{"$f":"IF(SUM(AD$51:AD$54)<>12,\"\",(SUMPRODUCT(((1000*AC52+10*AJ52+AH52)< (1000*(AC$51:AC$54)+10*(AJ$51:AJ$54)+(AH$51:AH$54)))+0)+1))","v":2},"Argelia",{"$f":"(AE52*3+AF52*1)","v":4},{"$f":"SUM(AE52:AG52)","v":3},{"$f":"SUM((G$50:G$55=AB52)*(I$50:I$55<>\"\")*(J$50:J$55<>\"\")*(I$50:I$55>J$50:J$55),(L$50:L$55=AB52)*(I$50:I$55<>\"\")*(J$50:J$55<>\"\")*(I$50:I$55<J$50:J$55))","v":1},{"$f":"SUM((G$50:G$55=AB52)*(I$50:I$55<>\"\")*(I$50:I$55=J$50:J$55),(L$50:L$55=AB52)*(J$50:J$55<>\"\")*(I$50:I$55=J$50:J$55))","v":1},{"$f":"SUM((G$50:G$55=AB52)*(J$50:J$55<>\"\")*(I$50:I$55<>\"\")*(I$50:I$55<J$50:J$55),(I$50:I$55<>\"\")*(L$50:L$55=AB52)*(J$50:J$55<>\"\")*(I$50:I$55>J$50:J$55))","v":1},{"$f":"SUM((G$50:G$55=AB52)*(I$50:I$55)*(J$50:J$55<>\"\"),(L$50:L$55=AB52)*(J$50:J$55)*(I$50:I$55<>\"\"))","v":6},{"$f":"SUM((G$50:G$55=AB52)*(I$50:I$55<>\"\")*(J$50:J$55),(L$50:L$55=AB52)*(J$50:J$55<>\"\")*(I$50:I$55))","v":5},{"$f":"AH52-AI52","v":1},null,{"$error":"#REF!"},",",{"$error":"#REF!"},",","2014-06-22T11:00:00"]
[null,32,"2014-06-22T16:00:00","2014-06-22T14:00:00",41812.583333333328,"Porto Alegre","Corea Sur",null,2,4,null,"Argelia",null,{"$f":"LARGE($Z$51:$Z$54,O53)","v":19902.012313973828},3,"Rusia",2,3,0,2,1,2,3,-1,null,19902.012313973828,{"$f":"IF(SUM(AD$51:AD$54)<>12,\"\",(SUMPRODUCT(((1000*AC53+10*AJ53+AH53)< (1000*(AC$51:AC$54)+10*(AJ$51:AJ$54)+(AH$51:AH$54)))+0)+1))","v":3},"Rusia",{"$f":"(AE53*3+AF53*1)","v":2},{"$f":"SUM(AE53:AG53)","v":3},{"$f":"SUM((G$50:G$55=AB53)*(I$50:I$55<>\"\")*(J$50:J$55<>\"\")*(I$50:I$55>J$50:J$55),(L$50:L$55=AB53)*(I$50:I$55<>\"\")*(J$50:J$55<>\"\")*(I$50:I$55<J$50:J$55))","v":0},{"$f":"SUM((G$50:G$55=AB53)*(I$50:I$55<>\"\")*(I$50:I$55=J$50:J$55),(L$50:L$55=AB53)*(J$50:J$55<>\"\")*(I$50:I$55=J$50:J$55))","v":2},{"$f":"SUM((G$50:G$55=AB53)*(J$50:J$55<>\"\")*(I$50:I$55<>\"\")*(I$50:I$55<J$50:J$55),(I$50:I$55<>\"\")*(L$50:L$55=AB53)*(J$50:J$55<>\"\")*(I$50:I$55>J$50:J$55))","v":1},{"$f":"SUM((G$50:G$55=AB53)*(I$50:I$55)*(J$50:J$55<>\"\"),(L$50:L$55=AB53)*(J$50:J$55)*(I$50:I$55<>\"\"))","v":2},{"$f":"SUM((G$50:G$55=AB53)*(I$50:I$55<>\"\")*(J$50:J$55),(L$50:L$55=AB53)*(J$50:J$55<>\"\")*(I$50:I$55))","v":3},{"$f":"AH53-AI53","v":-1},null,{"$error":"#REF!"},",",{"$error":"#REF!"},",","2014-06-22T14:00:00"]
[null,47,"2014-06-26T17:00:00","2014-06-26T15:00:00",41816.625,"Sao Paulo","Corea Sur",null,0,1,null,"Bélgica",null,{"$f":"LARGE($Z$51:$Z$54,O54)","v":9703.0150531749259},4,"Corea Sur",1,3,0,1,2,3,6,-3,null,9703.0150531749259,{"$f":"IF(SUM(AD$51:AD$54)<>12,\"\",(SUMPRODUCT(((1000*AC54+10*AJ54+AH54)< (1000*(AC$51:AC$54)+10*(AJ$51:AJ$54)+(AH$51:AH$54)))+0)+1))","v":4},"Corea Sur",{"$f":"(AE54*3+AF54*1)","v":1},{"$f":"SUM(AE54:AG54)","v":3},{"$f":"SUM((G$50:G$55=AB54)*(I$50:I$55<>\"\")*(J$50:J$55<>\"\")*(I$50:I$55>J$50:J$55),(L$50:L$55=AB54)*(I$50:I$55<>\"\")*(J$50:J$55<>\"\")*(I$50:I$55<J$50:J$55))","v":0},{"$f":"SUM((G$50:G$55=AB54)*(I$50:I$55<>\"\")*(I$50:I$55=J$50:J$55),(L$50:L$55=AB54)*(J$50:J$55<>\"\")*(I$50:I$55=J$50:J$55))","v":1},{"$f":"SUM((G$50:G$55=AB54)*(J$50:J$55<>\"\")*(I$50:I$55<>\"\")*(I$50:I$55<J$50:J$55),(I$50:I$55<>\"\")*(L$50:L$55=AB54)*(J$50:J$55<>\"\")*(I$50:I$55>J$50:J$55))","v":2},{"$f":"SUM((G$50:G$55=AB54)*(I$50:I$55)*(J$50:J$55<>\"\"),(L$50:L$55=AB54)*(J$50:J$55)*(I$50:I$55<>\"\"))","v":3},{"$f":"SUM((G$50:G$55=AB54)*(I$50:I$55<>\"\")*(J$50:J$55),(L$50:L$55=AB54)*(J$50:J$55<>\"\")*(I$50:I$55))","v":6},{"$f":"AH54-AI54","v":-3},null,{"$error":"#REF!"},",",{"$error":"#REF!"},",","2014-06-26T15:00:00"]
[null,48,"2014-06-26T17:00:00","2014-06-26T15:00:00",41816.625,"Curitiba","Argelia",null,1,1,null,"Rusia",null,null,null,null,null,null,null,null,null,null,null,null,null,null,null,null,null,null,null,null,null,null,null,null,null,{"$error":"#REF!"},",",{"$error":"#REF!"},",","2014-06-26T15:00:00"]
[]
[null,null,null,null,null,null,null,null,null,null,null,null,null,null,null,null,null,null,null,null,null,null,null,null,null,null,"Pos","EQUIPO","Pts.","PJ","G","E","P","GF","GC","D"]
[null,null,null,null,null,null,null,null,null,null,null,null,null,null,null,null,null,null,null,null,null,null,null,null,null,null,{"$f":"IF($AD58=0,\"\",IF(COUNTIF(AB$76:AB$83,$AB58),INDEX(AA$76:AA$83,MATCH($AB58,AB$76:AB$83,0)),(SUMPRODUCT(((1000*AD58*AE58+30*AH58-20*AI58+AJ58)<(1000*(AD$58:AD$73)*(AE$58:AE$73)+30*(AH$58:AH$73)-20*(AI$58:AI$73)+(AJ$58:AJ$73)))+0)+1)))","v":11},{"$f":"IF(LEFT($L$64,1)=\"2\",\"-\",$L$64)","v":"México"},null,{"$f":"IF(AB58=\"-\",0,IF(COUNTIF($G$78:$L$81,AB58),1,IF(COUNTIF($G$62:$G$69,AB58)=1,IF(COUNTIF($G$78:$L$81,VLOOKUP(AB58,$G$62:$L$69,6,FALSE))=1,1,0),IF(COUNTIF($G$78:$L$81,INDEX($G$62:$G$69,MATCH(AB58,$L$62:$L$69,0),1))=1,1,0))))","v":1},{"$f":"IF($AD58=1,IF(COUNTIF($G$62:$G$69,$AB58)=1,IF(((VLOOKUP($AB58,$G$62:$K$69,2,FALSE)+VLOOKUP($AB58,$G$62:$K$69,3,FALSE)))>(VLOOKUP($AB58,$G$62:$K$69,4,FALSE)+VLOOKUP($AB58,$G$62:$K$69,5,FALSE)),1,0),IF((INDEX($H$62:$H$69,MATCH($AB58,$L$62:$L$69,0))+INDEX($I$62:$I$69,MATCH($AB58,$L$62:$L$69,0)))>(INDEX($J$62:$J$69,MATCH($AB58,$L$62:$L$69,0))+INDEX($K$62:$K$69,MATCH($AB58,$L$62:$L$69,0))),0,1)),0)","v":0},null,{"$f":"ABS(AD58-AE58)","v":1},{"$f":"IF($AD58=1,IF(COUNTIF($G$62:$G$69,$AB58)=1,VLOOKUP($AB58,$G$62:$J$69,3,FALSE),INDEX($J$62:$J$69,MATCH($AB58,$L$62:$L$69,0),1)),0)","v":1},{"$f":"IF($AD58=1,IF(COUNTIF($G$62:$G$69,$AB58)=1,VLOOKUP($AB58,$G$62:$J$69,4,FALSE),INDEX($I$62:$I$69,MATCH($AB58,$L$62:$L$69,0),1)),0)","v":2},{"$f":"IF($AD58=1,IF(COUNTIF($G$62:$G$69,$AB58)=1,VLOOKUP($AB58,$G$62:$K$69,2,FALSE),INDEX($K$62:$K$69,MATCH($AB58,$L$62:$L$69,0),1)),0)+AH58-AI58-IF($AD58=1,IF(COUNTIF($G$62:$G$69,$AB58)=1,VLOOKUP($AB58,$G$62:$K$69,5,FALSE),INDEX($H$62:$H$69,MATCH($AB58,$L$62:$L$69,0),1)),0)","v":-1}]
[null,null,null,null,null,null,null,null,null,null,null,null,null,null,null,null,null,null,null,null,null,null,null,null,null,null,{"$f":"IF($AD59=0,\"\",IF(COUNTIF(AB$76:AB$83,$AB59),INDEX(AA$76:AA$83,MATCH($AB59,AB$76:AB$83,0)),(SUMPRODUCT(((1000*AD59*AE59+30*AH59-20*AI59+AJ59)<(1000*(AD$58:AD$73)*(AE$58:AE$73)+30*(AH$58:AH$73)-20*(AI$58:AI$73)+(AJ$58:AJ$73)))+0)+1)))","v":4},{"$f":"IF(LEFT($G$62,1)=\"1\",\"-\",$G$62)","v":"Brasil"},null,1,1,null,0,1,1,1]
[null,null,null,null,null,null,null,null,null,null,null,null,null,null,null,null,null,null,null,null,null,null,null,null,null,null,6,{"$f":"IF(LEFT($G$63,1)=\"1\",\"-\",$G$63)","v":"Colombia"},null,1,1,null,0,2,0,2]
[null,"Partido","Fecha y Hora Local (Brasil)","FECHA","HORA","Sede","Octavos de final",null,null,null,null,null,null,null,null,null,null,null,null,null,null,null,null,null,null,null,1,{"$f":"IF(LEFT($G$67,1)=\"1\",\"-\",$G$67)","v":"Alemania"},null,1,1,null,0,2,1,1]
[null,49,"2014-06-28T13:00:00",{"$f":"C62+IF(rTimeDifIsItPositive,rTimeDifference,-rTimeDifference)","v":"2014-06-28T11:00:00"},{"$f":"C62+IF(rTimeDifIsItPositive,rTimeDifference,-rTimeDifference)","v":41818.458333333328},"Belo Horizonte",{"$f":"IF(SUM(AD$9:AD$12)=12,VLOOKUP(1,$AA$9:$AB$12,2,FALSE),\"1A\")","v":"Brasil"},3,1,1,2,{"$f":"IF(SUM(AD$15:AD$18)=12,IF(COUNTIF($AA$15:$AA$18,1)>=2,(VLOOKUP(1,INDIRECT(ADDRESS(ROW(AA$15:AA$18)+MATCH(1,(AA$15:AA$18),0),COLUMN($AA$8))&\":\" & ADDRESS(ROW($AB$18),COLUMN($AB$18))),2,FALSE)),VLOOKUP(2,$AA$15:$AB$18,2,FALSE)),\"2B\")","v":"Chile"},null,null,null,null,null,null,null,null,null,null,null,null,null,null,10,{"$f":"IF(LEFT($L$65,1)=\"2\",\"-\",$L$65)","v":"Grecia"},null,1,0,null,1,1,1,-2]
[null,50,"2014-06-28T17:00:00","2014-06-28T15:00:00",41818.625,"Rio de Janeiro",{"$f":"IF(SUM(AD$21:$AD24)=12,VLOOKUP(1,$AA$21:$AB$24,2,FALSE),\"1C\")","v":"Colombia"},null,2,0,null,{"$f":"IF(SUM(AD$27:AD$30)=12,IF(COUNTIF($AA$27:$AA$30,1)>=2,(VLOOKUP(1,INDIRECT(ADDRESS(ROW(AA$27:AA$30)+MATCH(1,(AA$27:AA$30),0),COLUMN($AA$8))&\":\" & ADDRESS(ROW($AB$30),COLUMN($AB$30))),2,FALSE)),VLOOKUP(2,$AA$27:$AB$30,2,FALSE)),\"2D\")","v":"Uruguay"},null,null,null,null,null,null,null,null,null,null,null,null,null,null,15,{"$f":"IF(LEFT($L$66,1)=\"2\",\"-\",$L$66)","v":"Nigeria"},null,1,0,null,1,0,2,-2]
[null,51,"2014-06-29T13:00:00","2014-06-29T11:00:00",41819.458333333328,"Fortaleza",{"$f":"IF(SUM(AD$15:AD$18)=12,VLOOKUP(1,$AA$15:$AB$18,2,FALSE),\"1B\")","v":"Holanda"},null,2,1,null,{"$f":"IF(SUM(AD$9:AD$12)=12,IF(COUNTIF($AA$9:$AA$12,1)>=2,(VLOOKUP(1,INDIRECT(ADDRESS(ROW(AA$9:AA$12)+MATCH(1,(AA$9:AA$12),0),COLUMN($AA$8))&\":\" & ADDRESS(ROW($AB$12),COLUMN($AB$12))),2,FALSE)),VLOOKUP(2,$AA$9:$AB$12,2,FALSE)),\"2A\")","v":"México"},null,null,null,null,null,null,null,null,null,null,null,null,null,null,11,{"$f":"IF(LEFT($L$69,1)=\"2\",\"-\",$L$69)","v":"EEUU"},null,1,0,null,1,1,2,-1]
[null,52,"2014-06-29T17:00:00","2014-06-29T15:00:00",41819.625,"Recife",{"$f":"IF(SUM(AD$27:AD$30)=12,VLOOKUP(1,$AA$27:$AB$30,2,FALSE),\"1D\")","v":"Costa Rica"},5,1,1,3,{"$f":"IF(SUM(AD$21:AD$24)=12,IF(COUNTIF($AA$21:$AA$24,1)>=2,(VLOOKUP(1,INDIRECT(ADDRESS(ROW(AA$21:AA$24)+MATCH(1,(AA$21:AA$24),0),COLUMN($AA$8))&\":\" & ADDRESS(ROW($AB$24),COLUMN($AB$24))),2,FALSE)),VLOOKUP(2,$AA$21:$AB$24,2,FALSE)),\"2C\")","v":"Grecia"},null,null,null,null,null,null,null,null,null,null,null,null,null,null,2,{"$f":"IF(LEFT($G$68,1)=\"1\",\"-\",$G$68)","v":"Argentina"},null,1,1,null,0,1,0,1]
[null,53,"2014-06-30T13:00:00","2014-06-30T11:00:00",41820.458333333328,"Brasilia",{"$f":"IF(SUM(AD$33:AD$36)=12,VLOOKUP(1,$AA$33:$AB$36,2,FALSE),\"1E\")","v":"Francia"},null,2,0,null,{"$f":"IF(SUM(AD$39:AD$42)=12,IF(COUNTIF($AA$39:$AA$42,1)>=2,(VLOOKUP(1,INDIRECT(ADDRESS(ROW(AA$39:AA$42)+MATCH(1,(AA$39:AA$42),0),COLUMN($AA$8))&\":\" & ADDRESS(ROW($AB$42),COLUMN($AB$42))),2,FALSE)),VLOOKUP(2,$AA$39:$AB$42,2,FALSE)),\"2F\")","v":"Nigeria"},null,null,null,null,null,null,null,null,null,null,null,null,null,null,5,{"$f":"IF(LEFT($G$65,1)=\"1\",\"-\",$G$65)","v":"Costa Rica"},null,1,1,null,0,1,1,2]
[null,54,"2014-06-30T17:00:00","2014-06-30T15:00:00",41820.625,"Porto Alegre",{"$f":"IF(SUM(AD$45:AD$48)=12,VLOOKUP(1,$AA$45:$AB$48,2,FALSE),\"1G\")","v":"Alemania"},null,2,1,null,{"$f":"IF(SUM(AD$51:AD$54)=12,IF(COUNTIF($AA$51:$AA$54,1)>=2,(VLOOKUP(1,INDIRECT(ADDRESS(ROW(AA$51:AA$54)+MATCH(1,(AA$51:AA$54),0),COLUMN($AA$8))&\":\" & ADDRESS(ROW($AB$54),COLUMN($AB$54))),2,FALSE)),VLOOKUP(2,$AA$51:$AB$54,2,FALSE)),\"2H\")","v":"Argelia"},null,null,null,null,null,null,null,null,null,null,null,null,null,null,3,{"$f":"IF(LEFT($G$64,1)=\"1\",\"-\",$G$64)","v":"Holanda"},null,1,1,null,0,2,1,1]
[null,55,"2014-07-01T13:00:00","2014-07-01T11:00:00",41821.458333333328,"Sao Paulo",{"$f":"IF(SUM(AD$39:AD$42)=12,VLOOKUP(1,$AA$39:$AB$42,2,FALSE),\"1F\")","v":"Argentina"},null,1,0,null,{"$f":"IF(SUM(AD$33:AD$36)=12,IF(COUNTIF($AA$33:$AA$36,1)>=2,(VLOOKUP(1,INDIRECT(ADDRESS(ROW(AA$33:AA$36)+MATCH(1,(AA$33:AA$36),0),COLUMN($AA$8))&\":\" & ADDRESS(ROW($AB$36),COLUMN($AB$36))),2,FALSE)),VLOOKUP(2,$AA$33:$AB$36,2,FALSE)),\"2E\")","v":"Suiza"},null,null,null,null,null,null,null,null,null,null,null,null,null,null,7,{"$f":"IF(LEFT($G$66,1)=\"1\",\"-\",$G$66)","v":"Francia"},null,1,1,null,0,2,0,2]
[null,56,"2014-07-01T17:00:00","2014-07-01T15:00:00",41821.625,"Salvador",{"$f":"IF(SUM(AD$51:AD$54)=12,VLOOKUP(1,$AA$51:$AB$54,2,FALSE),\"1H\")","v":"Bélgica"},null,2,1,null,{"$f":"IF(SUM(AD$45:AD$48)=12,IF(COUNTIF($AA$45:$AA$48,1)>=2,(VLOOKUP(1,INDIRECT(ADDRESS(ROW(AA$45:AA$48)+MATCH(1,(AA$45:AA$48),0),COLUMN($AA$8))&\":\" & ADDRESS(ROW($AB$48),COLUMN($AB$48))),2,FALSE)),VLOOKUP(2,$AA$45:$AB$48,2,FALSE)),\"2G\")","v":"EEUU"},null,null,null,null,null,null,null,null,null,null,null,null,null,null,7,{"$f":"IF(LEFT($G$69,1)=\"1\",\"-\",$G$69)","v":"Bélgica"},null,1,1,null,0,2,1,1]
[null,null,null,null,null,null,null,null,null,null,null,null,null,null,null,null,null,null,null,null,null,null,null,null,null,null,9,{"$f":"IF(LEFT($L$62,1)=\"2\",\"-\",$L$62)","v":"Chile"},null,1,0,null,1,1,1,-1]
[null,null,null,null,null,null,null,null,null,null,null,null,null,null,null,null,null,null,null,null,null,null,null,null,null,null,15,{"$f":"IF(LEFT($L$63,1)=\"2\",\"-\",$L$63)","v":"Uruguay"},null,1,0,null,1,0,2,-2]
[null,null,null,null,null,null,null,null,null,null,null,null,null,null,null,null,null,null,null,null,null,null,null,null,null,null,11,{"$f":"IF(LEFT($L$67,1)=\"2\",\"-\",$L$67)","v":"Argelia"},null,1,0,null,1,1,2,-1]
[null,null,null,null,null,null,null,null,null,null,null,null,null,null,null,null,null,null,null,null,null,null,null,null,null,null,14,{"$f":"IF(LEFT($L$68,1)=\"2\",\"-\",$L$68)","v":"Suiza"},null,1,0,null,1,0,1,-1]
[]
[null,null,null,null,null,null,null,null,null,null,null,null,null,null,null,null,null,null,null,null,null,null,null,null,null,null,"Pos","EQUIPO","Pts.","PJ","G","E","P","GF","GC","D"]
[null,null,null,null,null,null,null,null,null,null,null,null,null,null,null,null,null,null,null,null,null,null,null,null,null,null,{"$f":"IF(COUNTIF(AB$86:AB$89,$AB76),INDEX(AA$86:AA$89,MATCH($AB76,AB$86:AB$89,0)),IF($AD76=0,\"\",(SUMPRODUCT(((1000*AD76*AE76+30*AH76-20*AI76+AJ76)<(1000*(AD$76:AD$83)*(AE$76:AE$83)+30*(AH$76:AH$83)-20*(AI$76:AI$83)+(AJ$76:AJ$83)))+0)+1)))","v":4},{"$f":"IF(LEFT($G$78,3)=\"G49\",\"-\",$G$78)","v":"Brasil"},null,{"$f":"IF(AB76=\"-\",0,IF(COUNTIF($G$87:$L$88,AB76),1,IF(COUNTIF($G$78:$G$81,AB76)=1,IF(COUNTIF($G$87:$L$88,VLOOKUP(AB76,$G$78:$L$81,6,FALSE))=1,1,0),IF(COUNTIF($G$87:$L$88,INDEX($G$78:$G$81,MATCH(AB76,$L$78:$L$81,0),1))=1,1,0))))","v":1},{"$f":"IF($AD76=1,IF(COUNTIF($G$78:$G$81,$AB76)=1,IF(((VLOOKUP($AB76,$G$78:$K$81,2,FALSE)+VLOOKUP($AB76,$G$78:$K$81,3,FALSE)))>(VLOOKUP($AB76,$G$78:$K$81,4,FALSE)+VLOOKUP($AB76,$G$78:$K$81,5,FALSE)),1,0),IF((INDEX($H$78:$H$81,MATCH($AB76,$L$78:$L$81,0))+INDEX($I$78:$I$81,MATCH($AB76,$L$78:$L$81,0)))>(INDEX($J$78:$J$81,MATCH($AB76,$L$78:$L$81,0))+INDEX($K$78:$K$81,MATCH($AB76,$L$78:$L$81,0))),0,1)),0)","v":1},null,{"$f":"ABS(AD76-AE76)","v":0},{"$f":"IF($AD76=1,IF(COUNTIF($G$78:$G$81,$AB76)=1,VLOOKUP($AB76,$G$78:$J$81,3,FALSE),INDEX($J$78:$J$81,MATCH($AB76,$L$78:$L$81,0),1)),0)","v":2},{"$f":"IF($AD76=1,IF(COUNTIF($G$78:$G$81,$AB76)=1,VLOOKUP($AB76,$G$78:$J$81,4,FALSE),INDEX($I$78:$I$81,MATCH($AB76,$L$78:$L$81,0),1)),0)","v":1},{"$f":"IF($AD76=1,IF(COUNTIF($G$78:$G$81,$AB76)=1,VLOOKUP($AB76,$G$78:$K$81,2,FALSE),INDEX($K$78:$K$81,MATCH($AB76,$L$78:$L$81,0),1)),0)+AH76-AI76-IF($AD76=1,IF(COUNTIF($G$78:$G$81,$AB76)=1,VLOOKUP($AB76,$G$78:$K$81,5,FALSE),INDEX($H$78:$H$81,MATCH($AB76,$L$78:$L$81,0),1)),0)","v":1}]
[null,"Partido","Fecha y Hora Local (Brasil)","FECHA","HORA","Sede","Cuartos de final",null,null,null,null,null,null,null,null,null,null,null,null,null,null,null,null,null,null,null,7,{"$f":"IF(LEFT($G$79,3)=\"G53\",\"-\",$G$79)","v":"Francia"},null,1,{"$f":"IF($AD77=1,IF(COUNTIF($G$78:$G$81,$AB77)=1,IF(((VLOOKUP($AB77,$G$78:$K$81,2,FALSE)+VLOOKUP($AB77,$G$78:$K$81,3,FALSE)))>(VLOOKUP($AB77,$G$78:$K$81,4,FALSE)+VLOOKUP($AB77,$G$78:$K$81,5,FALSE)),1,0),IF((INDEX($H$78:$H$81,MATCH($AB77,$L$78:$L$81,0))+INDEX($I$78:$I$81,MATCH($AB77,$L$78:$L$81,0)))>(INDEX($J$78:$J$81,MATCH($AB77,$L$78:$L$81,0))+INDEX($K$78:$K$81,MATCH($AB77,$L$78:$L$81,0))),0,1)),0)","v":0},null,1,0,1,-1]
[null,57,"2014-07-04T17:00:00",{"$f":"C78+IF(rTimeDifIsItPositive,rTimeDifference,-rTimeDifference)","v":"2014-07-04T15:00:00"},{"$f":"C78+IF(rTimeDifIsItPositive,rTimeDifference,-rTimeDifference)","v":41824.625},"Fortaleza",{"$f":"IF((OR(LEFT(G62,1)=\"1\",LEFT(L62,)=\"2\")),\"G49\",IF(AND(COUNT(H62:K62)=4,I62=J62,H62<>K62),IF(H62+I62>J62+K62,G62,L62),IF(AND(COUNT(H62:K62)=2,H62&K62=\"\",I62<>J62),IF(I62>J62,G62,L62),\"G49\")))","v":"Brasil"},null,2,1,null,{"$f":"IF((OR(LEFT(G63,1)=\"1\",LEFT(L63,)=\"2\")),\"G50\",IF(AND(COUNT(H63:K63)=4,I63=J63,H63<>K63),IF(H63+I63>J63+K63,G63,L63),IF(AND(COUNT(H63:K63)=2,H63&K63=\"\",I63<>J63),IF(I63>J63,G63,L63),\"G50\")))","v":"Colombia"},null,null,null,null,null,null,null,null,null,null,null,null,null,null,3,{"$f":"IF(LEFT($G$80,3)=\"G51\",\"-\",$G$80)","v":"Holanda"},null,1,1,null,0,0,0,1]
[null,58,"2014-07-04T13:00:00",{"$f":"C79+IF(rTimeDifIsItPositive,rTimeDifference,-rTimeDifference)","v":"2014-07-04T11:00:00"},{"$f":"C79+IF(rTimeDifIsItPositive,rTimeDifference,-rTimeDifference)","v":41824.458333333328},"Rio de Janeiro",{"$f":"IF((OR(LEFT(G66,1)=\"1\",LEFT(L66,)=\"2\")),\"G53\",IF(AND(COUNT(H66:K66)=4,I66=J66,H66<>K66),IF(H66+I66>J66+K66,G66,L66),IF(AND(COUNT(H66:K66)=2,H66&K66=\"\",I66<>J66),IF(I66>J66,G66,L66),\"G53\")))","v":"Francia"},null,0,1,null,{"$f":"IF((OR(LEFT(G67,1)=\"1\",LEFT(L67,)=\"2\")),\"G54\",IF(AND(COUNT(H67:K67)=4,I67=J67,H67<>K67),IF(H67+I67>J67+K67,G67,L67),IF(AND(COUNT(H67:K67)=2,H67&K67=\"\",I67<>J67),IF(I67>J67,G67,L67),\"G54\")))","v":"Alemania"},null,null,null,null,null,null,null,null,null,null,null,null,null,null,2,{"$f":"IF(LEFT($G$81,3)=\"G55\",\"-\",$G$81)","v":"Argentina"},null,1,1,null,0,1,0,1]
[null,59,"2014-07-05T17:00:00",{"$f":"C80+IF(rTimeDifIsItPositive,rTimeDifference,-rTimeDifference)","v":"2014-07-05T15:00:00"},{"$f":"C80+IF(rTimeDifIsItPositive,rTimeDifference,-rTimeDifference)","v":41825.625},"Salvador",{"$f":"IF((OR(LEFT(G64,1)=\"1\",LEFT(L64,)=\"2\")),\"G51\",IF(AND(COUNT(H64:K64)=4,I64=J64,H64<>K64),IF(H64+I64>J64+K64,G64,L64),IF(AND(COUNT(H64:K64)=2,H64&K64=\"\",I64<>J64),IF(I64>J64,G64,L64),\"G51\")))","v":"Holanda"},4,0,0,3,{"$f":"IF((OR(LEFT(G65,1)=\"1\",LEFT(L65,)=\"2\")),\"G52\",IF(AND(COUNT(H65:K65)=4,I65=J65,H65<>K65),IF(H65+I65>J65+K65,G65,L65),IF(AND(COUNT(H65:K65)=2,H65&K65=\"\",I65<>J65),IF(I65>J65,G65,L65),\"G52\")))","v":"Costa Rica"},null,null,null,null,null,null,null,null,null,null,null,null,null,null,6,{"$f":"IF(LEFT($L$78,3)=\"G50\",\"-\",$L$78)","v":"Colombia"},null,1,0,null,1,1,2,-1]
[null,60,"2014-07-05T13:00:00",{"$f":"C81+IF(rTimeDifIsItPositive,rTimeDifference,-rTimeDifference)","v":"2014-07-05T11:00:00"},{"$f":"C81+IF(rTimeDifIsItPositive,rTimeDifference,-rTimeDifference)","v":41825.458333333328},"Brasilia",{"$f":"IF((OR(LEFT(G68,1)=\"1\",LEFT(L68,)=\"2\")),\"G55\",IF(AND(COUNT(H68:K68)=4,I68=J68,H68<>K68),IF(H68+I68>J68+K68,G68,L68),IF(AND(COUNT(H68:K68)=2,H68&K68=\"\",I68<>J68),IF(I68>J68,G68,L68),\"G55\")))","v":"Argentina"},null,1,0,null,{"$f":"IF((OR(LEFT(G69,1)=\"1\",LEFT(L69,)=\"2\")),\"G56\",IF(AND(COUNT(H69:K69)=4,I69=J69,H69<>K69),IF(H69+I69>J69+K69,G69,L69),IF(AND(COUNT(H69:K69)=2,H69&K69=\"\",I69<>J69),IF(I69>J69,G69,L69),\"G56\")))","v":"Bélgica"},null,null,null,null,null,null,null,null,null,null,null,null,null,null,1,{"$f":"IF(LEFT($L$79,3)=\"G54\",\"-\",$L$79)","v":"Alemania"},null,1,1,null,0,1,0,1]
[null,null,null,null,null,null,null,null,null,null,null,null,null,null,null,null,null,null,null,null,null,null,null,null,null,null,5,{"$f":"IF(LEFT($L$80,3)=\"G52\",\"-\",$L$80)","v":"Costa Rica"},null,1,0,null,1,0,0,-1]
[null,null,null,null,null,null,null,null,null,null,null,null,null,null,null,null,null,null,null,null,null,null,null,null,null,null,7,{"$f":"IF(LEFT($L$81,3)=\"G56\",\"-\",$L$81)","v":"Bélgica"},null,1,0,null,1,0,1,-1]
[]
[null,null,null,null,null,null,null,null,null,null,null,null,null,null,null,null,null,null,null,null,null,null,null,null,null,null,"Pos","EQUIPO","Pts.","PJ","G","E","P","GF","GC","D"]
[null,"Partido","Fecha y Hora Local (Brasil)","FECHA","HORA","Sede","Semifinales",null,null,null,null,null,null,null,null,null,null,null,null,null,null,null,null,null,null,null,{"$f":"IF($AD86=0,\"\",INDEX(AA$92:AA$98,MATCH($AB86,AB$92:AB$98,0)))","v":4},{"$f":"IF(LEFT($G$87,3)=\"G57\",\"-\",$G$87)","v":"Brasil"},null,{"$f":"IF(AB86=\"-\",0,IF(COUNTIF($G$98:$L$98,AB86),1,IF(COUNTIF($G$87:$G$88,AB86)=1,IF(COUNTIF($G$98:$L$98,VLOOKUP(AB86,$G$87:$L$88,6,FALSE))=1,1,0),IF(COUNTIF($G$98:$L$98,INDEX($G$87:$G$88,MATCH(AB86,$L$87:$L$88,0),1))=1,1,0))))","v":1},{"$f":"IF($AD86=1,IF(COUNTIF($G$87:$G$88,$AB86)=1,IF(((VLOOKUP($AB86,$G$87:$K$88,2,FALSE)+VLOOKUP($AB86,$G$87:$K$88,3,FALSE)))>(VLOOKUP($AB86,$G$87:$K$88,4,FALSE)+VLOOKUP($AB86,$G$87:$K$88,5,FALSE)),1,0),IF((INDEX($H$87:$H$88,MATCH($AB86,$L$87:$L$88,0))+INDEX($I$87:$I$88,MATCH($AB86,$L$87:$L$88,0)))>(INDEX($J$87:$J$88,MATCH($AB86,$L$87:$L$88,0))+INDEX($K$87:$K$88,MATCH($AB86,$L$87:$L$88,0))),0,1)),0)","v":0},null,{"$f":"ABS(AD86-AE86)","v":1},{"$f":"IF($AD86=1,IF(COUNTIF($G$87:$G$88,$AB86)=1,VLOOKUP($AB86,$G$87:$J$88,3,FALSE),INDEX($J$87:$J$88,MATCH($AB86,$L$87:$L$88,0),1)),0)","v":1},{"$f":"IF($AD86=1,IF(COUNTIF($G$87:$G$88,$AB86)=1,VLOOKUP($AB86,$G$87:$J$88,4,FALSE),INDEX($I$87:$I$88,MATCH($AB86,$L$87:$L$88,0),1)),0)","v":7},{"$f":"IF($AD86=1,IF(COUNTIF($G$87:$G$88,$AB86)=1,VLOOKUP($AB86,$G87:$K$88,2,FALSE),INDEX($K$87:$K$88,MATCH($AB86,$L$87:$L$88,0),1)),0)+AH86-AI86-IF($AD86=1,IF(COUNTIF($G$87:$G$88,$AB86)=1,VLOOKUP($AB86,$G$87:$K$88,5,FALSE),INDEX($H$87:$H$88,MATCH($AB86,$L$87:$L$88,0),1)),0)","v":-6}]
[null,61,"2014-07-08T17:00:00",{"$f":"C87+IF(rTimeDifIsItPositive,rTimeDifference,-rTimeDifference)","v":"2014-07-08T15:00:00"},{"$f":"C87+IF(rTimeDifIsItPositive,rTimeDifference,-rTimeDifference)","v":41828.625},"Belo Horizonte",{"$f":"IF(OR(LEFT(G78,3)=\"G49\",LEFT(L78,3)=\"G50\"),\"G57\",IF(AND(COUNT(H78:K78)=4,I78=J78,H78<>K78),IF(H78+I78>J78+K78,G78,L78),IF(AND(COUNT(H78:K78)=2,H78&K78=\"\",I78<>J78),IF(I78>J78,G78,L78),\"G57\")))","v":"Brasil"},null,1,7,null,{"$f":"IF(OR(LEFT(G79,3)=\"G53\",LEFT(L79,3)=\"G54\"),\"G58\",IF(AND(COUNT(H79:K79)=4,I79=J79,H79<>K79),IF(H79+I79>J79+K79,G79,L79),IF(AND(COUNT(H79:K79)=2,H79&K79=\"\",I79<>J79),IF(I79>J79,G79,L79),\"G58\")))","v":"Alemania"},null,null,null,null,null,null,null,null,null,null,null,null,null,null,{"$f":"IF($AD87=0,\"\",INDEX(AA$92:AA$98,MATCH($AB87,AB$92:AB$98,0)))","v":3},{"$f":"IF(LEFT($G$88,3)=\"G59\",\"-\",$G$88)","v":"Holanda"},null,{"$f":"IF(AB87=\"-\",0,IF(COUNTIF($G$98:$L$98,AB87),1,IF(COUNTIF($G$87:$G$88,AB87)=1,IF(COUNTIF($G$98:$L$98,VLOOKUP(AB87,$G$87:$L$88,6,FALSE))=1,1,0),IF(COUNTIF($G$98:$L$98,INDEX($G$87:$G$88,MATCH(AB87,$L$87:$L$88,0),1))=1,1,0))))","v":1},{"$f":"IF($AD87=1,IF(COUNTIF($G$87:$G$88,$AB87)=1,IF(((VLOOKUP($AB87,$G$87:$K$88,2,FALSE)+VLOOKUP($AB87,$G$87:$K$88,3,FALSE)))>(VLOOKUP($AB87,$G$87:$K$88,4,FALSE)+VLOOKUP($AB87,$G$87:$K$88,5,FALSE)),1,0),IF((INDEX($H$87:$H$88,MATCH($AB87,$L$87:$L$88,0))+INDEX($I$87:$I$88,MATCH($AB87,$L$87:$L$88,0)))>(INDEX($J$87:$J$88,MATCH($AB87,$L$87:$L$88,0))+INDEX($K$87:$K$88,MATCH($AB87,$L$87:$L$88,0))),0,1)),0)","v":0},null,{"$f":"ABS(AD87-AE87)","v":1},{"$f":"IF($AD87=1,IF(COUNTIF($G$87:$G$88,$AB87)=1,VLOOKUP($AB87,$G$87:$J$88,3,FALSE),INDEX($J$87:$J$88,MATCH($AB87,$L$87:$L$88,0),1)),0)","v":0},{"$f":"IF($AD87=1,IF(COUNTIF($G$87:$G$88,$AB87)=1,VLOOKUP($AB87,$G$87:$J$88,4,FALSE),INDEX($I$87:$I$88,MATCH($AB87,$L$87:$L$88,0),1)),0)","v":0},{"$f":"IF($AD87=1,IF(COUNTIF($G$87:$G$88,$AB87)=1,VLOOKUP($AB87,$G88:$K$88,2,FALSE),INDEX($K$87:$K$88,MATCH($AB87,$L$87:$L$88,0),1)),0)+AH87-AI87-IF($AD87=1,IF(COUNTIF($G$87:$G$88,$AB87)=1,VLOOKUP($AB87,$G$87:$K$88,5,FALSE),INDEX($H$87:$H$88,MATCH($AB87,$L$87:$L$88,0),1)),0)","v":-2}]
[null,62,"2014-07-09T17:00:00",{"$f":"C88+IF(rTimeDifIsItPositive,rTimeDifference,-rTimeDifference)","v":"2014-07-09T15:00:00"},{"$f":"C88+IF(rTimeDifIsItPositive,rTimeDifference,-rTimeDifference)","v":41829.625},"Sao Paulo",{"$f":"IF(OR(LEFT(G80,3)=\"G51\",LEFT(L80,3)=\"G52\"),\"G59\",IF(AND(COUNT(H80:K80)=4,I80=J80,H80<>K80),IF(H80+I80>J80+K80,G80,L80),IF(AND(COUNT(H80:K80)=2,H80&K80=\"\",I80<>J80),IF(I80>J80,G80,L80),\"G59\")))","v":"Holanda"},2,0,0,4,{"$f":"IF(OR(LEFT(G81,3)=\"G55\",LEFT(L81,3)=\"G56\"),\"G60\",IF(AND(COUNT(H81:K81)=4,I81=J81,H81<>K81),IF(H81+I81>J81+K81,G81,L81),IF(AND(COUNT(H81:K81)=2,H81&K81=\"\",I81<>J81),IF(I81>J81,G81,L81),\"G60\")))","v":"Argentina"},null,null,null,null,null,null,null,null,null,null,null,null,null,null,{"$f":"IF($AD88=0,\"\",INDEX(AA$92:AA$98,MATCH($AB88,AB$92:AB$98,0)))","v":1},{"$f":"IF(LEFT($L$87,3)=\"G58\",\"-\",$L$87)","v":"Alemania"},null,{"$f":"IF(AB88=\"-\",0,IF(COUNTIF($G$98:$L$98,AB88),1,IF(COUNTIF($G$87:$G$88,AB88)=1,IF(COUNTIF($G$98:$L$98,VLOOKUP(AB88,$G$87:$L$88,6,FALSE))=1,1,0),IF(COUNTIF($G$98:$L$98,INDEX($G$87:$G$88,MATCH(AB88,$L$87:$L$88,0),1))=1,1,0))))","v":1},{"$f":"IF($AD88=1,IF(COUNTIF($G$87:$G$88,$AB88)=1,IF(((VLOOKUP($AB88,$G$87:$K$88,2,FALSE)+VLOOKUP($AB88,$G$87:$K$88,3,FALSE)))>(VLOOKUP($AB88,$G$87:$K$88,4,FALSE)+VLOOKUP($AB88,$G$87:$K$88,5,FALSE)),1,0),IF((INDEX($H$87:$H$88,MATCH($AB88,$L$87:$L$88,0))+INDEX($I$87:$I$88,MATCH($AB88,$L$87:$L$88,0)))>(INDEX($J$87:$J$88,MATCH($AB88,$L$87:$L$88,0))+INDEX($K$87:$K$88,MATCH($AB88,$L$87:$L$88,0))),0,1)),0)","v":1},null,{"$f":"ABS(AD88-AE88)","v":0},{"$f":"IF($AD88=1,IF(COUNTIF($G$87:$G$88,$AB88)=1,VLOOKUP($AB88,$G$87:$J$88,3,FALSE),INDEX($J$87:$J$88,MATCH($AB88,$L$87:$L$88,0),1)),0)","v":7},{"$f":"IF($AD88=1,IF(COUNTIF($G$87:$G$88,$AB88)=1,VLOOKUP($AB88,$G$87:$J$88,4,FALSE),INDEX($I$87:$I$88,MATCH($AB88,$L$87:$L$88,0),1)),0)","v":1},{"$f":"IF($AD88=1,IF(COUNTIF($G$87:$G$88,$AB88)=1,VLOOKUP($AB88,$G$88:$K89,2,FALSE),INDEX($K$87:$K$88,MATCH($AB88,$L$87:$L$88,0),1)),0)+AH88-AI88-IF($AD88=1,IF(COUNTIF($G$87:$G$88,$AB88)=1,VLOOKUP($AB88,$G$87:$K$88,5,FALSE),INDEX($H$87:$H$88,MATCH($AB88,$L$87:$L$88,0),1)),0)","v":6}]
[null,null,null,null,null,null,null,null,null,null,null,null,null,null,null,null,null,null,null,null,null,null,null,null,null,null,{"$f":"IF($AD89=0,\"\",INDEX(AA$92:AA$98,MATCH($AB89,AB$92:AB$98,0)))","v":2},{"$f":"IF(LEFT($L$88,3)=\"G60\",\"-\",$L$88)","v":"Argentina"},null,{"$f":"IF(AB89=\"-\",0,IF(COUNTIF($G$98:$L$98,AB89),1,IF(COUNTIF($G$87:$G$88,AB89)=1,IF(COUNTIF($G$98:$L$98,VLOOKUP(AB89,$G$87:$L$88,6,FALSE))=1,1,0),IF(COUNTIF($G$98:$L$98,INDEX($G$87:$G$88,MATCH(AB89,$L$87:$L$88,0),1))=1,1,0))))","v":1},{"$f":"IF($AD89=1,IF(COUNTIF($G$87:$G$88,$AB89)=1,IF(((VLOOKUP($AB89,$G$87:$K$88,2,FALSE)+VLOOKUP($AB89,$G$87:$K$88,3,FALSE)))>(VLOOKUP($AB89,$G$87:$K$88,4,FALSE)+VLOOKUP($AB89,$G$87:$K$88,5,FALSE)),1,0),IF((INDEX($H$87:$H$88,MATCH($AB89,$L$87:$L$88,0))+INDEX($I$87:$I$88,MATCH($AB89,$L$87:$L$88,0)))>(INDEX($J$87:$J$88,MATCH($AB89,$L$87:$L$88,0))+INDEX($K$87:$K$88,MATCH($AB89,$L$87:$L$88,0))),0,1)),0)","v":1},null,{"$f":"ABS(AD89-AE89)","v":0},{"$f":"IF($AD89=1,IF(COUNTIF($G$87:$G$88,$AB89)=1,VLOOKUP($AB89,$G$87:$J$88,3,FALSE),INDEX($J$87:$J$88,MATCH($AB89,$L$87:$L$88,0),1)),0)","v":0},{"$f":"IF($AD89=1,IF(COUNTIF($G$87:$G$88,$AB89)=1,VLOOKUP($AB89,$G$87:$J$88,4,FALSE),INDEX($I$87:$I$88,MATCH($AB89,$L$87:$L$88,0),1)),0)","v":0},{"$f":"IF($AD89=1,IF(COUNTIF($G$87:$G$88,$AB89)=1,VLOOKUP($AB89,$G$88:$K89,2,FALSE),INDEX($K$87:$K$88,MATCH($AB89,$L$87:$L$88,0),1)),0)+AH89-AI89-IF($AD89=1,IF(COUNTIF($G$87:$G$88,$AB89)=1,VLOOKUP($AB89,$G$87:$K$88,5,FALSE),INDEX($H$87:$H$88,MATCH($AB89,$L$87:$L$88,0),1)),0)","v":2}]
[]
[null,null,null,null,null,null,null,null,null,null,null,null,null,null,null,null,null,null,null,null,null,null,null,null,null,null,"Pos","EQUIPO","Pts.","PJ","G","E","P","GF","GC","D"]
[null,"Partido","Fecha y Hora Local (Brasil)","FECHA","HORA","Sede","PARTIDO POR EL TERCER PUESTO",null,null,null,null,null,null,null,null,null,null,null,null,null,null,null,null,null,null,null,{"$f":"IF(SUM(AE$92:AE$93)=1,IF(AE92=1,3,4),\"\")","v":4},{"$f":"IF(LEFT($G$93,3)=\"P61\",\"-\",$G$93)","v":"Brasil"},null,{"$f":"IF(OR((IF(OR(LEFT(G93,3)=\"P61\",LEFT(L93,3)=\"P62\"),0,IF(AND(COUNT(H93:K93)=4,I93=J93,H93<>K93),IF(H93+I93>J93+K93,1,0),IF(AND(COUNT(H93:K93)=2,H93&K93=\"\",I93<>J93),IF(I93>J93,1,0),0)))),(IF(OR(LEFT(G93,5)=\"Perde\",LEFT(L93,5)=\"Perde\"),0,IF(AND(COUNT(H93:K93)=4,I93=J93,H93<>K93),IF(H93+I93<J93+K93,1,0),IF(AND(COUNT(H93:K93)=2,H93&K93=\"\",I93<>J93),IF(I93<J93,1,0),0))))),1,0)","v":1},{"$f":"(IF(OR(LEFT(G93,3)=\"P61\",LEFT(L93,3)=\"P62\"),0,IF(AND(COUNT(H93:K93)=4,I93=J93,H93<>K93),IF(H93+I93>J93+K93,1,0),IF(AND(COUNT(H93:K93)=2,H93&K93=\"\",I93<>J93),IF(I93>J93,1,0),0))))","v":0},null,{"$f":"ABS(AD92-AE92)","v":1},{"$f":"IF($AD92=1,IF($AB92=$G$93,$I$93,$J$93),0)","v":0},{"$f":"IF($AD92=1,IF($AB92=$G$93,$J$93,$I$93),0)","v":3},{"$f":"IF($AD92=1,IF($AB92=$G$93,$H$93+$I$93-$J$93-$K$93,$J$93+$K$93-$H$93-$I$93),0)","v":-3}]
[null,63,"2014-07-12T17:00:00",{"$f":"C93+IF(rTimeDifIsItPositive,rTimeDifference,-rTimeDifference)","v":"2014-07-12T15:00:00"},{"$f":"C93+IF(rTimeDifIsItPositive,rTimeDifference,-rTimeDifference)","v":41832.625},"Brasilia",{"$f":"IF(OR(LEFT(G87,1)=\"G\",LEFT(L87,1)=\"G\"),\"P61\",IF(AND(COUNT(H87:K87)=4,I87=J87,H87<>K87),IF(H87+I87>J87+K87,L87,G87),IF(AND(COUNT(H87:K87)=2,H87&K87=\"\",I87<>J87),IF(I87>J87,L87,G87),\"P61\")))","v":"Brasil"},null,0,3,null,{"$f":"IF(OR(LEFT(G88,1)=\"G\",LEFT(L88,1)=\"G\"),\"P62\",IF(AND(COUNT(H88:K88)=4,I88=J88,H88<>K88),IF(H88+I88>J88+K88,L88,G88),IF(AND(COUNT(H88:K88)=2,H88&K88=\"\",I88<>J88),IF(I88>J88,L88,G88),\"P62\")))","v":"Holanda"},null,null,null,null,null,null,null,null,null,null,null,null,null,null,{"$f":"IF(SUM(AE$92:AE$93)=1,IF(AE93=1,3,4),\"\")","v":3},{"$f":"IF(LEFT($L$93,3)=\"P62\",\"-\",$L$93)","v":"Holanda"},null,{"$f":"AD92","v":1},{"$f":"IF(AD93=1,IF(AE92=1,0,1),0)","v":1},null,{"$f":"ABS(AD93-AE93)","v":0},{"$f":"IF($AD93=1,IF($AB93=$G$93,$I$93,$J$93),0)","v":3},{"$f":"IF($AD93=1,IF($AB93=$G$93,$J$93,$I$93),0)","v":0},{"$f":"IF($AD93=1,IF($AB93=$G$93,$H$93+$I$93-$J$93-$K$93,$J$93+$K$93-$H$93-$I$93),0)","v":3}]
[]
[]
[null,null,null,null,null,null,null,null,null,null,null,null,null,null,null,null,null,null,null,null,null,null,null,null,null,null,"Pos","EQUIPO","Pts.","PJ","G","E","P","GF","GC","D"]
[null,"Partido","Fecha y Hora Local (Brasil)","FECHA","HORA","Sede","FINAL",null,null,null,null,null,null,null,null,null,null,null,null,null,null,null,null,null,null,null,{"$f":"IF(SUM(AE$97:AE$98)=1,IF(AE97=1,1,2),\"\")","v":1},{"$f":"IF(LEFT($G$98,3)=\"G61\",\"-\",$G$98)","v":"Alemania"},null,{"$f":"IF(OR((IF(OR(LEFT(G98,3)=\"G61\",LEFT(L98,3)=\"G62\"),0,IF(AND(COUNT(H98:K98)=4,I98=J98,H98<>K98),IF(H98+I98>J98+K98,1,0),IF(AND(COUNT(H98:K98)=2,H98&K98=\"\",I98<>J98),IF(I98>J98,1,0),0)))),(IF(OR(LEFT(G98,3)=\"G61\",LEFT(L98,3)=\"G62\"),0,IF(AND(COUNT(H98:K98)=4,I98=J98,H98<>K98),IF(H98+I98<J98+K98,1,0),IF(AND(COUNT(H98:K98)=2,H98&K98=\"\",I98<>J98),IF(I98<J98,1,0),0))))),1,0)","v":1},{"$f":"(IF(OR(LEFT(G98,3)=\"G61\",LEFT(L98,3)=\"G62\"),0,IF(AND(COUNT(H98:K98)=4,I98=J98,H98<>K98),IF(H98+I98>J98+K98,1,0),IF(AND(COUNT(H98:K98)=2,H98&K98=\"\",I98<>J98),IF(I98>J98,1,0),0))))","v":1},null,{"$f":"ABS(AD97-AE97)","v":0},{"$f":"IF($AD97=1,IF($AB97=$G$98,$I$98,$J$98),0)","v":1},{"$f":"IF($AD97=1,IF($AB97=$G$98,$J$98,$I$98),0)","v":0},{"$f":"IF($AD97=1,IF($AB97=$G$98,$H$98+$I$98-$J$98-$K$98,$J$98+$K$98-$H$98-$I$98),0)","v":1}]
[null,64,"2014-07-13T16:00:00",{"$f":"C98+IF(rTimeDifIsItPositive,rTimeDifference,-rTimeDifference)","v":"2014-07-13T14:00:00"},{"$f":"C98+IF(rTimeDifIsItPositive,rTimeDifference,-rTimeDifference)","v":41833.583333333328},"Rio de Janeiro",{"$f":"IF(OR(LEFT(G87,3)=\"G57\",LEFT(L87,3)=\"G58\"),\"G61\",IF(AND(COUNT(H87:K87)=4,I87=J87,H87<>K87),IF(H87+I87<J87+K87,L87,G87),IF(AND(COUNT(H87:K87)=2,H87&K87=\"\",I87<>J87),IF(I87<J87,L87,G87),\"G61\")))","v":"Alemania"},null,1,0,null,{"$f":"IF(OR(LEFT(G88,3)=\"G59\",LEFT(L88,3)=\"G60\"),\"G62\",IF(AND(COUNT(H88:K88)=4,I88=J88,H88<>K88),IF(H88+I88<J88+K88,L88,G88),IF(AND(COUNT(H88:K88)=2,H88&K88=\"\",I88<>J88),IF(I88<J88,L88,G88),\"G62\")))","v":"Argentina"},null,null,null,null,null,null,null,null,null,null,null,null,null,null,{"$f":"IF(SUM(AE$97:AE$98)=1,IF(AE98=1,1,2),\"\")","v":2},{"$f":"IF(LEFT($L$98,3)=\"G62\",\"-\",$L$98)","v":"Argentina"},null,{"$f":"AD97","v":1},{"$f":"IF(AD98=1,IF(AE97=1,0,1),0)","v":0},null,{"$f":"ABS(AD98-AE98)","v":1},{"$f":"IF($AD98=1,IF($AB98=$G$98,$I$98,$J$98),0)","v":0},{"$f":"IF($AD98=1,IF($AB98=$G$98,$J$98,$I$98),0)","v":1},{"$f":"IF($AD98=1,IF($AB98=$G$98,$H$98+$I$98-$J$98-$K$98,$J$98+$K$98-$H$98-$I$98),0)","v":-1}]

{"sheet":"Tabla","index":1,"n_rows":36,"n_cols":12,"rows_kept":36,"cut":false,"hidden":false,"merged":[]}
[]
[]
[]
["Posición","Equipo","Ronda","PJ","G","E","P","GF","GC","Dif","GF/PJ","GC/PJ"]
[{"$f":"IF($D5=0,\"\",IF(COUNTIF(Partidos!$AB$58:$AB$73,$B5),(INDEX(Partidos!$AA$58:$AA$73,MATCH($B5,Partidos!$AB$58:$AB$73,0))),(IF(C5<>\"Primera Ronda\",\"\",(SUMPRODUCT((((LOOKUP(LEFT(C5,100),{\"Final\",8000;\"Primera Ronda\",100;\"Cuartos de final\",1000;\"Octavos de final\",500;\"Semifinales\",3000}))*10000+100*D5*E5+30*H5-20*I5+J5)<(10000*((LOOKUP(LEFT(C$5:C$36,100),{\"Final\",8000;\"Primera Ronda\",100;\"Cuartos de final\",1000;\"Octavos de final\",500;\"Semifinales\",3000})))+100*(D$5:D$36)*(E$5:E$36)+30*(H$5:H$36)-20*(I$5:I$36)+(J$5:J$36)))+0)+1)))))","v":1},"Alemania",{"$f":"IF(COUNTIF(Partidos!$AB$97:$AB$98,$B5)=1,\"Final\",IF(COUNTIF(Partidos!$AB$86:$AB$89,$B5)=1,\"Semifinales\",IF(COUNTIF(Partidos!$AB$76:$AB$83,$B5)=1,\"Cuartos de final\",IF(COUNTIF(Partidos!$AB$58:$AB$73,$B5)=1,\"Octavos de final\",\"Primera Ronda\"))))","v":"Final"},{"$f":"SUMIF(Partidos!$AB$9:$AB$98,$B5,Partidos!AD$9:AD$98)","v":7},{"$f":"SUMIF(Partidos!$AB$9:$AB$98,$B5,Partidos!AE$9:AE$98)","v":6},{"$f":"SUMIF(Partidos!$AB$9:$AB$98,$B5,Partidos!AF$9:AF$98)","v":1},{"$f":"SUMIF(Partidos!$AB$9:$AB$98,$B5,Partidos!AG$9:AG$98)","v":0},{"$f":"SUMIF(Partidos!$AB$9:$AB$98,$B5,Partidos!AH$9:AH$98)","v":18},{"$f":"SUMIF(Partidos!$AB$9:$AB$98,$B5,Partidos!AI$9:AI$98)","v":4},{"$f":"SUMIF(Partidos!$AB$9:$AB$98,$B5,Partidos!AJ$9:AJ$98)","v":14},{"$f":"IF($D5=0,0,H5/$D5)","v":2.5714285714285716},{"$f":"IF($D5=0,0,I5/$D5)","v":0.5714285714285714}]
[{"$f":"IF($D6=0,\"\",IF(COUNTIF(Partidos!$AB$58:$AB$73,$B6),(INDEX(Partidos!$AA$58:$AA$73,MATCH($B6,Partidos!$AB$58:$AB$73,0))),(IF(C6<>\"Primera Ronda\",\"\",(SUMPRODUCT((((LOOKUP(LEFT(C6,100),{\"Final\",8000;\"Primera Ronda\",100;\"Cuartos de final\",1000;\"Octavos de final\",500;\"Semifinales\",3000}))*10000+100*D6*E6+30*H6-20*I6+J6)<(10000*((LOOKUP(LEFT(C$5:C$36,100),{\"Final\",8000;\"Primera Ronda\",100;\"Cuartos de final\",1000;\"Octavos de final\",500;\"Semifinales\",3000})))+100*(D$5:D$36)*(E$5:E$36)+30*(H$5:H$36)-20*(I$5:I$36)+(J$5:J$36)))+0)+1)))))","v":2},"Argentina",{"$f":"IF(COUNTIF(Partidos!$AB$97:$AB$98,$B6)=1,\"Final\",IF(COUNTIF(Partidos!$AB$86:$AB$89,$B6)=1,\"Semifinales\",IF(COUNTIF(Partidos!$AB$76:$AB$83,$B6)=1,\"Cuartos de final\",IF(COUNTIF(Partidos!$AB$58:$AB$73,$B6)=1,\"Octavos de final\",\"Primera Ronda\"))))","v":"Final"},{"$f":"SUMIF(Partidos!$AB$9:$AB$98,$B6,Partidos!AD$9:AD$98)","v":7},{"$f":"SUMIF(Partidos!$AB$9:$AB$98,$B6,Partidos!AE$9:AE$98)","v":6},{"$f":"SUMIF(Partidos!$AB$9:$AB$98,$B6,Partidos!AF$9:AF$98)","v":0},{"$f":"SUMIF(Partidos!$AB$9:$AB$98,$B6,Partidos!AG$9:AG$98)","v":1},{"$f":"SUMIF(Partidos!$AB$9:$AB$98,$B6,Partidos!AH$9:AH$98)","v":8},{"$f":"SUMIF(Partidos!$AB$9:$AB$98,$B6,Partidos!AI$9:AI$98)","v":4},{"$f":"SUMIF(Partidos!$AB$9:$AB$98,$B6,Partidos!AJ$9:AJ$98)","v":6},{"$f":"IF($D6=0,0,H6/$D6)","v":1.1428571428571428},{"$f":"IF($D6=0,0,I6/$D6)","v":0.5714285714285714}]
[{"$f":"IF($D7=0,\"\",IF(COUNTIF(Partidos!$AB$58:$AB$73,$B7),(INDEX(Partidos!$AA$58:$AA$73,MATCH($B7,Partidos!$AB$58:$AB$73,0))),(IF(C7<>\"Primera Ronda\",\"\",(SUMPRODUCT((((LOOKUP(LEFT(C7,100),{\"Final\",8000;\"Primera Ronda\",100;\"Cuartos de final\",1000;\"Octavos de final\",500;\"Semifinales\",3000}))*10000+100*D7*E7+30*H7-20*I7+J7)<(10000*((LOOKUP(LEFT(C$5:C$36,100),{\"Final\",8000;\"Primera Ronda\",100;\"Cuartos de final\",1000;\"Octavos de final\",500;\"Semifinales\",3000})))+100*(D$5:D$36)*(E$5:E$36)+30*(H$5:H$36)-20*(I$5:I$36)+(J$5:J$36)))+0)+1)))))","v":3},"Holanda",{"$f":"IF(COUNTIF(Partidos!$AB$97:$AB$98,$B7)=1,\"Final\",IF(COUNTIF(Partidos!$AB$86:$AB$89,$B7)=1,\"Semifinales\",IF(COUNTIF(Partidos!$AB$76:$AB$83,$B7)=1,\"Cuartos de final\",IF(COUNTIF(Partidos!$AB$58:$AB$73,$B7)=1,\"Octavos de final\",\"Primera Ronda\"))))","v":"Semifinales"},{"$f":"SUMIF(Partidos!$AB$9:$AB$98,$B7,Partidos!AD$9:AD$98)","v":7},{"$f":"SUMIF(Partidos!$AB$9:$AB$98,$B7,Partidos!AE$9:AE$98)","v":6},{"$f":"SUMIF(Partidos!$AB$9:$AB$98,$B7,Partidos!AF$9:AF$98)","v":0},{"$f":"SUMIF(Partidos!$AB$9:$AB$98,$B7,Partidos!AG$9:AG$98)","v":1},{"$f":"SUMIF(Partidos!$AB$9:$AB$98,$B7,Partidos!AH$9:AH$98)","v":15},{"$f":"SUMIF(Partidos!$AB$9:$AB$98,$B7,Partidos!AI$9:AI$98)","v":4},{"$f":"SUMIF(Partidos!$AB$9:$AB$98,$B7,Partidos!AJ$9:AJ$98)","v":10},{"$f":"IF($D7=0,0,H7/$D7)","v":2.1428571428571428},{"$f":"IF($D7=0,0,I7/$D7)","v":0.5714285714285714}]
[{"$f":"IF($D8=0,\"\",IF(COUNTIF(Partidos!$AB$58:$AB$73,$B8),(INDEX(Partidos!$AA$58:$AA$73,MATCH($B8,Partidos!$AB$58:$AB$73,0))),(IF(C8<>\"Primera Ronda\",\"\",(SUMPRODUCT((((LOOKUP(LEFT(C8,100),{\"Final\",8000;\"Primera Ronda\",100;\"Cuartos de final\",1000;\"Octavos de final\",500;\"Semifinales\",3000}))*10000+100*D8*E8+30*H8-20*I8+J8)<(10000*((LOOKUP(LEFT(C$5:C$36,100),{\"Final\",8000;\"Primera Ronda\",100;\"Cuartos de final\",1000;\"Octavos de final\",500;\"Semifinales\",3000})))+100*(D$5:D$36)*(E$5:E$36)+30*(H$5:H$36)-20*(I$5:I$36)+(J$5:J$36)))+0)+1)))))","v":4},"Brasil",{"$f":"IF(COUNTIF(Partidos!$AB$97:$AB$98,$B8)=1,\"Final\",IF(COUNTIF(Partidos!$AB$86:$AB$89,$B8)=1,\"Semifinales\",IF(COUNTIF(Partidos!$AB$76:$AB$83,$B8)=1,\"Cuartos de final\",IF(COUNTIF(Partidos!$AB$58:$AB$73,$B8)=1,\"Octavos de final\",\"Primera Ronda\"))))","v":"Semifinales"},{"$f":"SUMIF(Partidos!$AB$9:$AB$98,$B8,Partidos!AD$9:AD$98)","v":7},{"$f":"SUMIF(Partidos!$AB$9:$AB$98,$B8,Partidos!AE$9:AE$98)","v":4},{"$f":"SUMIF(Partidos!$AB$9:$AB$98,$B8,Partidos!AF$9:AF$98)","v":1},{"$f":"SUMIF(Partidos!$AB$9:$AB$98,$B8,Partidos!AG$9:AG$98)","v":2},{"$f":"SUMIF(Partidos!$AB$9:$AB$98,$B8,Partidos!AH$9:AH$98)","v":11},{"$f":"SUMIF(Partidos!$AB$9:$AB$98,$B8,Partidos!AI$9:AI$98)","v":14},{"$f":"SUMIF(Partidos!$AB$9:$AB$98,$B8,Partidos!AJ$9:AJ$98)","v":-2},{"$f":"IF($D8=0,0,H8/$D8)","v":1.5714285714285714},{"$f":"IF($D8=0,0,I8/$D8)","v":2}]
[{"$f":"IF($D9=0,\"\",IF(COUNTIF(Partidos!$AB$58:$AB$73,$B9),(INDEX(Partidos!$AA$58:$AA$73,MATCH($B9,Partidos!$AB$58:$AB$73,0))),(IF(C9<>\"Primera Ronda\",\"\",(SUMPRODUCT((((LOOKUP(LEFT(C9,100),{\"Final\",8000;\"Primera Ronda\",100;\"Cuartos de final\",1000;\"Octavos de final\",500;\"Semifinales\",3000}))*10000+100*D9*E9+30*H9-20*I9+J9)<(10000*((LOOKUP(LEFT(C$5:C$36,100),{\"Final\",8000;\"Primera Ronda\",100;\"Cuartos de final\",1000;\"Octavos de final\",500;\"Semifinales\",3000})))+100*(D$5:D$36)*(E$5:E$36)+30*(H$5:H$36)-20*(I$5:I$36)+(J$5:J$36)))+0)+1)))))","v":5},"Costa Rica",{"$f":"IF(COUNTIF(Partidos!$AB$97:$AB$98,$B9)=1,\"Final\",IF(COUNTIF(Partidos!$AB$86:$AB$89,$B9)=1,\"Semifinales\",IF(COUNTIF(Partidos!$AB$76:$AB$83,$B9)=1,\"Cuartos de final\",IF(COUNTIF(Partidos!$AB$58:$AB$73,$B9)=1,\"Octavos de final\",\"Primera Ronda\"))))","v":"Cuartos de final"},{"$f":"SUMIF(Partidos!$AB$9:$AB$98,$B9,Partidos!AD$9:AD$98)","v":5},{"$f":"SUMIF(Partidos!$AB$9:$AB$98,$B9,Partidos!AE$9:AE$98)","v":3},{"$f":"SUMIF(Partidos!$AB$9:$AB$98,$B9,Partidos!AF$9:AF$98)","v":1},{"$f":"SUMIF(Partidos!$AB$9:$AB$98,$B9,Partidos!AG$9:AG$98)","v":1},{"$f":"SUMIF(Partidos!$AB$9:$AB$98,$B9,Partidos!AH$9:AH$98)","v":5},{"$f":"SUMIF(Partidos!$AB$9:$AB$98,$B9,Partidos!AI$9:AI$98)","v":2},{"$f":"SUMIF(Partidos!$AB$9:$AB$98,$B9,Partidos!AJ$9:AJ$98)","v":4},{"$f":"IF($D9=0,0,H9/$D9)","v":1},{"$f":"IF($D9=0,0,I9/$D9)","v":0.4}]
[{"$f":"IF($D10=0,\"\",IF(COUNTIF(Partidos!$AB$58:$AB$73,$B10),(INDEX(Partidos!$AA$58:$AA$73,MATCH($B10,Partidos!$AB$58:$AB$73,0))),(IF(C10<>\"Primera Ronda\",\"\",(SUMPRODUCT((((LOOKUP(LEFT(C10,100),{\"Final\",8000;\"Primera Ronda\",100;\"Cuartos de final\",1000;\"Octavos de final\",500;\"Semifinales\",3000}))*10000+100*D10*E10+30*H10-20*I10+J10)<(10000*((LOOKUP(LEFT(C$5:C$36,100),{\"Final\",8000;\"Primera Ronda\",100;\"Cuartos de final\",1000;\"Octavos de final\",500;\"Semifinales\",3000})))+100*(D$5:D$36)*(E$5:E$36)+30*(H$5:H$36)-20*(I$5:I$36)+(J$5:J$36)))+0)+1)))))","v":6},"Colombia",{"$f":"IF(COUNTIF(Partidos!$AB$97:$AB$98,$B10)=1,\"Final\",IF(COUNTIF(Partidos!$AB$86:$AB$89,$B10)=1,\"Semifinales\",IF(COUNTIF(Partidos!$AB$76:$AB$83,$B10)=1,\"Cuartos de final\",IF(COUNTIF(Partidos!$AB$58:$AB$73,$B10)=1,\"Octavos de final\",\"Primera Ronda\"))))","v":"Cuartos de final"},{"$f":"SUMIF(Partidos!$AB$9:$AB$98,$B10,Partidos!AD$9:AD$98)","v":5},{"$f":"SUMIF(Partidos!$AB$9:$AB$98,$B10,Partidos!AE$9:AE$98)","v":4},{"$f":"SUMIF(Partidos!$AB$9:$AB$98,$B10,Partidos!AF$9:AF$98)","v":0},{"$f":"SUMIF(Partidos!$AB$9:$AB$98,$B10,Partidos!AG$9:AG$98)","v":1},{"$f":"SUMIF(Partidos!$AB$9:$AB$98,$B10,Partidos!AH$9:AH$98)","v":12},{"$f":"SUMIF(Partidos!$AB$9:$AB$98,$B10,Partidos!AI$9:AI$98)","v":4},{"$f":"SUMIF(Partidos!$AB$9:$AB$98,$B10,Partidos!AJ$9:AJ$98)","v":8},{"$f":"IF($D10=0,0,H10/$D10)","v":2.4},{"$f":"IF($D10=0,0,I10/$D10)","v":0.8}]
[{"$f":"IF($D11=0,\"\",IF(COUNTIF(Partidos!$AB$58:$AB$73,$B11),(INDEX(Partidos!$AA$58:$AA$73,MATCH($B11,Partidos!$AB$58:$AB$73,0))),(IF(C11<>\"Primera Ronda\",\"\",(SUMPRODUCT((((LOOKUP(LEFT(C11,100),{\"Final\",8000;\"Primera Ronda\",100;\"Cuartos de final\",1000;\"Octavos de final\",500;\"Semifinales\",3000}))*10000+100*D11*E11+30*H11-20*I11+J11)<(10000*((LOOKUP(LEFT(C$5:C$36,100),{\"Final\",8000;\"Primera Ronda\",100;\"Cuartos de final\",1000;\"Octavos de final\",500;\"Semifinales\",3000})))+100*(D$5:D$36)*(E$5:E$36)+30*(H$5:H$36)-20*(I$5:I$36)+(J$5:J$36)))+0)+1)))))","v":7},"Francia",{"$f":"IF(COUNTIF(Partidos!$AB$97:$AB$98,$B11)=1,\"Final\",IF(COUNTIF(Partidos!$AB$86:$AB$89,$B11)=1,\"Semifinales\",IF(COUNTIF(Partidos!$AB$76:$AB$83,$B11)=1,\"Cuartos de final\",IF(COUNTIF(Partidos!$AB$58:$AB$73,$B11)=1,\"Octavos de final\",\"Primera Ronda\"))))","v":"Cuartos de final"},{"$f":"SUMIF(Partidos!$AB$9:$AB$98,$B11,Partidos!AD$9:AD$98)","v":5},{"$f":"SUMIF(Partidos!$AB$9:$AB$98,$B11,Partidos!AE$9:AE$98)","v":3},{"$f":"SUMIF(Partidos!$AB$9:$AB$98,$B11,Partidos!AF$9:AF$98)","v":1},{"$f":"SUMIF(Partidos!$AB$9:$AB$98,$B11,Partidos!AG$9:AG$98)","v":1},{"$f":"SUMIF(Partidos!$AB$9:$AB$98,$B11,Partidos!AH$9:AH$98)","v":10},{"$f":"SUMIF(Partidos!$AB$9:$AB$98,$B11,Partidos!AI$9:AI$98)","v":3},{"$f":"SUMIF(Partidos!$AB$9:$AB$98,$B11,Partidos!AJ$9:AJ$98)","v":7},{"$f":"IF($D11=0,0,H11/$D11)","v":2},{"$f":"IF($D11=0,0,I11/$D11)","v":0.6}]
[{"$f":"IF($D12=0,\"\",IF(COUNTIF(Partidos!$AB$58:$AB$73,$B12),(INDEX(Partidos!$AA$58:$AA$73,MATCH($B12,Partidos!$AB$58:$AB$73,0))),(IF(C12<>\"Primera Ronda\",\"\",(SUMPRODUCT((((LOOKUP(LEFT(C12,100),{\"Final\",8000;\"Primera Ronda\",100;\"Cuartos de final\",1000;\"Octavos de final\",500;\"Semifinales\",3000}))*10000+100*D12*E12+30*H12-20*I12+J12)<(10000*((LOOKUP(LEFT(C$5:C$36,100),{\"Final\",8000;\"Primera Ronda\",100;\"Cuartos de final\",1000;\"Octavos de final\",500;\"Semifinales\",3000})))+100*(D$5:D$36)*(E$5:E$36)+30*(H$5:H$36)-20*(I$5:I$36)+(J$5:J$36)))+0)+1)))))","v":7},"Bélgica",{"$f":"IF(COUNTIF(Partidos!$AB$97:$AB$98,$B12)=1,\"Final\",IF(COUNTIF(Partidos!$AB$86:$AB$89,$B12)=1,\"Semifinales\",IF(COUNTIF(Partidos!$AB$76:$AB$83,$B12)=1,\"Cuartos de final\",IF(COUNTIF(Partidos!$AB$58:$AB$73,$B12)=1,\"Octavos de final\",\"Primera Ronda\"))))","v":"Cuartos de final"},{"$f":"SUMIF(Partidos!$AB$9:$AB$98,$B12,Partidos!AD$9:AD$98)","v":5},{"$f":"SUMIF(Partidos!$AB$9:$AB$98,$B12,Partidos!AE$9:AE$98)","v":4},{"$f":"SUMIF(Partidos!$AB$9:$AB$98,$B12,Partidos!AF$9:AF$98)","v":0},{"$f":"SUMIF(Partidos!$AB$9:$AB$98,$B12,Partidos!AG$9:AG$98)","v":1},{"$f":"SUMIF(Partidos!$AB$9:$AB$98,$B12,Partidos!AH$9:AH$98)","v":6},{"$f":"SUMIF(Partidos!$AB$9:$AB$98,$B12,Partidos!AI$9:AI$98)","v":3},{"$f":"SUMIF(Partidos!$AB$9:$AB$98,$B12,Partidos!AJ$9:AJ$98)","v":3},{"$f":"IF($D12=0,0,H12/$D12)","v":1.2},{"$f":"IF($D12=0,0,I12/$D12)","v":0.6}]
[{"$f":"IF($D13=0,\"\",IF(COUNTIF(Partidos!$AB$58:$AB$73,$B13),(INDEX(Partidos!$AA$58:$AA$73,MATCH($B13,Partidos!$AB$58:$AB$73,0))),(IF(C13<>\"Primera Ronda\",\"\",(SUMPRODUCT((((LOOKUP(LEFT(C13,100),{\"Final\",8000;\"Primera Ronda\",100;\"Cuartos de final\",1000;\"Octavos de final\",500;\"Semifinales\",3000}))*10000+100*D13*E13+30*H13-20*I13+J13)<(10000*((LOOKUP(LEFT(C$5:C$36,100),{\"Final\",8000;\"Primera Ronda\",100;\"Cuartos de final\",1000;\"Octavos de final\",500;\"Semifinales\",3000})))+100*(D$5:D$36)*(E$5:E$36)+30*(H$5:H$36)-20*(I$5:I$36)+(J$5:J$36)))+0)+1)))))","v":9},"Chile",{"$f":"IF(COUNTIF(Partidos!$AB$97:$AB$98,$B13)=1,\"Final\",IF(COUNTIF(Partidos!$AB$86:$AB$89,$B13)=1,\"Semifinales\",IF(COUNTIF(Partidos!$AB$76:$AB$83,$B13)=1,\"Cuartos de final\",IF(COUNTIF(Partidos!$AB$58:$AB$73,$B13)=1,\"Octavos de final\",\"Primera Ronda\"))))","v":"Octavos de final"},{"$f":"SUMIF(Partidos!$AB$9:$AB$98,$B13,Partidos!AD$9:AD$98)","v":4},{"$f":"SUMIF(Partidos!$AB$9:$AB$98,$B13,Partidos!AE$9:AE$98)","v":2},{"$f":"SUMIF(Partidos!$AB$9:$AB$98,$B13,Partidos!AF$9:AF$98)","v":0},{"$f":"SUMIF(Partidos!$AB$9:$AB$98,$B13,Partidos!AG$9:AG$98)","v":2},{"$f":"SUMIF(Partidos!$AB$9:$AB$98,$B13,Partidos!AH$9:AH$98)","v":6},{"$f":"SUMIF(Partidos!$AB$9:$AB$98,$B13,Partidos!AI$9:AI$98)","v":4},{"$f":"SUMIF(Partidos!$AB$9:$AB$98,$B13,Partidos!AJ$9:AJ$98)","v":1},{"$f":"IF($D13=0,0,H13/$D13)","v":1.5},{"$f":"IF($D13=0,0,I13/$D13)","v":1}]
[{"$f":"IF($D14=0,\"\",IF(COUNTIF(Partidos!$AB$58:$AB$73,$B14),(INDEX(Partidos!$AA$58:$AA$73,MATCH($B14,Partidos!$AB$58:$AB$73,0))),(IF(C14<>\"Primera Ronda\",\"\",(SUMPRODUCT((((LOOKUP(LEFT(C14,100),{\"Final\",8000;\"Primera Ronda\",100;\"Cuartos de final\",1000;\"Octavos de final\",500;\"Semifinales\",3000}))*10000+100*D14*E14+30*H14-20*I14+J14)<(10000*((LOOKUP(LEFT(C$5:C$36,100),{\"Final\",8000;\"Primera Ronda\",100;\"Cuartos de final\",1000;\"Octavos de final\",500;\"Semifinales\",3000})))+100*(D$5:D$36)*(E$5:E$36)+30*(H$5:H$36)-20*(I$5:I$36)+(J$5:J$36)))+0)+1)))))","v":10},"Grecia",{"$f":"IF(COUNTIF(Partidos!$AB$97:$AB$98,$B14)=1,\"Final\",IF(COUNTIF(Partidos!$AB$86:$AB$89,$B14)=1,\"Semifinales\",IF(COUNTIF(Partidos!$AB$76:$AB$83,$B14)=1,\"Cuartos de final\",IF(COUNTIF(Partidos!$AB$58:$AB$73,$B14)=1,\"Octavos de final\",\"Primera Ronda\"))))","v":"Octavos de final"},{"$f":"SUMIF(Partidos!$AB$9:$AB$98,$B14,Partidos!AD$9:AD$98)","v":4},{"$f":"SUMIF(Partidos!$AB$9:$AB$98,$B14,Partidos!AE$9:AE$98)","v":1},{"$f":"SUMIF(Partidos!$AB$9:$AB$98,$B14,Partidos!AF$9:AF$98)","v":1},{"$f":"SUMIF(Partidos!$AB$9:$AB$98,$B14,Partidos!AG$9:AG$98)","v":2},{"$f":"SUMIF(Partidos!$AB$9:$AB$98,$B14,Partidos!AH$9:AH$98)","v":3},{"$f":"SUMIF(Partidos!$AB$9:$AB$98,$B14,Partidos!AI$9:AI$98)","v":5},{"$f":"SUMIF(Partidos!$AB$9:$AB$98,$B14,Partidos!AJ$9:AJ$98)","v":-4},{"$f":"IF($D14=0,0,H14/$D14)","v":0.75},{"$f":"IF($D14=0,0,I14/$D14)","v":1.25}]
[{"$f":"IF($D15=0,\"\",IF(COUNTIF(Partidos!$AB$58:$AB$73,$B15),(INDEX(Partidos!$AA$58:$AA$73,MATCH($B15,Partidos!$AB$58:$AB$73,0))),(IF(C15<>\"Primera Ronda\",\"\",(SUMPRODUCT((((LOOKUP(LEFT(C15,100),{\"Final\",8000;\"Primera Ronda\",100;\"Cuartos de final\",1000;\"Octavos de final\",500;\"Semifinales\",3000}))*10000+100*D15*E15+30*H15-20*I15+J15)<(10000*((LOOKUP(LEFT(C$5:C$36,100),{\"Final\",8000;\"Primera Ronda\",100;\"Cuartos de final\",1000;\"Octavos de final\",500;\"Semifinales\",3000})))+100*(D$5:D$36)*(E$5:E$36)+30*(H$5:H$36)-20*(I$5:I$36)+(J$5:J$36)))+0)+1)))))","v":11},"México",{"$f":"IF(COUNTIF(Partidos!$AB$97:$AB$98,$B15)=1,\"Final\",IF(COUNTIF(Partidos!$AB$86:$AB$89,$B15)=1,\"Semifinales\",IF(COUNTIF(Partidos!$AB$76:$AB$83,$B15)=1,\"Cuartos de final\",IF(COUNTIF(Partidos!$AB$58:$AB$73,$B15)=1,\"Octavos de final\",\"Primera Ronda\"))))","v":"Octavos de final"},{"$f":"SUMIF(Partidos!$AB$9:$AB$98,$B15,Partidos!AD$9:AD$98)","v":4},{"$f":"SUMIF(Partidos!$AB$9:$AB$98,$B15,Partidos!AE$9:AE$98)","v":2},{"$f":"SUMIF(Partidos!$AB$9:$AB$98,$B15,Partidos!AF$9:AF$98)","v":1},{"$f":"SUMIF(Partidos!$AB$9:$AB$98,$B15,Partidos!AG$9:AG$98)","v":1},{"$f":"SUMIF(Partidos!$AB$9:$AB$98,$B15,Partidos!AH$9:AH$98)","v":5},{"$f":"SUMIF(Partidos!$AB$9:$AB$98,$B15,Partidos!AI$9:AI$98)","v":3},{"$f":"SUMIF(Partidos!$AB$9:$AB$98,$B15,Partidos!AJ$9:AJ$98)","v":2},{"$f":"IF($D15=0,0,H15/$D15)","v":1.25},{"$f":"IF($D15=0,0,I15/$D15)","v":0.75}]
[{"$f":"IF($D16=0,\"\",IF(COUNTIF(Partidos!$AB$58:$AB$73,$B16),(INDEX(Partidos!$AA$58:$AA$73,MATCH($B16,Partidos!$AB$58:$AB$73,0))),(IF(C16<>\"Primera Ronda\",\"\",(SUMPRODUCT((((LOOKUP(LEFT(C16,100),{\"Final\",8000;\"Primera Ronda\",100;\"Cuartos de final\",1000;\"Octavos de final\",500;\"Semifinales\",3000}))*10000+100*D16*E16+30*H16-20*I16+J16)<(10000*((LOOKUP(LEFT(C$5:C$36,100),{\"Final\",8000;\"Primera Ronda\",100;\"Cuartos de final\",1000;\"Octavos de final\",500;\"Semifinales\",3000})))+100*(D$5:D$36)*(E$5:E$36)+30*(H$5:H$36)-20*(I$5:I$36)+(J$5:J$36)))+0)+1)))))","v":11},"EEUU",{"$f":"IF(COUNTIF(Partidos!$AB$97:$AB$98,$B16)=1,\"Final\",IF(COUNTIF(Partidos!$AB$86:$AB$89,$B16)=1,\"Semifinales\",IF(COUNTIF(Partidos!$AB$76:$AB$83,$B16)=1,\"Cuartos de final\",IF(COUNTIF(Partidos!$AB$58:$AB$73,$B16)=1,\"Octavos de final\",\"Primera Ronda\"))))","v":"Octavos de final"},{"$f":"SUMIF(Partidos!$AB$9:$AB$98,$B16,Partidos!AD$9:AD$98)","v":4},{"$f":"SUMIF(Partidos!$AB$9:$AB$98,$B16,Partidos!AE$9:AE$98)","v":1},{"$f":"SUMIF(Partidos!$AB$9:$AB$98,$B16,Partidos!AF$9:AF$98)","v":1},{"$f":"SUMIF(Partidos!$AB$9:$AB$98,$B16,Partidos!AG$9:AG$98)","v":2},{"$f":"SUMIF(Partidos!$AB$9:$AB$98,$B16,Partidos!AH$9:AH$98)","v":5},{"$f":"SUMIF(Partidos!$AB$9:$AB$98,$B16,Partidos!AI$9:AI$98)","v":6},{"$f":"SUMIF(Partidos!$AB$9:$AB$98,$B16,Partidos!AJ$9:AJ$98)","v":-1},{"$f":"IF($D16=0,0,H16/$D16)","v":1.25},{"$f":"IF($D16=0,0,I16/$D16)","v":1.5}]
[{"$f":"IF($D17=0,\"\",IF(COUNTIF(Partidos!$AB$58:$AB$73,$B17),(INDEX(Partidos!$AA$58:$AA$73,MATCH($B17,Partidos!$AB$58:$AB$73,0))),(IF(C17<>\"Primera Ronda\",\"\",(SUMPRODUCT((((LOOKUP(LEFT(C17,100),{\"Final\",8000;\"Primera Ronda\",100;\"Cuartos de final\",1000;\"Octavos de final\",500;\"Semifinales\",3000}))*10000+100*D17*E17+30*H17-20*I17+J17)<(10000*((LOOKUP(LEFT(C$5:C$36,100),{\"Final\",8000;\"Primera Ronda\",100;\"Cuartos de final\",1000;\"Octavos de final\",500;\"Semifinales\",3000})))+100*(D$5:D$36)*(E$5:E$36)+30*(H$5:H$36)-20*(I$5:I$36)+(J$5:J$36)))+0)+1)))))","v":11},"Argelia",{"$f":"IF(COUNTIF(Partidos!$AB$97:$AB$98,$B17)=1,\"Final\",IF(COUNTIF(Partidos!$AB$86:$AB$89,$B17)=1,\"Semifinales\",IF(COUNTIF(Partidos!$AB$76:$AB$83,$B17)=1,\"Cuartos de final\",IF(COUNTIF(Partidos!$AB$58:$AB$73,$B17)=1,\"Octavos de final\",\"Primera Ronda\"))))","v":"Octavos de final"},{"$f":"SUMIF(Partidos!$AB$9:$AB$98,$B17,Partidos!AD$9:AD$98)","v":4},{"$f":"SUMIF(Partidos!$AB$9:$AB$98,$B17,Partidos!AE$9:AE$98)","v":1},{"$f":"SUMIF(Partidos!$AB$9:$AB$98,$B17,Partidos!AF$9:AF$98)","v":1},{"$f":"SUMIF(Partidos!$AB$9:$AB$98,$B17,Partidos!AG$9:AG$98)","v":2},{"$f":"SUMIF(Partidos!$AB$9:$AB$98,$B17,Partidos!AH$9:AH$98)","v":7},{"$f":"SUMIF(Partidos!$AB$9:$AB$98,$B17,Partidos!AI$9:AI$98)","v":7},{"$f":"SUMIF(Partidos!$AB$9:$AB$98,$B17,Partidos!AJ$9:AJ$98)","v":0},{"$f":"IF($D17=0,0,H17/$D17)","v":1.75},{"$f":"IF($D17=0,0,I17/$D17)","v":1.75}]
[{"$f":"IF($D18=0,\"\",IF(COUNTIF(Partidos!$AB$58:$AB$73,$B18),(INDEX(Partidos!$AA$58:$AA$73,MATCH($B18,Partidos!$AB$58:$AB$73,0))),(IF(C18<>\"Primera Ronda\",\"\",(SUMPRODUCT((((LOOKUP(LEFT(C18,100),{\"Final\",8000;\"Primera Ronda\",100;\"Cuartos de final\",1000;\"Octavos de final\",500;\"Semifinales\",3000}))*10000+100*D18*E18+30*H18-20*I18+J18)<(10000*((LOOKUP(LEFT(C$5:C$36,100),{\"Final\",8000;\"Primera Ronda\",100;\"Cuartos de final\",1000;\"Octavos de final\",500;\"Semifinales\",3000})))+100*(D$5:D$36)*(E$5:E$36)+30*(H$5:H$36)-20*(I$5:I$36)+(J$5:J$36)))+0)+1)))))","v":14},"Suiza",{"$f":"IF(COUNTIF(Partidos!$AB$97:$AB$98,$B18)=1,\"Final\",IF(COUNTIF(Partidos!$AB$86:$AB$89,$B18)=1,\"Semifinales\",IF(COUNTIF(Partidos!$AB$76:$AB$83,$B18)=1,\"Cuartos de final\",IF(COUNTIF(Partidos!$AB$58:$AB$73,$B18)=1,\"Octavos de final\",\"Primera Ronda\"))))","v":"Octavos de final"},{"$f":"SUMIF(Partidos!$AB$9:$AB$98,$B18,Partidos!AD$9:AD$98)","v":4},{"$f":"SUMIF(Partidos!$AB$9:$AB$98,$B18,Partidos!AE$9:AE$98)","v":2},{"$f":"SUMIF(Partidos!$AB$9:$AB$98,$B18,Partidos!AF$9:AF$98)","v":0},{"$f":"SUMIF(Partidos!$AB$9:$AB$98,$B18,Partidos!AG$9:AG$98)","v":2},{"$f":"SUMIF(Partidos!$AB$9:$AB$98,$B18,Partidos!AH$9:AH$98)","v":7},{"$f":"SUMIF(Partidos!$AB$9:$AB$98,$B18,Partidos!AI$9:AI$98)","v":7},{"$f":"SUMIF(Partidos!$AB$9:$AB$98,$B18,Partidos!AJ$9:AJ$98)","v":0},{"$f":"IF($D18=0,0,H18/$D18)","v":1.75},{"$f":"IF($D18=0,0,I18/$D18)","v":1.75}]
[{"$f":"IF($D19=0,\"\",IF(COUNTIF(Partidos!$AB$58:$AB$73,$B19),(INDEX(Partidos!$AA$58:$AA$73,MATCH($B19,Partidos!$AB$58:$AB$73,0))),(IF(C19<>\"Primera Ronda\",\"\",(SUMPRODUCT((((LOOKUP(LEFT(C19,100),{\"Final\",8000;\"Primera Ronda\",100;\"Cuartos de final\",1000;\"Octavos de final\",500;\"Semifinales\",3000}))*10000+100*D19*E19+30*H19-20*I19+J19)<(10000*((LOOKUP(LEFT(C$5:C$36,100),{\"Final\",8000;\"Primera Ronda\",100;\"Cuartos de final\",1000;\"Octavos de final\",500;\"Semifinales\",3000})))+100*(D$5:D$36)*(E$5:E$36)+30*(H$5:H$36)-20*(I$5:I$36)+(J$5:J$36)))+0)+1)))))","v":15},"Nigeria",{"$f":"IF(COUNTIF(Partidos!$AB$97:$AB$98,$B19)=1,\"Final\",IF(COUNTIF(Partidos!$AB$86:$AB$89,$B19)=1,\"Semifinales\",IF(COUNTIF(Partidos!$AB$76:$AB$83,$B19)=1,\"Cuartos de final\",IF(COUNTIF(Partidos!$AB$58:$AB$73,$B19)=1,\"Octavos de final\",\"Primera Ronda\"))))","v":"Octavos de final"},{"$f":"SUMIF(Partidos!$AB$9:$AB$98,$B19,Partidos!AD$9:AD$98)","v":4},{"$f":"SUMIF(Partidos!$AB$9:$AB$98,$B19,Partidos!AE$9:AE$98)","v":1},{"$f":"SUMIF(Partidos!$AB$9:$AB$98,$B19,Partidos!AF$9:AF$98)","v":1},{"$f":"SUMIF(Partidos!$AB$9:$AB$98,$B19,Partidos!AG$9:AG$98)","v":2},{"$f":"SUMIF(Partidos!$AB$9:$AB$98,$B19,Partidos!AH$9:AH$98)","v":3},{"$f":"SUMIF(Partidos!$AB$9:$AB$98,$B19,Partidos!AI$9:AI$98)","v":5},{"$f":"SUMIF(Partidos!$AB$9:$AB$98,$B19,Partidos!AJ$9:AJ$98)","v":-2},{"$f":"IF($D19=0,0,H19/$D19)","v":0.75},{"$f":"IF($D19=0,0,I19/$D19)","v":1.25}]
[{"$f":"IF($D20=0,\"\",IF(COUNTIF(Partidos!$AB$58:$AB$73,$B20),(INDEX(Partidos!$AA$58:$AA$73,MATCH($B20,Partidos!$AB$58:$AB$73,0))),(IF(C20<>\"Primera Ronda\",\"\",(SUMPRODUCT((((LOOKUP(LEFT(C20,100),{\"Final\",8000;\"Primera Ronda\",100;\"Cuartos de final\",1000;\"Octavos de final\",500;\"Semifinales\",3000}))*10000+100*D20*E20+30*H20-20*I20+J20)<(10000*((LOOKUP(LEFT(C$5:C$36,100),{\"Final\",8000;\"Primera Ronda\",100;\"Cuartos de final\",1000;\"Octavos de final\",500;\"Semifinales\",3000})))+100*(D$5:D$36)*(E$5:E$36)+30*(H$5:H$36)-20*(I$5:I$36)+(J$5:J$36)))+0)+1)))))","v":15},"Uruguay",{"$f":"IF(COUNTIF(Partidos!$AB$97:$AB$98,$B20)=1,\"Final\",IF(COUNTIF(Partidos!$AB$86:$AB$89,$B20)=1,\"Semifinales\",IF(COUNTIF(Partidos!$AB$76:$AB$83,$B20)=1,\"Cuartos de final\",IF(COUNTIF(Partidos!$AB$58:$AB$73,$B20)=1,\"Octavos de final\",\"Primera Ronda\"))))","v":"Octavos de final"},{"$f":"SUMIF(Partidos!$AB$9:$AB$98,$B20,Partidos!AD$9:AD$98)","v":4},{"$f":"SUMIF(Partidos!$AB$9:$AB$98,$B20,Partidos!AE$9:AE$98)","v":2},{"$f":"SUMIF(Partidos!$AB$9:$AB$98,$B20,Partidos!AF$9:AF$98)","v":0},{"$f":"SUMIF(Partidos!$AB$9:$AB$98,$B20,Partidos!AG$9:AG$98)","v":2},{"$f":"SUMIF(Partidos!$AB$9:$AB$98,$B20,Partidos!AH$9:AH$98)","v":4},{"$f":"SUMIF(Partidos!$AB$9:$AB$98,$B20,Partidos!AI$9:AI$98)","v":6},{"$f":"SUMIF(Partidos!$AB$9:$AB$98,$B20,Partidos!AJ$9:AJ$98)","v":-2},{"$f":"IF($D20=0,0,H20/$D20)","v":1},{"$f":"IF($D20=0,0,I20/$D20)","v":1.5}]
[{"$f":"IF($D21=0,\"\",IF(COUNTIF(Partidos!$AB$58:$AB$73,$B21),(INDEX(Partidos!$AA$58:$AA$73,MATCH($B21,Partidos!$AB$58:$AB$73,0))),(IF(C21<>\"Primera Ronda\",\"\",(SUMPRODUCT((((LOOKUP(LEFT(C21,100),{\"Final\",8000;\"Primera Ronda\",100;\"Cuartos de final\",1000;\"Octavos de final\",500;\"Semifinales\",3000}))*10000+100*D21*E21+30*H21-20*I21+J21)<(10000*((LOOKUP(LEFT(C$5:C$36,100),{\"Final\",8000;\"Primera Ronda\",100;\"Cuartos de final\",1000;\"Octavos de final\",500;\"Semifinales\",3000})))+100*(D$5:D$36)*(E$5:E$36)+30*(H$5:H$36)-20*(I$5:I$36)+(J$5:J$36)))+0)+1)))))","v":17},"Croacia",{"$f":"IF(COUNTIF(Partidos!$AB$97:$AB$98,$B21)=1,\"Final\",IF(COUNTIF(Partidos!$AB$86:$AB$89,$B21)=1,\"Semifinales\",IF(COUNTIF(Partidos!$AB$76:$AB$83,$B21)=1,\"Cuartos de final\",IF(COUNTIF(Partidos!$AB$58:$AB$73,$B21)=1,\"Octavos de final\",\"Primera Ronda\"))))","v":"Primera Ronda"},{"$f":"SUMIF(Partidos!$AB$9:$AB$98,$B21,Partidos!AD$9:AD$98)","v":3},{"$f":"SUMIF(Partidos!$AB$9:$AB$98,$B21,Partidos!AE$9:AE$98)","v":1},{"$f":"SUMIF(Partidos!$AB$9:$AB$98,$B21,Partidos!AF$9:AF$98)","v":0},{"$f":"SUMIF(Partidos!$AB$9:$AB$98,$B21,Partidos!AG$9:AG$98)","v":2},{"$f":"SUMIF(Partidos!$AB$9:$AB$98,$B21,Partidos!AH$9:AH$98)","v":6},{"$f":"SUMIF(Partidos!$AB$9:$AB$98,$B21,Partidos!AI$9:AI$98)","v":6},{"$f":"SUMIF(Partidos!$AB$9:$AB$98,$B21,Partidos!AJ$9:AJ$98)","v":0},{"$f":"IF($D21=0,0,H21/$D21)","v":2},{"$f":"IF($D21=0,0,I21/$D21)","v":2}]
[{"$f":"IF($D22=0,\"\",IF(COUNTIF(Partidos!$AB$58:$AB$73,$B22),(INDEX(Partidos!$AA$58:$AA$73,MATCH($B22,Partidos!$AB$58:$AB$73,0))),(IF(C22<>\"Primera Ronda\",\"\",(SUMPRODUCT((((LOOKUP(LEFT(C22,100),{\"Final\",8000;\"Primera Ronda\",100;\"Cuartos de final\",1000;\"Octavos de final\",500;\"Semifinales\",3000}))*10000+100*D22*E22+30*H22-20*I22+J22)<(10000*((LOOKUP(LEFT(C$5:C$36,100),{\"Final\",8000;\"Primera Ronda\",100;\"Cuartos de final\",1000;\"Octavos de final\",500;\"Semifinales\",3000})))+100*(D$5:D$36)*(E$5:E$36)+30*(H$5:H$36)-20*(I$5:I$36)+(J$5:J$36)))+0)+1)))))","v":18},"Bosnia y Herzegovina",{"$f":"IF(COUNTIF(Partidos!$AB$97:$AB$98,$B22)=1,\"Final\",IF(COUNTIF(Partidos!$AB$86:$AB$89,$B22)=1,\"Semifinales\",IF(COUNTIF(Partidos!$AB$76:$AB$83,$B22)=1,\"Cuartos de final\",IF(COUNTIF(Partidos!$AB$58:$AB$73,$B22)=1,\"Octavos de final\",\"Primera Ronda\"))))","v":"Primera Ronda"},{"$f":"SUMIF(Partidos!$AB$9:$AB$98,$B22,Partidos!AD$9:AD$98)","v":3},{"$f":"SUMIF(Partidos!$AB$9:$AB$98,$B22,Partidos!AE$9:AE$98)","v":1},{"$f":"SUMIF(Partidos!$AB$9:$AB$98,$B22,Partidos!AF$9:AF$98)","v":0},{"$f":"SUMIF(Partidos!$AB$9:$AB$98,$B22,Partidos!AG$9:AG$98)","v":2},{"$f":"SUMIF(Partidos!$AB$9:$AB$98,$B22,Partidos!AH$9:AH$98)","v":4},{"$f":"SUMIF(Partidos!$AB$9:$AB$98,$B22,Partidos!AI$9:AI$98)","v":4},{"$f":"SUMIF(Partidos!$AB$9:$AB$98,$B22,Partidos!AJ$9:AJ$98)","v":0},{"$f":"IF($D22=0,0,H22/$D22)","v":1.3333333333333333},{"$f":"IF($D22=0,0,I22/$D22)","v":1.3333333333333333}]
[{"$f":"IF($D23=0,\"\",IF(COUNTIF(Partidos!$AB$58:$AB$73,$B23),(INDEX(Partidos!$AA$58:$AA$73,MATCH($B23,Partidos!$AB$58:$AB$73,0))),(IF(C23<>\"Primera Ronda\",\"\",(SUMPRODUCT((((LOOKUP(LEFT(C23,100),{\"Final\",8000;\"Primera Ronda\",100;\"Cuartos de final\",1000;\"Octavos de final\",500;\"Semifinales\",3000}))*10000+100*D23*E23+30*H23-20*I23+J23)<(10000*((LOOKUP(LEFT(C$5:C$36,100),{\"Final\",8000;\"Primera Ronda\",100;\"Cuartos de final\",1000;\"Octavos de final\",500;\"Semifinales\",3000})))+100*(D$5:D$36)*(E$5:E$36)+30*(H$5:H$36)-20*(I$5:I$36)+(J$5:J$36)))+0)+1)))))","v":19},"Ecuador",{"$f":"IF(COUNTIF(Partidos!$AB$97:$AB$98,$B23)=1,\"Final\",IF(COUNTIF(Partidos!$AB$86:$AB$89,$B23)=1,\"Semifinales\",IF(COUNTIF(Partidos!$AB$76:$AB$83,$B23)=1,\"Cuartos de final\",IF(COUNTIF(Partidos!$AB$58:$AB$73,$B23)=1,\"Octavos de final\",\"Primera Ronda\"))))","v":"Primera Ronda"},{"$f":"SUMIF(Partidos!$AB$9:$AB$98,$B23,Partidos!AD$9:AD$98)","v":3},{"$f":"SUMIF(Partidos!$AB$9:$AB$98,$B23,Partidos!AE$9:AE$98)","v":1},{"$f":"SUMIF(Partidos!$AB$9:$AB$98,$B23,Partidos!AF$9:AF$98)","v":1},{"$f":"SUMIF(Partidos!$AB$9:$AB$98,$B23,Partidos!AG$9:AG$98)","v":1},{"$f":"SUMIF(Partidos!$AB$9:$AB$98,$B23,Partidos!AH$9:AH$98)","v":3},{"$f":"SUMIF(Partidos!$AB$9:$AB$98,$B23,Partidos!AI$9:AI$98)","v":3},{"$f":"SUMIF(Partidos!$AB$9:$AB$98,$B23,Partidos!AJ$9:AJ$98)","v":0},{"$f":"IF($D23=0,0,H23/$D23)","v":1},{"$f":"IF($D23=0,0,I23/$D23)","v":1}]
[{"$f":"IF($D24=0,\"\",IF(COUNTIF(Partidos!$AB$58:$AB$73,$B24),(INDEX(Partidos!$AA$58:$AA$73,MATCH($B24,Partidos!$AB$58:$AB$73,0))),(IF(C24<>\"Primera Ronda\",\"\",(SUMPRODUCT((((LOOKUP(LEFT(C24,100),{\"Final\",8000;\"Primera Ronda\",100;\"Cuartos de final\",1000;\"Octavos de final\",500;\"Semifinales\",3000}))*10000+100*D24*E24+30*H24-20*I24+J24)<(10000*((LOOKUP(LEFT(C$5:C$36,100),{\"Final\",8000;\"Primera Ronda\",100;\"Cuartos de final\",1000;\"Octavos de final\",500;\"Semifinales\",3000})))+100*(D$5:D$36)*(E$5:E$36)+30*(H$5:H$36)-20*(I$5:I$36)+(J$5:J$36)))+0)+1)))))","v":20},"Costa de Marfil",{"$f":"IF(COUNTIF(Partidos!$AB$97:$AB$98,$B24)=1,\"Final\",IF(COUNTIF(Partidos!$AB$86:$AB$89,$B24)=1,\"Semifinales\",IF(COUNTIF(Partidos!$AB$76:$AB$83,$B24)=1,\"Cuartos de final\",IF(COUNTIF(Partidos!$AB$58:$AB$73,$B24)=1,\"Octavos de final\",\"Primera Ronda\"))))","v":"Primera Ronda"},{"$f":"SUMIF(Partidos!$AB$9:$AB$98,$B24,Partidos!AD$9:AD$98)","v":3},{"$f":"SUMIF(Partidos!$AB$9:$AB$98,$B24,Partidos!AE$9:AE$98)","v":1},{"$f":"SUMIF(Partidos!$AB$9:$AB$98,$B24,Partidos!AF$9:AF$98)","v":0},{"$f":"SUMIF(Partidos!$AB$9:$AB$98,$B24,Partidos!AG$9:AG$98)","v":2},{"$f":"SUMIF(Partidos!$AB$9:$AB$98,$B24,Partidos!AH$9:AH$98)","v":4},{"$f":"SUMIF(Partidos!$AB$9:$AB$98,$B24,Partidos!AI$9:AI$98)","v":5},{"$f":"SUMIF(Partidos!$AB$9:$AB$98,$B24,Partidos!AJ$9:AJ$98)","v":-1},{"$f":"IF($D24=0,0,H24/$D24)","v":1.3333333333333333},{"$f":"IF($D24=0,0,I24/$D24)","v":1.6666666666666667}]
[{"$f":"IF($D25=0,\"\",IF(COUNTIF(Partidos!$AB$58:$AB$73,$B25),(INDEX(Partidos!$AA$58:$AA$73,MATCH($B25,Partidos!$AB$58:$AB$73,0))),(IF(C25<>\"Primera Ronda\",\"\",(SUMPRODUCT((((LOOKUP(LEFT(C25,100),{\"Final\",8000;\"Primera Ronda\",100;\"Cuartos de final\",1000;\"Octavos de final\",500;\"Semifinales\",3000}))*10000+100*D25*E25+30*H25-20*I25+J25)<(10000*((LOOKUP(LEFT(C$5:C$36,100),{\"Final\",8000;\"Primera Ronda\",100;\"Cuartos de final\",1000;\"Octavos de final\",500;\"Semifinales\",3000})))+100*(D$5:D$36)*(E$5:E$36)+30*(H$5:H$36)-20*(I$5:I$36)+(J$5:J$36)))+0)+1)))))","v":21},"Italia",{"$f":"IF(COUNTIF(Partidos!$AB$97:$AB$98,$B25)=1,\"Final\",IF(COUNTIF(Partidos!$AB$86:$AB$89,$B25)=1,\"Semifinales\",IF(COUNTIF(Partidos!$AB$76:$AB$83,$B25)=1,\"Cuartos de final\",IF(COUNTIF(Partidos!$AB$58:$AB$73,$B25)=1,\"Octavos de final\",\"Primera Ronda\"))))","v":"Primera Ronda"},{"$f":"SUMIF(Partidos!$AB$9:$AB$98,$B25,Partidos!AD$9:AD$98)","v":3},{"$f":"SUMIF(Partidos!$AB$9:$AB$98,$B25,Partidos!AE$9:AE$98)","v":1},{"$f":"SUMIF(Partidos!$AB$9:$AB$98,$B25,Partidos!AF$9:AF$98)","v":0},{"$f":"SUMIF(Partidos!$AB$9:$AB$98,$B25,Partidos!AG$9:AG$98)","v":2},{"$f":"SUMIF(Partidos!$AB$9:$AB$98,$B25,Partidos!AH$9:AH$98)","v":2},{"$f":"SUMIF(Partidos!$AB$9:$AB$98,$B25,Partidos!AI$9:AI$98)","v":3},{"$f":"SUMIF(Partidos!$AB$9:$AB$98,$B25,Partidos!AJ$9:AJ$98)","v":-1},{"$f":"IF($D25=0,0,H25/$D25)","v":0.66666666666666663},{"$f":"IF($D25=0,0,I25/$D25)","v":1}]
[{"$f":"IF($D26=0,\"\",IF(COUNTIF(Partidos!$AB$58:$AB$73,$B26),(INDEX(Partidos!$AA$58:$AA$73,MATCH($B26,Partidos!$AB$58:$AB$73,0))),(IF(C26<>\"Primera Ronda\",\"\",(SUMPRODUCT((((LOOKUP(LEFT(C26,100),{\"Final\",8000;\"Primera Ronda\",100;\"Cuartos de final\",1000;\"Octavos de final\",500;\"Semifinales\",3000}))*10000+100*D26*E26+30*H26-20*I26+J26)<(10000*((LOOKUP(LEFT(C$5:C$36,100),{\"Final\",8000;\"Primera Ronda\",100;\"Cuartos de final\",1000;\"Octavos de final\",500;\"Semifinales\",3000})))+100*(D$5:D$36)*(E$5:E$36)+30*(H$5:H$36)-20*(I$5:I$36)+(J$5:J$36)))+0)+1)))))","v":22},"España",{"$f":"IF(COUNTIF(Partidos!$AB$97:$AB$98,$B26)=1,\"Final\",IF(COUNTIF(Partidos!$AB$86:$AB$89,$B26)=1,\"Semifinales\",IF(COUNTIF(Partidos!$AB$76:$AB$83,$B26)=1,\"Cuartos de final\",IF(COUNTIF(Partidos!$AB$58:$AB$73,$B26)=1,\"Octavos de final\",\"Primera Ronda\"))))","v":"Primera Ronda"},{"$f":"SUMIF(Partidos!$AB$9:$AB$98,$B26,Partidos!AD$9:AD$98)","v":3},{"$f":"SUMIF(Partidos!$AB$9:$AB$98,$B26,Partidos!AE$9:AE$98)","v":1},{"$f":"SUMIF(Partidos!$AB$9:$AB$98,$B26,Partidos!AF$9:AF$98)","v":0},{"$f":"SUMIF(Partidos!$AB$9:$AB$98,$B26,Partidos!AG$9:AG$98)","v":2},{"$f":"SUMIF(Partidos!$AB$9:$AB$98,$B26,Partidos!AH$9:AH$98)","v":4},{"$f":"SUMIF(Partidos!$AB$9:$AB$98,$B26,Partidos!AI$9:AI$98)","v":7},{"$f":"SUMIF(Partidos!$AB$9:$AB$98,$B26,Partidos!AJ$9:AJ$98)","v":-3},{"$f":"IF($D26=0,0,H26/$D26)","v":1.3333333333333333},{"$f":"IF($D26=0,0,I26/$D26)","v":2.3333333333333335}]
[{"$f":"IF($D27=0,\"\",IF(COUNTIF(Partidos!$AB$58:$AB$73,$B27),(INDEX(Partidos!$AA$58:$AA$73,MATCH($B27,Partidos!$AB$58:$AB$73,0))),(IF(C27<>\"Primera Ronda\",\"\",(SUMPRODUCT((((LOOKUP(LEFT(C27,100),{\"Final\",8000;\"Primera Ronda\",100;\"Cuartos de final\",1000;\"Octavos de final\",500;\"Semifinales\",3000}))*10000+100*D27*E27+30*H27-20*I27+J27)<(10000*((LOOKUP(LEFT(C$5:C$36,100),{\"Final\",8000;\"Primera Ronda\",100;\"Cuartos de final\",1000;\"Octavos de final\",500;\"Semifinales\",3000})))+100*(D$5:D$36)*(E$5:E$36)+30*(H$5:H$36)-20*(I$5:I$36)+(J$5:J$36)))+0)+1)))))","v":22},"Portugal",{"$f":"IF(COUNTIF(Partidos!$AB$97:$AB$98,$B27)=1,\"Final\",IF(COUNTIF(Partidos!$AB$86:$AB$89,$B27)=1,\"Semifinales\",IF(COUNTIF(Partidos!$AB$76:$AB$83,$B27)=1,\"Cuartos de final\",IF(COUNTIF(Partidos!$AB$58:$AB$73,$B27)=1,\"Octavos de final\",\"Primera Ronda\"))))","v":"Primera Ronda"},{"$f":"SUMIF(Partidos!$AB$9:$AB$98,$B27,Partidos!AD$9:AD$98)","v":3},{"$f":"SUMIF(Partidos!$AB$9:$AB$98,$B27,Partidos!AE$9:AE$98)","v":1},{"$f":"SUMIF(Partidos!$AB$9:$AB$98,$B27,Partidos!AF$9:AF$98)","v":1},{"$f":"SUMIF(Partidos!$AB$9:$AB$98,$B27,Partidos!AG$9:AG$98)","v":1},{"$f":"SUMIF(Partidos!$AB$9:$AB$98,$B27,Partidos!AH$9:AH$98)","v":4},{"$f":"SUMIF(Partidos!$AB$9:$AB$98,$B27,Partidos!AI$9:AI$98)","v":7},{"$f":"SUMIF(Partidos!$AB$9:$AB$98,$B27,Partidos!AJ$9:AJ$98)","v":-3},{"$f":"IF($D27=0,0,H27/$D27)","v":1.3333333333333333},{"$f":"IF($D27=0,0,I27/$D27)","v":2.3333333333333335}]
[{"$f":"IF($D28=0,\"\",IF(COUNTIF(Partidos!$AB$58:$AB$73,$B28),(INDEX(Partidos!$AA$58:$AA$73,MATCH($B28,Partidos!$AB$58:$AB$73,0))),(IF(C28<>\"Primera Ronda\",\"\",(SUMPRODUCT((((LOOKUP(LEFT(C28,100),{\"Final\",8000;\"Primera Ronda\",100;\"Cuartos de final\",1000;\"Octavos de final\",500;\"Semifinales\",3000}))*10000+100*D28*E28+30*H28-20*I28+J28)<(10000*((LOOKUP(LEFT(C$5:C$36,100),{\"Final\",8000;\"Primera Ronda\",100;\"Cuartos de final\",1000;\"Octavos de final\",500;\"Semifinales\",3000})))+100*(D$5:D$36)*(E$5:E$36)+30*(H$5:H$36)-20*(I$5:I$36)+(J$5:J$36)))+0)+1)))))","v":24},"Rusia",{"$f":"IF(COUNTIF(Partidos!$AB$97:$AB$98,$B28)=1,\"Final\",IF(COUNTIF(Partidos!$AB$86:$AB$89,$B28)=1,\"Semifinales\",IF(COUNTIF(Partidos!$AB$76:$AB$83,$B28)=1,\"Cuartos de final\",IF(COUNTIF(Partidos!$AB$58:$AB$73,$B28)=1,\"Octavos de final\",\"Primera Ronda\"))))","v":"Primera Ronda"},{"$f":"SUMIF(Partidos!$AB$9:$AB$98,$B28,Partidos!AD$9:AD$98)","v":3},{"$f":"SUMIF(Partidos!$AB$9:$AB$98,$B28,Partidos!AE$9:AE$98)","v":0},{"$f":"SUMIF(Partidos!$AB$9:$AB$98,$B28,Partidos!AF$9:AF$98)","v":2},{"$f":"SUMIF(Partidos!$AB$9:$AB$98,$B28,Partidos!AG$9:AG$98)","v":1},{"$f":"SUMIF(Partidos!$AB$9:$AB$98,$B28,Partidos!AH$9:AH$98)","v":2},{"$f":"SUMIF(Partidos!$AB$9:$AB$98,$B28,Partidos!AI$9:AI$98)","v":3},{"$f":"SUMIF(Partidos!$AB$9:$AB$98,$B28,Partidos!AJ$9:AJ$98)","v":-1},{"$f":"IF($D28=0,0,H28/$D28)","v":0.66666666666666663},{"$f":"IF($D28=0,0,I28/$D28)","v":1}]
[{"$f":"IF($D29=0,\"\",IF(COUNTIF(Partidos!$AB$58:$AB$73,$B29),(INDEX(Partidos!$AA$58:$AA$73,MATCH($B29,Partidos!$AB$58:$AB$73,0))),(IF(C29<>\"Primera Ronda\",\"\",(SUMPRODUCT((((LOOKUP(LEFT(C29,100),{\"Final\",8000;\"Primera Ronda\",100;\"Cuartos de final\",1000;\"Octavos de final\",500;\"Semifinales\",3000}))*10000+100*D29*E29+30*H29-20*I29+J29)<(10000*((LOOKUP(LEFT(C$5:C$36,100),{\"Final\",8000;\"Primera Ronda\",100;\"Cuartos de final\",1000;\"Octavos de final\",500;\"Semifinales\",3000})))+100*(D$5:D$36)*(E$5:E$36)+30*(H$5:H$36)-20*(I$5:I$36)+(J$5:J$36)))+0)+1)))))","v":25},"Ghana",{"$f":"IF(COUNTIF(Partidos!$AB$97:$AB$98,$B29)=1,\"Final\",IF(COUNTIF(Partidos!$AB$86:$AB$89,$B29)=1,\"Semifinales\",IF(COUNTIF(Partidos!$AB$76:$AB$83,$B29)=1,\"Cuartos de final\",IF(COUNTIF(Partidos!$AB$58:$AB$73,$B29)=1,\"Octavos de final\",\"Primera Ronda\"))))","v":"Primera Ronda"},{"$f":"SUMIF(Partidos!$AB$9:$AB$98,$B29,Partidos!AD$9:AD$98)","v":3},{"$f":"SUMIF(Partidos!$AB$9:$AB$98,$B29,Partidos!AE$9:AE$98)","v":0},{"$f":"SUMIF(Partidos!$AB$9:$AB$98,$B29,Partidos!AF$9:AF$98)","v":1},{"$f":"SUMIF(Partidos!$AB$9:$AB$98,$B29,Partidos!AG$9:AG$98)","v":2},{"$f":"SUMIF(Partidos!$AB$9:$AB$98,$B29,Partidos!AH$9:AH$98)","v":4},{"$f":"SUMIF(Partidos!$AB$9:$AB$98,$B29,Partidos!AI$9:AI$98)","v":6},{"$f":"SUMIF(Partidos!$AB$9:$AB$98,$B29,Partidos!AJ$9:AJ$98)","v":-2},{"$f":"IF($D29=0,0,H29/$D29)","v":1.3333333333333333},{"$f":"IF($D29=0,0,I29/$D29)","v":2}]
[{"$f":"IF($D30=0,\"\",IF(COUNTIF(Partidos!$AB$58:$AB$73,$B30),(INDEX(Partidos!$AA$58:$AA$73,MATCH($B30,Partidos!$AB$58:$AB$73,0))),(IF(C30<>\"Primera Ronda\",\"\",(SUMPRODUCT((((LOOKUP(LEFT(C30,100),{\"Final\",8000;\"Primera Ronda\",100;\"Cuartos de final\",1000;\"Octavos de final\",500;\"Semifinales\",3000}))*10000+100*D30*E30+30*H30-20*I30+J30)<(10000*((LOOKUP(LEFT(C$5:C$36,100),{\"Final\",8000;\"Primera Ronda\",100;\"Cuartos de final\",1000;\"Octavos de final\",500;\"Semifinales\",3000})))+100*(D$5:D$36)*(E$5:E$36)+30*(H$5:H$36)-20*(I$5:I$36)+(J$5:J$36)))+0)+1)))))","v":26},"Inglaterra",{"$f":"IF(COUNTIF(Partidos!$AB$97:$AB$98,$B30)=1,\"Final\",IF(COUNTIF(Partidos!$AB$86:$AB$89,$B30)=1,\"Semifinales\",IF(COUNTIF(Partidos!$AB$76:$AB$83,$B30)=1,\"Cuartos de final\",IF(COUNTIF(Partidos!$AB$58:$AB$73,$B30)=1,\"Octavos de final\",\"Primera Ronda\"))))","v":"Primera Ronda"},{"$f":"SUMIF(Partidos!$AB$9:$AB$98,$B30,Partidos!AD$9:AD$98)","v":3},{"$f":"SUMIF(Partidos!$AB$9:$AB$98,$B30,Partidos!AE$9:AE$98)","v":0},{"$f":"SUMIF(Partidos!$AB$9:$AB$98,$B30,Partidos!AF$9:AF$98)","v":1},{"$f":"SUMIF(Partidos!$AB$9:$AB$98,$B30,Partidos!AG$9:AG$98)","v":2},{"$f":"SUMIF(Partidos!$AB$9:$AB$98,$B30,Partidos!AH$9:AH$98)","v":2},{"$f":"SUMIF(Partidos!$AB$9:$AB$98,$B30,Partidos!AI$9:AI$98)","v":4},{"$f":"SUMIF(Partidos!$AB$9:$AB$98,$B30,Partidos!AJ$9:AJ$98)","v":-2},{"$f":"IF($D30=0,0,H30/$D30)","v":0.66666666666666663},{"$f":"IF($D30=0,0,I30/$D30)","v":1.3333333333333333}]
[{"$f":"IF($D31=0,\"\",IF(COUNTIF(Partidos!$AB$58:$AB$73,$B31),(INDEX(Partidos!$AA$58:$AA$73,MATCH($B31,Partidos!$AB$58:$AB$73,0))),(IF(C31<>\"Primera Ronda\",\"\",(SUMPRODUCT((((LOOKUP(LEFT(C31,100),{\"Final\",8000;\"Primera Ronda\",100;\"Cuartos de final\",1000;\"Octavos de final\",500;\"Semifinales\",3000}))*10000+100*D31*E31+30*H31-20*I31+J31)<(10000*((LOOKUP(LEFT(C$5:C$36,100),{\"Final\",8000;\"Primera Ronda\",100;\"Cuartos de final\",1000;\"Octavos de final\",500;\"Semifinales\",3000})))+100*(D$5:D$36)*(E$5:E$36)+30*(H$5:H$36)-20*(I$5:I$36)+(J$5:J$36)))+0)+1)))))","v":27},"Corea Sur",{"$f":"IF(COUNTIF(Partidos!$AB$97:$AB$98,$B31)=1,\"Final\",IF(COUNTIF(Partidos!$AB$86:$AB$89,$B31)=1,\"Semifinales\",IF(COUNTIF(Partidos!$AB$76:$AB$83,$B31)=1,\"Cuartos de final\",IF(COUNTIF(Partidos!$AB$58:$AB$73,$B31)=1,\"Octavos de final\",\"Primera Ronda\"))))","v":"Primera Ronda"},{"$f":"SUMIF(Partidos!$AB$9:$AB$98,$B31,Partidos!AD$9:AD$98)","v":3},{"$f":"SUMIF(Partidos!$AB$9:$AB$98,$B31,Partidos!AE$9:AE$98)","v":0},{"$f":"SUMIF(Partidos!$AB$9:$AB$98,$B31,Partidos!AF$9:AF$98)","v":1},{"$f":"SUMIF(Partidos!$AB$9:$AB$98,$B31,Partidos!AG$9:AG$98)","v":2},{"$f":"SUMIF(Partidos!$AB$9:$AB$98,$B31,Partidos!AH$9:AH$98)","v":3},{"$f":"SUMIF(Partidos!$AB$9:$AB$98,$B31,Partidos!AI$9:AI$98)","v":6},{"$f":"SUMIF(Partidos!$AB$9:$AB$98,$B31,Partidos!AJ$9:AJ$98)","v":-3},{"$f":"IF($D31=0,0,H31/$D31)","v":1},{"$f":"IF($D31=0,0,I31/$D31)","v":2}]
[{"$f":"IF($D32=0,\"\",IF(COUNTIF(Partidos!$AB$58:$AB$73,$B32),(INDEX(Partidos!$AA$58:$AA$73,MATCH($B32,Partidos!$AB$58:$AB$73,0))),(IF(C32<>\"Primera Ronda\",\"\",(SUMPRODUCT((((LOOKUP(LEFT(C32,100),{\"Final\",8000;\"Primera Ronda\",100;\"Cuartos de final\",1000;\"Octavos de final\",500;\"Semifinales\",3000}))*10000+100*D32*E32+30*H32-20*I32+J32)<(10000*((LOOKUP(LEFT(C$5:C$36,100),{\"Final\",8000;\"Primera Ronda\",100;\"Cuartos de final\",1000;\"Octavos de final\",500;\"Semifinales\",3000})))+100*(D$5:D$36)*(E$5:E$36)+30*(H$5:H$36)-20*(I$5:I$36)+(J$5:J$36)))+0)+1)))))","v":28},"Irán",{"$f":"IF(COUNTIF(Partidos!$AB$97:$AB$98,$B32)=1,\"Final\",IF(COUNTIF(Partidos!$AB$86:$AB$89,$B32)=1,\"Semifinales\",IF(COUNTIF(Partidos!$AB$76:$AB$83,$B32)=1,\"Cuartos de final\",IF(COUNTIF(Partidos!$AB$58:$AB$73,$B32)=1,\"Octavos de final\",\"Primera Ronda\"))))","v":"Primera Ronda"},{"$f":"SUMIF(Partidos!$AB$9:$AB$98,$B32,Partidos!AD$9:AD$98)","v":3},{"$f":"SUMIF(Partidos!$AB$9:$AB$98,$B32,Partidos!AE$9:AE$98)","v":0},{"$f":"SUMIF(Partidos!$AB$9:$AB$98,$B32,Partidos!AF$9:AF$98)","v":1},{"$f":"SUMIF(Partidos!$AB$9:$AB$98,$B32,Partidos!AG$9:AG$98)","v":2},{"$f":"SUMIF(Partidos!$AB$9:$AB$98,$B32,Partidos!AH$9:AH$98)","v":1},{"$f":"SUMIF(Partidos!$AB$9:$AB$98,$B32,Partidos!AI$9:AI$98)","v":4},{"$f":"SUMIF(Partidos!$AB$9:$AB$98,$B32,Partidos!AJ$9:AJ$98)","v":-3},{"$f":"IF($D32=0,0,H32/$D32)","v":0.33333333333333331},{"$f":"IF($D32=0,0,I32/$D32)","v":1.3333333333333333}]
[{"$f":"IF($D33=0,\"\",IF(COUNTIF(Partidos!$AB$58:$AB$73,$B33),(INDEX(Partidos!$AA$58:$AA$73,MATCH($B33,Partidos!$AB$58:$AB$73,0))),(IF(C33<>\"Primera Ronda\",\"\",(SUMPRODUCT((((LOOKUP(LEFT(C33,100),{\"Final\",8000;\"Primera Ronda\",100;\"Cuartos de final\",1000;\"Octavos de final\",500;\"Semifinales\",3000}))*10000+100*D33*E33+30*H33-20*I33+J33)<(10000*((LOOKUP(LEFT(C$5:C$36,100),{\"Final\",8000;\"Primera Ronda\",100;\"Cuartos de final\",1000;\"Octavos de final\",500;\"Semifinales\",3000})))+100*(D$5:D$36)*(E$5:E$36)+30*(H$5:H$36)-20*(I$5:I$36)+(J$5:J$36)))+0)+1)))))","v":29},"Japón",{"$f":"IF(COUNTIF(Partidos!$AB$97:$AB$98,$B33)=1,\"Final\",IF(COUNTIF(Partidos!$AB$86:$AB$89,$B33)=1,\"Semifinales\",IF(COUNTIF(Partidos!$AB$76:$AB$83,$B33)=1,\"Cuartos de final\",IF(COUNTIF(Partidos!$AB$58:$AB$73,$B33)=1,\"Octavos de final\",\"Primera Ronda\"))))","v":"Primera Ronda"},{"$f":"SUMIF(Partidos!$AB$9:$AB$98,$B33,Partidos!AD$9:AD$98)","v":3},{"$f":"SUMIF(Partidos!$AB$9:$AB$98,$B33,Partidos!AE$9:AE$98)","v":0},{"$f":"SUMIF(Partidos!$AB$9:$AB$98,$B33,Partidos!AF$9:AF$98)","v":1},{"$f":"SUMIF(Partidos!$AB$9:$AB$98,$B33,Partidos!AG$9:AG$98)","v":2},{"$f":"SUMIF(Partidos!$AB$9:$AB$98,$B33,Partidos!AH$9:AH$98)","v":2},{"$f":"SUMIF(Partidos!$AB$9:$AB$98,$B33,Partidos!AI$9:AI$98)","v":6},{"$f":"SUMIF(Partidos!$AB$9:$AB$98,$B33,Partidos!AJ$9:AJ$98)","v":-4},{"$f":"IF($D33=0,0,H33/$D33)","v":0.66666666666666663},{"$f":"IF($D33=0,0,I33/$D33)","v":2}]
[{"$f":"IF($D34=0,\"\",IF(COUNTIF(Partidos!$AB$58:$AB$73,$B34),(INDEX(Partidos!$AA$58:$AA$73,MATCH($B34,Partidos!$AB$58:$AB$73,0))),(IF(C34<>\"Primera Ronda\",\"\",(SUMPRODUCT((((LOOKUP(LEFT(C34,100),{\"Final\",8000;\"Primera Ronda\",100;\"Cuartos de final\",1000;\"Octavos de final\",500;\"Semifinales\",3000}))*10000+100*D34*E34+30*H34-20*I34+J34)<(10000*((LOOKUP(LEFT(C$5:C$36,100),{\"Final\",8000;\"Primera Ronda\",100;\"Cuartos de final\",1000;\"Octavos de final\",500;\"Semifinales\",3000})))+100*(D$5:D$36)*(E$5:E$36)+30*(H$5:H$36)-20*(I$5:I$36)+(J$5:J$36)))+0)+1)))))","v":30},"Australia",{"$f":"IF(COUNTIF(Partidos!$AB$97:$AB$98,$B34)=1,\"Final\",IF(COUNTIF(Partidos!$AB$86:$AB$89,$B34)=1,\"Semifinales\",IF(COUNTIF(Partidos!$AB$76:$AB$83,$B34)=1,\"Cuartos de final\",IF(COUNTIF(Partidos!$AB$58:$AB$73,$B34)=1,\"Octavos de final\",\"Primera Ronda\"))))","v":"Primera Ronda"},{"$f":"SUMIF(Partidos!$AB$9:$AB$98,$B34,Partidos!AD$9:AD$98)","v":3},{"$f":"SUMIF(Partidos!$AB$9:$AB$98,$B34,Partidos!AE$9:AE$98)","v":0},{"$f":"SUMIF(Partidos!$AB$9:$AB$98,$B34,Partidos!AF$9:AF$98)","v":0},{"$f":"SUMIF(Partidos!$AB$9:$AB$98,$B34,Partidos!AG$9:AG$98)","v":3},{"$f":"SUMIF(Partidos!$AB$9:$AB$98,$B34,Partidos!AH$9:AH$98)","v":3},{"$f":"SUMIF(Partidos!$AB$9:$AB$98,$B34,Partidos!AI$9:AI$98)","v":9},{"$f":"SUMIF(Partidos!$AB$9:$AB$98,$B34,Partidos!AJ$9:AJ$98)","v":-6},{"$f":"IF($D34=0,0,H34/$D34)","v":1},{"$f":"IF($D34=0,0,I34/$D34)","v":3}]
[{"$f":"IF($D35=0,\"\",IF(COUNTIF(Partidos!$AB$58:$AB$73,$B35),(INDEX(Partidos!$AA$58:$AA$73,MATCH($B35,Partidos!$AB$58:$AB$73,0))),(IF(C35<>\"Primera Ronda\",\"\",(SUMPRODUCT((((LOOKUP(LEFT(C35,100),{\"Final\",8000;\"Primera Ronda\",100;\"Cuartos de final\",1000;\"Octavos de final\",500;\"Semifinales\",3000}))*10000+100*D35*E35+30*H35-20*I35+J35)<(10000*((LOOKUP(LEFT(C$5:C$36,100),{\"Final\",8000;\"Primera Ronda\",100;\"Cuartos de final\",1000;\"Octavos de final\",500;\"Semifinales\",3000})))+100*(D$5:D$36)*(E$5:E$36)+30*(H$5:H$36)-20*(I$5:I$36)+(J$5:J$36)))+0)+1)))))","v":31},"Honduras",{"$f":"IF(COUNTIF(Partidos!$AB$97:$AB$98,$B35)=1,\"Final\",IF(COUNTIF(Partidos!$AB$86:$AB$89,$B35)=1,\"Semifinales\",IF(COUNTIF(Partidos!$AB$76:$AB$83,$B35)=1,\"Cuartos de final\",IF(COUNTIF(Partidos!$AB$58:$AB$73,$B35)=1,\"Octavos de final\",\"Primera Ronda\"))))","v":"Primera Ronda"},{"$f":"SUMIF(Partidos!$AB$9:$AB$98,$B35,Partidos!AD$9:AD$98)","v":3},{"$f":"SUMIF(Partidos!$AB$9:$AB$98,$B35,Partidos!AE$9:AE$98)","v":0},{"$f":"SUMIF(Partidos!$AB$9:$AB$98,$B35,Partidos!AF$9:AF$98)","v":0},{"$f":"SUMIF(Partidos!$AB$9:$AB$98,$B35,Partidos!AG$9:AG$98)","v":3},{"$f":"SUMIF(Partidos!$AB$9:$AB$98,$B35,Partidos!AH$9:AH$98)","v":1},{"$f":"SUMIF(Partidos!$AB$9:$AB$98,$B35,Partidos!AI$9:AI$98)","v":8},{"$f":"SUMIF(Partidos!$AB$9:$AB$98,$B35,Partidos!AJ$9:AJ$98)","v":-7},{"$f":"IF($D35=0,0,H35/$D35)","v":0.33333333333333331},{"$f":"IF($D35=0,0,I35/$D35)","v":2.6666666666666665}]
[{"$f":"IF($D36=0,\"\",IF(COUNTIF(Partidos!$AB$58:$AB$73,$B36),(INDEX(Partidos!$AA$58:$AA$73,MATCH($B36,Partidos!$AB$58:$AB$73,0))),(IF(C36<>\"Primera Ronda\",\"\",(SUMPRODUCT((((LOOKUP(LEFT(C36,100),{\"Final\",8000;\"Primera Ronda\",100;\"Cuartos de final\",1000;\"Octavos de final\",500;\"Semifinales\",3000}))*10000+100*D36*E36+30*H36-20*I36+J36)<(10000*((LOOKUP(LEFT(C$5:C$36,100),{\"Final\",8000;\"Primera Ronda\",100;\"Cuartos de final\",1000;\"Octavos de final\",500;\"Semifinales\",3000})))+100*(D$5:D$36)*(E$5:E$36)+30*(H$5:H$36)-20*(I$5:I$36)+(J$5:J$36)))+0)+1)))))","v":32},"Camerún",{"$f":"IF(COUNTIF(Partidos!$AB$97:$AB$98,$B36)=1,\"Final\",IF(COUNTIF(Partidos!$AB$86:$AB$89,$B36)=1,\"Semifinales\",IF(COUNTIF(Partidos!$AB$76:$AB$83,$B36)=1,\"Cuartos de final\",IF(COUNTIF(Partidos!$AB$58:$AB$73,$B36)=1,\"Octavos de final\",\"Primera Ronda\"))))","v":"Primera Ronda"},{"$f":"SUMIF(Partidos!$AB$9:$AB$98,$B36,Partidos!AD$9:AD$98)","v":3},{"$f":"SUMIF(Partidos!$AB$9:$AB$98,$B36,Partidos!AE$9:AE$98)","v":0},{"$f":"SUMIF(Partidos!$AB$9:$AB$98,$B36,Partidos!AF$9:AF$98)","v":0},{"$f":"SUMIF(Partidos!$AB$9:$AB$98,$B36,Partidos!AG$9:AG$98)","v":3},{"$f":"SUMIF(Partidos!$AB$9:$AB$98,$B36,Partidos!AH$9:AH$98)","v":1},{"$f":"SUMIF(Partidos!$AB$9:$AB$98,$B36,Partidos!AI$9:AI$98)","v":9},{"$f":"SUMIF(Partidos!$AB$9:$AB$98,$B36,Partidos!AJ$9:AJ$98)","v":-8},{"$f":"IF($D36=0,0,H36/$D36)","v":0.33333333333333331},{"$f":"IF($D36=0,0,I36/$D36)","v":3}]