{"text_format":"1","workbook":"xlsx","n_sheets":4,"sheets":["Ficha Cronograma","Ficha Financiera","Carpeta de Vínculos","Hoja3"],"not_rendered":{"charts":0,"images":0,"macros":1,"external_links":2,"defined_names":0,"comments":0,"pivot_tables":0},"unopened":[],"bounds":{"document_bytes":16777216,"sheet_cells":100000,"rows_first":2000,"rows_last":500,"rows_between":2000,"halvings":0,"cell_chars":16384,"cell_head_chars":4096},"cells_cut":0,"cells_raw":0,"read":"whole","date_system":"1900"}

{"sheet":"Ficha Cronograma","index":0,"n_rows":18,"n_cols":4,"rows_kept":18,"cut":false,"hidden":false,"merged":[]}
["Resumen del Cronograma"]
[]
[]
["Etapa del Proyecto","Fecha de Inicio","Fecha de Fin","Duración en días"]
[{"$f":"[1]Hoja1!$B4","v":"Estudio de pre-factibilidad"},{"$f":"[1]Hoja1!$C4","v":"2012-01-01"},{"$f":"[1]Hoja1!$D4","v":"2012-03-25"},{"$f":"[1]Hoja1!$E4","v":60}]
[{"$f":"[1]Hoja1!$B5","v":"Evaluación del proyecto"},{"$f":"[1]Hoja1!$C5","v":"2012-03-26"},{"$f":"[1]Hoja1!$D5","v":"2012-04-08"},{"$f":"[1]Hoja1!$E5","v":10}]
[{"$f":"[1]Hoja1!$B6","v":"T´ramites para la constitución de la organización"},{"$f":"[1]Hoja1!$C6","v":"2012-04-09"},{"$f":"[1]Hoja1!$D6","v":"2012-04-22"},{"$f":"[1]Hoja1!$E6","v":10}]
[{"$f":"[1]Hoja1!$B7","v":"Compra del terreno"},{"$f":"[1]Hoja1!$C7","v":"2012-04-09"},{"$f":"[1]Hoja1!$D7","v":"2012-05-06"},{"$f":"[1]Hoja1!$E7","v":20}]
[{"$f":"[1]Hoja1!$B8","v":"Obras de construcción"},{"$f":"[1]Hoja1!$C8","v":"2012-05-07"},{"$f":"[1]Hoja1!$D8","v":"2012-10-21"},{"$f":"[1]Hoja1!$E8","v":120}]
[{"$f":"[1]Hoja1!$B9","v":"Trámites financieros"},{"$f":"[1]Hoja1!$C9","v":"2012-05-07"},{"$f":"[1]Hoja1!$D9","v":"2012-06-17"},{"$f":"[1]Hoja1!$E9","v":30}]
[{"$f":"[1]Hoja1!$B10","v":"Compra de equipos y mobiliario para el local"},{"$f":"[1]Hoja1!$C10","v":"2012-06-18"},{"$f":"[1]Hoja1!$D10","v":"2012-07-29"},{"$f":"[1]Hoja1!$E10","v":30}]
[{"$f":"[1]Hoja1!$B11","v":"Compra de equipos y mobiliario para la oficina"},{"$f":"[1]Hoja1!$C11","v":"2012-06-18"},{"$f":"[1]Hoja1!$D11","v":"2012-07-29"},{"$f":"[1]Hoja1!$E11","v":30}]
[{"$f":"[1]Hoja1!$B12","v":"Acondicionamiento del local"},{"$f":"[1]Hoja1!$C12","v":"2012-10-22"},{"$f":"[1]Hoja1!$D12","v":"2012-11-18"},{"$f":"[1]Hoja1!$E12","v":20}]
[{"$f":"[1]Hoja1!$B13","v":"Acondicionamiento de las oficinas"},{"$f":"[1]Hoja1!$C13","v":"2012-10-22"},{"$f":"[1]Hoja1!$D13","v":"2012-11-18"},{"$f":"[1]Hoja1!$E13","v":20}]
[{"$f":"[1]Hoja1!$B14","v":"Trámite de licencia de funcionamiento e INDECI"},{"$f":"[1]Hoja1!$C14","v":"2012-11-19"},{"$f":"[1]Hoja1!$D14","v":"2012-12-16"},{"$f":"[1]Hoja1!$E14","v":20}]
[{"$f":"[1]Hoja1!$B15","v":"Trámite de permisos en el MINSA"},{"$f":"[1]Hoja1!$C15","v":"2012-11-19"},{"$f":"[1]Hoja1!$D15","v":"2012-12-02"},{"$f":"[1]Hoja1!$E15","v":10}]
[{"$f":"[1]Hoja1!$B16","v":"Capacirtación del personal"},{"$f":"[1]Hoja1!$C16","v":"2012-11-19"},{"$f":"[1]Hoja1!$D16","v":"2012-12-30"},{"$f":"[1]Hoja1!$E16","v":30}]
[{"$f":"[1]Hoja1!$B17","v":"Campaña pre-publicitaria"},{"$f":"[1]Hoja1!$C17","v":"2012-11-19"},{"$f":"[1]Hoja1!$D17","v":"2012-12-30"},{"$f":"[1]Hoja1!$E17","v":30}]

{"sheet":"Ficha Financiera","index":1,"n_rows":8,"n_cols":2,"rows_kept":8,"cut":false,"hidden":false,"merged":[]}
["Resumen del estudio económico financiero"]
[]
["Costo del capital (WACC)",{"$f":"+'[2]ESTADOS FINANCIEROS PROYECTADOS'!$B$58","v":0.34179999999999999}]
["Valor Presente del Flujo de Caja",{"$f":"+'[2]ESTADOS FINANCIEROS PROYECTADOS'!$B$60","v":560335.07730092807}]
["Inversión requerida (socios)",{"$f":"+'[2]ESTADOS FINANCIEROS PROYECTADOS'!$B$62","v":100000}]
["Valor Presente neto (VPN)",{"$f":"+'[2]ESTADOS FINANCIEROS PROYECTADOS'!$B$64","v":460335.07730092807}]
["CÁLCULO DE LA TIR",{"$f":"+'[2]ESTADOS FINANCIEROS PROYECTADOS'!$B$67","v":1.7601198332122143}]
["RELACION BENEFICIO/COSTO ",{"$f":"+'[2]ESTADOS FINANCIEROS PROYECTADOS'!$B$69","v":4.6033507730092804}]

{"sheet":"Carpeta de Vínculos","index":2,"n_rows":4,"n_cols":1,"rows_kept":4,"cut":false,"hidden":false,"merged":[]}
["Bibliografía"]
[]
["C:\\Users\\FAMILIA NUNEZ\\Dropbox\\Universidad Catolica\\2012-1\\Gestion de Proyectos\\Trabajo Final Proyectos\\Cronograma del proyecto.xlsx"]
["C:\\Users\\FAMILIA NUNEZ\\Dropbox\\Universidad Catolica\\2012-1\\Gestion de Proyectos\\Trabajo Final Proyectos\\Estudio económico.xlsx"]

{"sheet":"Hoja3","index":3,"n_rows":0,"n_cols":0,"rows_kept":0,"cut":false,"hidden":false,"merged":[]}